Back
From: metabase:user:a0e144f2-373b-11e6-8edd-c6848980b093
Subject: PASS BioX-Workflow-1.0.2 v5.25.3 GNU/Linux
Date: 2016-06-29T00:28:44Z
This distribution has been tested as part of the CPAN Testers
project, supporting the Perl programming language. See
http://wiki.cpantesters.org/ for more information or email
questions to cpan-testers-discuss@perl.org
--
Dear Jillian Rowe,
This is a computer-generated report for BioX-Workflow-1.0.2
on perl 5.25.3, created by CPAN-Reporter-1.2017.
Thank you for uploading your work to CPAN. Congratulations!
All tests were successful.
Sections of this report:
* Tester comments
* Program output
* Prerequisites
* Environment and other context
------------------------------
TESTER COMMENTS
------------------------------
Additional comments from tester:
none provided
------------------------------
PROGRAM OUTPUT
------------------------------
Output from './Build test':
t/author-pod-syntax.t .. skipped: these tests are for testing by the author
t/basic.t .............. ok
t/test_class_tests.t ... ok
All tests successful.
Files=3, Tests=4, 3 wallclock secs ( 0.02 usr 0.01 sys + 1.87 cusr 0.16 csys = 2.06 CPU)
Result: PASS
------------------------------
PREREQUISITES
------------------------------
Prerequisite modules loaded:
requires:
Module Need Have
-------------------------------- -------- --------
BioX::Wrapper 0 1.5
Carp::Always 0 0.13
Class::Load 0 0.23
Config::Any 0 0.27
Cwd 0 3.64
Data::Dumper 0 2.160
Data::Pairs 0 0.07
DateTime 0 1.28
File::Basename 0 2.85
File::Find::Rule 0 0.34
File::Path 0 2.12_01
Interpolation 0 0.74
IO::File 0 1.16
List::Compare 0 0.53
List::Uniq 0 0.20
Moose 0 2.1804
Moose::Role 0 2.1804
MooseX::FileAttribute 0 0.02
MooseX::Getopt 0 0.71
MooseX::Getopt::Usage 0 0.24
MooseX::Getopt::Usage::Role::Man 0 0.24
MooseX::Object::Pluggable 0 0.0014
MooseX::SimpleConfig 0 0.11
MooseX::Types::Path::Tiny 0 0.011
perl 5.008005 5.025003
Slurp 0 0.4
Storable 0 2.56
String::CamelCase 0 0.02
Text::Template 0 1.46
YAML::XS 0 0.62
build_requires:
Module Need Have
-------------------------------- -------- --------
Capture::Tiny 0 0.42
FindBin 0 1.51
IPC::Cmd 0 0.94
Module::Build 0.28 0.4218
Slurp 0 0.4
strict 0 1.11
Test::Class::Moose 0 0.71
Test::Class::Moose::Load 0 0.71
Test::Class::Moose::Runner 0 0.71
Test::More 0 1.302030
configure_requires:
Module Need Have
-------------------------------- -------- --------
Module::Build 0.28 0.4218
------------------------------
ENVIRONMENT AND OTHER CONTEXT
------------------------------
Environment variables:
LANG = en_US.UTF-8
PATH = /usr/local/bin:/usr/bin:/bin:/usr/local/games:/usr/games
PERL5LIB = /home/dcollins/toolchain/.afl4/.cpan/build/Moose-2.1804-6/blib/arch:/home/dcollins/toolchain/.afl4/.cpan/build/Moose-2.1804-6/blib/lib:/home/dcollins/toolchain/.afl4/.cpan/build/Package-Stash-0.37-11/blib/arch:/home/dcollins/toolchain/.afl4/.cpan/build/Package-Stash-0.37-11/blib/lib:/home/dcollins/toolchain/.afl4/.cpan/build/File-Find-Rule-0.34-3/blib/arch:/home/dcollins/toolchain/.afl4/.cpan/build/File-Find-Rule-0.34-3/blib/lib:/home/dcollins/toolchain/.afl4/.cpan/build/Module-Build-0.4218-11/blib/arch:/home/dcollins/toolchain/.afl4/.cpan/build/Module-Build-0.4218-11/blib/lib
PERL5OPT =
PERL5_CPANPLUS_IS_RUNNING = 52341
PERL5_CPAN_IS_RUNNING = 52341
SHELL = /bin/bash
TERM = xterm
Perl special variables (and OS-specific diagnostics, for MSWin32):
$^X = /usr/bin/perl5.25.3
$UID/$EUID = 1004 / 1004
$GID = 1005 1005
$EGID = 1005 1005
Perl module toolchain versions installed:
Module Have
------------------- --------
CPAN 2.14
CPAN::Meta 2.150005
Cwd 3.64
ExtUtils::CBuilder 0.280225
ExtUtils::Command 7.18
ExtUtils::Install 2.04
ExtUtils::MakeMaker 7.18
ExtUtils::Manifest 1.70
ExtUtils::ParseXS 3.32
File::Spec 3.64
JSON 2.90
JSON::PP 2.27400
Module::Build 0.4218
Module::Signature n/a
Parse::CPAN::Meta 1.4417
Test::Harness 3.36
Test::More 1.302030
YAML 1.15
YAML::Syck 1.29
version 0.9917
--
Summary of my perl5 (revision 5 version 25 subversion 3) configuration:
Commit id: 36efb5a67d73cc824ada76aaa2e3b03bda5cdc60
Platform:
osname=linux
osvers=4.6.0-1-amd64
archname=x86_64-linux-ld
uname='linux nightshade64 4.6.0-1-amd64 #1 smp debian 4.6.1-1 (2016-06-06) x86_64 gnulinux '
config_args='-Dusedevel -Dprefix=/usr -Dcc=ccache gcc-6 -Duselongdouble -Duse64bitall -Doptimize=-O3 -Dversiononly -Uman1dir -Uman3dir -Dsiteprefix=/home/dcollins/toolchain/local -DDEBUGGING -des'
hint=recommended
useposix=true
d_sigaction=define
useithreads=undef
usemultiplicity=undef
use64bitint=define
use64bitall=define
uselongdouble=define
usemymalloc=n
bincompat5005=undef
Compiler:
cc='ccache gcc-6'
ccflags ='-fwrapv -DDEBUGGING -fno-strict-aliasing -pipe -fstack-protector-strong -I/usr/local/include -D_LARGEFILE_SOURCE -D_FILE_OFFSET_BITS=64'
optimize='-O3 -g'
cppflags='-fwrapv -DDEBUGGING -fno-strict-aliasing -pipe -fstack-protector-strong -I/usr/local/include'
ccversion=''
gccversion='6.1.1 20160519'
gccosandvers=''
intsize=4
longsize=8
ptrsize=8
doublesize=8
byteorder=12345678
doublekind=3
d_longlong=define
longlongsize=8
d_longdbl=define
longdblsize=16
longdblkind=3
ivtype='long'
ivsize=8
nvtype='long double'
nvsize=16
Off_t='off_t'
lseeksize=8
alignbytes=16
prototype=define
Linker and Libraries:
ld='ccache gcc-6'
ldflags =' -fstack-protector-strong -L/usr/local/lib'
libpth=/usr/local/lib /usr/lib/gcc/x86_64-linux-gnu/6/include-fixed /usr/include/x86_64-linux-gnu /usr/lib /lib/x86_64-linux-gnu /lib/../lib /usr/lib/x86_64-linux-gnu /usr/lib/../lib /lib
libs=-lpthread -lnsl -ldl -lm -lcrypt -lutil -lc
perllibs=-lpthread -lnsl -ldl -lm -lcrypt -lutil -lc
libc=libc-2.22.so
so=so
useshrplib=false
libperl=libperl.a
gnulibc_version='2.22'
Dynamic Linking:
dlsrc=dl_dlopen.xs
dlext=so
d_dlsymun=undef
ccdlflags='-Wl,-E'
cccdlflags='-fPIC'
lddlflags='-shared -O3 -g -L/usr/local/lib -fstack-protector-strong'
Characteristics of this binary (from libperl):
Compile-time options:
DEBUGGING
HAS_TIMES
PERLIO_LAYERS
PERL_COPY_ON_WRITE
PERL_DONT_CREATE_GVSV
PERL_HASH_FUNC_ONE_AT_A_TIME_HARD
PERL_MALLOC_WRAP
PERL_OP_PARENT
PERL_PRESERVE_IVUV
PERL_USE_DEVEL
USE_64_BIT_ALL
USE_64_BIT_INT
USE_LARGE_FILES
USE_LOCALE
USE_LOCALE_COLLATE
USE_LOCALE_CTYPE
USE_LOCALE_NUMERIC
USE_LOCALE_TIME
USE_LONG_DOUBLE
USE_PERLIO
USE_PERL_ATOF
Built under linux
Compiled at Jan 1 1970 00:00:00
%ENV:
PERL5LIB="/home/dcollins/toolchain/.afl4/.cpan/build/Moose-2.1804-6/blib/arch:/home/dcollins/toolchain/.afl4/.cpan/build/Moose-2.1804-6/blib/lib:/home/dcollins/toolchain/.afl4/.cpan/build/Package-Stash-0.37-11/blib/arch:/home/dcollins/toolchain/.afl4/.cpan/build/Package-Stash-0.37-11/blib/lib:/home/dcollins/toolchain/.afl4/.cpan/build/File-Find-Rule-0.34-3/blib/arch:/home/dcollins/toolchain/.afl4/.cpan/build/File-Find-Rule-0.34-3/blib/lib:/home/dcollins/toolchain/.afl4/.cpan/build/Module-Build-0.4218-11/blib/arch:/home/dcollins/toolchain/.afl4/.cpan/build/Module-Build-0.4218-11/blib/lib"
PERL5OPT=""
PERL5_CPANPLUS_IS_RUNNING="52341"
PERL5_CPAN_IS_RUNNING="52341"
@INC:
/home/dcollins/toolchain/.afl4/.cpan/build/Moose-2.1804-6/blib/arch
/home/dcollins/toolchain/.afl4/.cpan/build/Moose-2.1804-6/blib/lib
/home/dcollins/toolchain/.afl4/.cpan/build/Package-Stash-0.37-11/blib/arch
/home/dcollins/toolchain/.afl4/.cpan/build/Package-Stash-0.37-11/blib/lib
/home/dcollins/toolchain/.afl4/.cpan/build/File-Find-Rule-0.34-3/blib/arch
/home/dcollins/toolchain/.afl4/.cpan/build/File-Find-Rule-0.34-3/blib/lib
/home/dcollins/toolchain/.afl4/.cpan/build/Module-Build-0.4218-11/blib/arch
/home/dcollins/toolchain/.afl4/.cpan/build/Module-Build-0.4218-11/blib/lib
/home/dcollins/toolchain/local/lib/perl5/site_perl/5.25.3/x86_64-linux-ld
/home/dcollins/toolchain/local/lib/perl5/site_perl/5.25.3
/usr/lib/perl5/5.25.3/x86_64-linux-ld
/usr/lib/perl5/5.25.3
/home/dcollins/toolchain/local/lib/perl5/site_perl
.