SPVM-IO v0.214 Perl 5 v5.32.0 i686-linux-64int-quadmath

Status
Pass
From
David Cantrell (DCANTRELL)
Dist
SPVM-IO v0.214
Platform
Perl 5 v5.32.0 i686-linux-64int-quadmath
Date
2024-05-22T01:05:52
ID
6f1fe416-17d7-11ef-96b6-6df5eb31905a
This distribution has been tested as part of the CPAN Testers
project, supporting the Perl programming language.  See
http://wiki.cpantesters.org/ for more information or email
questions to cpan-testers-discuss@perl.org


--
Dear Yuki Kimoto,

This is a computer-generated report for SPVM-IO-0.214
on perl 5.32.0, created by CPAN-Reporter-1.2018.

Thank you for uploading your work to CPAN.  Congratulations!
All tests were successful.

Sections of this report:

    * Tester comments
    * Program output
    * Prerequisites
    * Environment and other context

------------------------------
TESTER COMMENTS
------------------------------

Additional comments from tester:

this report is from an automated smoke testing program
and was not reviewed by a human for accuracy

------------------------------
PROGRAM OUTPUT
------------------------------

Output from '/usr/bin/make test':

PERL_DL_NONLAZY=1 "/home/david/cpantesting/perl-5.32.0-quadmath-int64/bin/perl" "-MExtUtils::Command::MM" "-MTest::Harness" "-e" "undef *Test::Harness::Switches; test_harness(0, 'blib/lib', 'blib/arch')" t/*.t
[2024-05-22 02:04:43.73214] [27327] [info] Listening at "http://*:45717"
[2024-05-22 02:04:44.25441] [27327] [trace] [lK-LZtqvZXCr] GET "/hello"
[2024-05-22 02:04:44.26889] [27327] [trace] [lK-LZtqvZXCr] 200 OK (0.014451s, 69.199/s)
t/01-01-Test-Tcp_and_Mojolicious.t ........... ok
[2024-05-22 02:05:03.95392] [27423] [info] Listening at "http://*:36417"
[2024-05-22 02:05:04.34998] [27423] [trace] [2lzj5bEEfJRY] GET "/hello"
[2024-05-22 02:05:04.35256] [27423] [trace] [2lzj5bEEfJRY] 200 OK (0.002542s, 393.391/s)
t/01-02-Test-Tcp_and_Mojolicious_and_SPVM.t .. ok
t/IO-File.t .................................. ok
t/IO-Select.t ................................ ok
[2024-05-22 02:05:18.24302] [27524] [info] Listening at "http://*:38853"
[2024-05-22 02:05:18.71851] [27524] [trace] [VG-GSXVOXtcy] GET "/hello"
[2024-05-22 02:05:18.72522] [27524] [trace] [VG-GSXVOXtcy] 200 OK (0.006573s, 152.138/s)
[2024-05-22 02:05:18.73984] [27524] [trace] [zcFAFJeET68_] GET "/hello"
[2024-05-22 02:05:18.74823] [27524] [trace] [zcFAFJeET68_] 200 OK (0.008334s, 119.990/s)
[2024-05-22 02:05:18.76867] [27524] [trace] [IPV7o4ghLLaS] GET "/hello"
[2024-05-22 02:05:18.76980] [27524] [trace] [IPV7o4ghLLaS] 200 OK (0.001097s, 911.577/s)
[2024-05-22 02:05:18.80685] [27524] [trace] [FuKW9WGDu_lf] GET "/hello"
[2024-05-22 02:05:18.80762] [27524] [trace] [FuKW9WGDu_lf] 200 OK (0.000746s, 1340.483/s)
[2024-05-22 02:05:18.85437] [27524] [trace] [22fPqOnZIryF] GET "/"
[2024-05-22 02:05:18.85655] [27524] [trace] [22fPqOnZIryF] Template "not_found.development.html.ep" not found
[2024-05-22 02:05:18.85707] [27524] [trace] [22fPqOnZIryF] Template "not_found.html.ep" not found
[2024-05-22 02:05:18.85850] [27524] [trace] [22fPqOnZIryF] Rendering template "mojo/debug.html.ep"
[2024-05-22 02:05:19.03655] [27524] [trace] Your secret passphrase needs to be changed (see FAQ for more)
[2024-05-22 02:05:19.04199] [27524] [trace] [22fPqOnZIryF] 404 Not Found (0.187574s, 5.331/s)
[2024-05-22 02:05:19.07839] [27524] [trace] [ycPptImakhny] GET "/"
[2024-05-22 02:05:19.08080] [27524] [trace] [ycPptImakhny] Template "not_found.development.html.ep" not found
[2024-05-22 02:05:19.08181] [27524] [trace] [ycPptImakhny] Template "not_found.html.ep" not found
[2024-05-22 02:05:19.08226] [27524] [trace] [ycPptImakhny] Rendering cached template "mojo/debug.html.ep"
[2024-05-22 02:05:19.12462] [27524] [trace] [ycPptImakhny] 404 Not Found (0.011514s, 86.851/s)
t/IO-Socket-INET.t ........................... ok
[2024-05-22 02:05:24.91032] [27538] [info] Listening at "http://[::1]:46515"
[2024-05-22 02:05:25.33949] [27538] [trace] [gbEqtg7PUal2] GET "/hello"
[2024-05-22 02:05:25.34138] [27538] [trace] [gbEqtg7PUal2] 200 OK (0.001858s, 538.213/s)
[2024-05-22 02:05:25.36179] [27538] [trace] [4eY9cE8VAcc7] GET "/hello"
[2024-05-22 02:05:25.39392] [27538] [trace] [4eY9cE8VAcc7] 200 OK (0.032099s, 31.154/s)
[2024-05-22 02:05:25.44105] [27538] [trace] [mqE9C7hAolSa] GET "/hello"
[2024-05-22 02:05:25.44200] [27538] [trace] [mqE9C7hAolSa] 200 OK (0.000918s, 1089.325/s)
[2024-05-22 02:05:25.47631] [27538] [trace] [jCvoCVGjBl-v] GET "/hello"
[2024-05-22 02:05:25.47730] [27538] [trace] [jCvoCVGjBl-v] 200 OK (0.000972s, 1028.807/s)
[2024-05-22 02:05:25.53464] [27538] [trace] [N7Qg2zpoPrfa] GET "/"
[2024-05-22 02:05:25.53819] [27538] [trace] [N7Qg2zpoPrfa] Template "not_found.development.html.ep" not found
[2024-05-22 02:05:25.53907] [27538] [trace] [N7Qg2zpoPrfa] Template "not_found.html.ep" not found
[2024-05-22 02:05:25.53988] [27538] [trace] [N7Qg2zpoPrfa] Rendering template "mojo/debug.html.ep"
[2024-05-22 02:05:25.67685] [27538] [trace] Your secret passphrase needs to be changed (see FAQ for more)
[2024-05-22 02:05:25.68507] [27538] [trace] [N7Qg2zpoPrfa] 404 Not Found (0.150403s, 6.649/s)
[2024-05-22 02:05:25.72517] [27538] [trace] [j6PXRxe5G3fx] GET "/"
[2024-05-22 02:05:25.72670] [27538] [trace] [j6PXRxe5G3fx] Template "not_found.development.html.ep" not found
[2024-05-22 02:05:25.72985] [27538] [trace] [j6PXRxe5G3fx] Template "not_found.html.ep" not found
[2024-05-22 02:05:25.73773] [27538] [trace] [j6PXRxe5G3fx] Rendering cached template "mojo/debug.html.ep"
[2024-05-22 02:05:25.76676] [27538] [trace] [j6PXRxe5G3fx] 404 Not Found (0.041545s, 24.070/s)
t/IO-Socket-INET6.t .......................... ok
[2024-05-22 02:05:32.06985] [27551] [info] Listening at "http://*:36455"
[2024-05-22 02:05:32.46572] [27551] [trace] [BCiRQ6VYKuG9] GET "/hello"
[2024-05-22 02:05:32.47430] [27551] [trace] [BCiRQ6VYKuG9] 200 OK (0.008556s, 116.877/s)
[2024-05-22 02:05:32.50004] [27551] [trace] [-wnghf3QQZvD] GET "/hello"
[2024-05-22 02:05:32.50522] [27551] [trace] [-wnghf3QQZvD] 200 OK (0.005115s, 195.503/s)
[2024-05-22 02:05:32.59724] [27551] [trace] [b46XfKf6j6g0] GET "/hello"
[2024-05-22 02:05:32.59909] [27551] [trace] [b46XfKf6j6g0] 200 OK (0.001811s, 552.181/s)
[2024-05-22 02:05:32.62435] [27551] [trace] [fZmHN2I_BONu] GET "/hello"
[2024-05-22 02:05:32.62656] [27551] [trace] [fZmHN2I_BONu] 200 OK (0.002167s, 461.467/s)
[2024-05-22 02:05:32.68934] [27551] [trace] [IyT8uzau0ErL] GET "/"
[2024-05-22 02:05:32.70493] [27551] [trace] [IyT8uzau0ErL] Template "not_found.development.html.ep" not found
[2024-05-22 02:05:32.70619] [27551] [trace] [IyT8uzau0ErL] Template "not_found.html.ep" not found
[2024-05-22 02:05:32.71065] [27551] [trace] [IyT8uzau0ErL] Rendering template "mojo/debug.html.ep"
[2024-05-22 02:05:32.81104] [27551] [trace] Your secret passphrase needs to be changed (see FAQ for more)
[2024-05-22 02:05:32.83361] [27551] [trace] [IyT8uzau0ErL] 404 Not Found (0.14421s, 6.934/s)
[2024-05-22 02:05:32.86560] [27551] [trace] [ZDpi6pBBNRQO] GET "/"
[2024-05-22 02:05:32.86696] [27551] [trace] [ZDpi6pBBNRQO] Template "not_found.development.html.ep" not found
[2024-05-22 02:05:32.86842] [27551] [trace] [ZDpi6pBBNRQO] Template "not_found.html.ep" not found
[2024-05-22 02:05:32.86905] [27551] [trace] [ZDpi6pBBNRQO] Rendering cached template "mojo/debug.html.ep"
[2024-05-22 02:05:32.90070] [27551] [trace] [ZDpi6pBBNRQO] 404 Not Found (0.035051s, 28.530/s)
t/IO-Socket-IP.t ............................. ok
[2024-05-22 02:05:38.22693] [27563] [info] Listening at "http://[::1]:35941"
[2024-05-22 02:05:38.29028] [27563] [trace] [_BUWGEC3q7Bg] GET "/hello"
[2024-05-22 02:05:38.29354] [27563] [trace] [_BUWGEC3q7Bg] 200 OK (0.003208s, 311.721/s)
[2024-05-22 02:05:38.31388] [27563] [trace] [71eJxpRHdsmw] GET "/hello"
[2024-05-22 02:05:38.31748] [27563] [trace] [71eJxpRHdsmw] 200 OK (0.003592s, 278.396/s)
[2024-05-22 02:05:38.32636] [27563] [trace] [Z32sQHCjIiFd] GET "/hello"
[2024-05-22 02:05:38.33658] [27563] [trace] [Z32sQHCjIiFd] 200 OK (0.010184s, 98.193/s)
[2024-05-22 02:05:38.38954] [27563] [trace] [dEZaUTZTv0Qo] GET "/hello"
[2024-05-22 02:05:38.39110] [27563] [trace] [dEZaUTZTv0Qo] 200 OK (0.001511s, 661.813/s)
[2024-05-22 02:05:38.42871] [27563] [trace] [h5A_TaqSXVYL] GET "/"
[2024-05-22 02:05:38.43260] [27563] [trace] [h5A_TaqSXVYL] Template "not_found.development.html.ep" not found
[2024-05-22 02:05:38.43355] [27563] [trace] [h5A_TaqSXVYL] Template "not_found.html.ep" not found
[2024-05-22 02:05:38.43465] [27563] [trace] [h5A_TaqSXVYL] Rendering template "mojo/debug.html.ep"
[2024-05-22 02:05:38.55522] [27563] [trace] Your secret passphrase needs to be changed (see FAQ for more)
[2024-05-22 02:05:38.55916] [27563] [trace] [h5A_TaqSXVYL] 404 Not Found (0.130424s, 7.667/s)
[2024-05-22 02:05:38.60268] [27563] [trace] [3unuTPHNp3v6] GET "/"
[2024-05-22 02:05:38.60395] [27563] [trace] [3unuTPHNp3v6] Template "not_found.development.html.ep" not found
[2024-05-22 02:05:38.60480] [27563] [trace] [3unuTPHNp3v6] Template "not_found.html.ep" not found
[2024-05-22 02:05:38.60519] [27563] [trace] [3unuTPHNp3v6] Rendering cached template "mojo/debug.html.ep"
[2024-05-22 02:05:38.63266] [27563] [trace] [3unuTPHNp3v6] 404 Not Found (0.029947s, 33.392/s)
t/IO-Socket-IP_IPv6.t ........................ ok
t/IO.t ....................................... ok
All tests successful.
Files=9, Tests=52, 61 wallclock secs ( 0.09 usr  0.06 sys + 14.66 cusr  3.80 csys = 18.61 CPU)
Result: PASS

------------------------------
PREREQUISITES
------------------------------

Prerequisite modules loaded:

requires:

    Module              Need     Have    
    ------------------- -------- --------
    SPVM                0.989040 0.990006
    SPVM::Go            0.005    0.007002
    SPVM::Math          0.11     1.001   
    SPVM::Sys           0.510    0.514001

build_requires:

    Module              Need     Have    
    ------------------- -------- --------
    ExtUtils::MakeMaker 0        7.70    
    IO                  1.55     1.55    
    Mojolicious         9.36     9.37    
    Test::TCP           2.22     2.22    

configure_requires:

    Module              Need     Have    
    ------------------- -------- --------
    SPVM                0.989040 0.990006


------------------------------
ENVIRONMENT AND OTHER CONTEXT
------------------------------

Environment variables:

    AUTOMATED_TESTING = 1
    LANG = en_GB.UTF-8
    LANGUAGE = en_GB:en
    LC_TERMINAL = iTerm2
    LC_TERMINAL_VERSION = 3.4.23
    NONINTERACTIVE_TESTING = 1
    PATH = /home/david/.cargo/bin:/home/david/perl5/perlbrew/bin:/home/david/perl5/perlbrew/perls/perl-5.32.0/bin:/home/david/bin:/usr/local/bin:/usr/bin:/bin:/usr/local/games:/usr/games
    PERL = 5.32.0-quadmath-int64
    PERL5LIB = 
    PERL5OPT = 
    PERL5_CPANPLUS_IS_RUNNING = 17477
    PERL5_CPAN_IS_RUNNING = 17477
    PERLBREW_HOME = /home/david/.perlbrew
    PERLBREW_MANPATH = /home/david/perl5/perlbrew/perls/perl-5.32.0/man
    PERLBREW_PATH = /home/david/perl5/perlbrew/bin:/home/david/perl5/perlbrew/perls/perl-5.32.0/bin
    PERLBREW_PERL = perl-5.32.0
    PERLBREW_ROOT = /home/david/perl5/perlbrew
    PERLBREW_SHELLRC_VERSION = 0.89
    PERLBREW_VERSION = 0.89
    PERLVER = 5.32.0-quadmath-int64
    PERL_INLINE_DIRECTORY = /home/david/.Inline-5.32.0-quadmath-int64
    PERL_MM_USE_DEFAULT = 1
    PERL_USE_UNSAFE_INC = 0
    SHELL = /bin/bash
    TERM = screen

Perl special variables (and OS-specific diagnostics, for MSWin32):

    $^X = /home/david/cpantesting/perl-5.32.0-quadmath-int64/bin/perl
    $UID/$EUID = 1000 / 1000
    $GID = 1000 24 25 27 29 30 44 46 109 1000
    $EGID = 1000 24 25 27 29 30 44 46 109 1000

Perl module toolchain versions installed:

    Module              Have    
    ------------------- --------
    CPAN                2.27    
    CPAN::Meta          2.150010
    Cwd                 3.75    
    ExtUtils::CBuilder  0.280236
    ExtUtils::Command   7.70    
    ExtUtils::Install   2.22    
    ExtUtils::MakeMaker 7.70    
    ExtUtils::Manifest  1.75    
    ExtUtils::ParseXS   3.51    
    File::Spec          3.75    
    JSON                4.10    
    JSON::PP            4.16    
    Module::Build       0.4234  
    Module::Signature   n/a     
    Parse::CPAN::Meta   2.150010
    Test::Harness       3.48    
    Test::More          1.302198
    YAML                1.30    
    YAML::Syck          n/a     
    version             0.9930  


--

Summary of my perl5 (revision 5 version 32 subversion 0) configuration:
   
  Platform:
    osname=linux
    osvers=5.10.0-11-686-pae
    archname=i686-linux-64int-quadmath
    uname='linux cpantesting-linux-32bit-utm 5.10.0-11-686-pae #1 smp debian 5.10.92-1 (2022-01-18) i686 gnulinux '
    config_args='-de -Dusequadmath -Dprefix=/home/david/cpantesting/perl-5.32.0-quadmath-int64 -Duse64bitint'
    hint=recommended
    useposix=true
    d_sigaction=define
    useithreads=undef
    usemultiplicity=undef
    use64bitint=define
    use64bitall=undef
    uselongdouble=undef
    usemymalloc=n
    default_inc_excludes_dot=define
    bincompat5005=undef
  Compiler:
    cc='cc'
    ccflags ='-fwrapv -fno-strict-aliasing -pipe -fstack-protector-strong -I/usr/local/include -D_LARGEFILE_SOURCE -D_FILE_OFFSET_BITS=64 -D_FORTIFY_SOURCE=2'
    optimize='-O2'
    cppflags='-fwrapv -fno-strict-aliasing -pipe -fstack-protector-strong -I/usr/local/include'
    ccversion=''
    gccversion='10.2.1 20210110'
    gccosandvers=''
    intsize=4
    longsize=4
    ptrsize=4
    doublesize=8
    byteorder=12345678
    doublekind=3
    d_longlong=define
    longlongsize=8
    d_longdbl=define
    longdblsize=12
    longdblkind=3
    ivtype='long long'
    ivsize=8
    nvtype='__float128'
    nvsize=16
    Off_t='off_t'
    lseeksize=8
    alignbytes=16
    prototype=define
  Linker and Libraries:
    ld='cc'
    ldflags =' -fstack-protector-strong -L/usr/local/lib'
    libpth=/usr/local/lib /usr/include/i386-linux-gnu /usr/lib /lib/i386-linux-gnu /lib/../lib /usr/lib/i386-linux-gnu /usr/lib/../lib /lib /lib64 /usr/lib64
    libs=-lpthread -lnsl -ldl -lm -lcrypt -lutil -lc -lquadmath
    perllibs=-lpthread -lnsl -ldl -lm -lcrypt -lutil -lc -lquadmath
    libc=libc-2.31.so
    so=so
    useshrplib=false
    libperl=libperl.a
    gnulibc_version='2.31'
  Dynamic Linking:
    dlsrc=dl_dlopen.xs
    dlext=so
    d_dlsymun=undef
    ccdlflags='-Wl,-E'
    cccdlflags='-fPIC'
    lddlflags='-shared -O2 -L/usr/local/lib -fstack-protector-strong'


Characteristics of this binary (from libperl): 
  Compile-time options:
    HAS_TIMES
    PERLIO_LAYERS
    PERL_COPY_ON_WRITE
    PERL_DONT_CREATE_GVSV
    PERL_MALLOC_WRAP
    PERL_OP_PARENT
    PERL_PRESERVE_IVUV
    USE_64_BIT_INT
    USE_LARGE_FILES
    USE_LOCALE
    USE_LOCALE_COLLATE
    USE_LOCALE_CTYPE
    USE_LOCALE_NUMERIC
    USE_LOCALE_TIME
    USE_PERLIO
    USE_PERL_ATOF
    USE_QUADMATH
  Built under linux
  Compiled at Feb  8 2022 13:00:37
  %ENV:
    PERL="5.32.0-quadmath-int64"
    PERL5LIB=""
    PERL5OPT=""
    PERL5_CPANPLUS_IS_RUNNING="17477"
    PERL5_CPAN_IS_RUNNING="17477"
    PERLBREW_HOME="/home/david/.perlbrew"
    PERLBREW_MANPATH="/home/david/perl5/perlbrew/perls/perl-5.32.0/man"
    PERLBREW_PATH="/home/david/perl5/perlbrew/bin:/home/david/perl5/perlbrew/perls/perl-5.32.0/bin"
    PERLBREW_PERL="perl-5.32.0"
    PERLBREW_ROOT="/home/david/perl5/perlbrew"
    PERLBREW_SHELLRC_VERSION="0.89"
    PERLBREW_VERSION="0.89"
    PERLVER="5.32.0-quadmath-int64"
    PERL_INLINE_DIRECTORY="/home/david/.Inline-5.32.0-quadmath-int64"
    PERL_MM_USE_DEFAULT="1"
    PERL_USE_UNSAFE_INC="0"
  @INC:
    /home/david/cpantesting/perl-5.32.0-quadmath-int64/lib/site_perl/5.32.0/i686-linux-64int-quadmath
    /home/david/cpantesting/perl-5.32.0-quadmath-int64/lib/site_perl/5.32.0
    /home/david/cpantesting/perl-5.32.0-quadmath-int64/lib/5.32.0/i686-linux-64int-quadmath
    /home/david/cpantesting/perl-5.32.0-quadmath-int64/lib/5.32.0