Net-Async-WebSocket v0.13 Perl 5 v5.18.2 x86_64-linux
- Status
- Pass
- From
- Paul Evans
- Dist
-
Net-Async-WebSocket v0.13
- Platform
- Perl 5 v5.18.2 x86_64-linux
- Date
- 2018-10-12 09:37:27
- ID
- 6ed50e66-ce02-11e8-869f-b31f1a8a4a58
This distribution has been tested as part of the CPAN Testers
project, supporting the Perl programming language. See
http://wiki.cpantesters.org/ for more information or email
questions to cpan-testers-discuss@perl.org
--
Dear Paul Evans,
This is a computer-generated report for Net-Async-WebSocket-0.13
on perl 5.18.2, created by CPAN-Reporter-1.2018.
Thank you for uploading your work to CPAN. Congratulations!
All tests were successful.
Sections of this report:
* Tester comments
* Program output
* Prerequisites
* Environment and other context
------------------------------
TESTER COMMENTS
------------------------------
Additional comments from tester:
none provided
------------------------------
PROGRAM OUTPUT
------------------------------
Output from './Build test':
t/00use.t ..... ok
t/01client.t .. ok
t/02server.t .. ok
t/03cross.t ... ok
t/99pod.t ..... skipped: Test::Pod 1.00 required for testing POD
All tests successful.
Files=5, Tests=25, 1 wallclock secs ( 0.02 usr 0.01 sys + 0.35 cusr 0.02 csys = 0.40 CPU)
Result: PASS
------------------------------
PREREQUISITES
------------------------------
Prerequisite modules loaded:
requires:
Module Need Have
-------------------------------------- ------ --------
IO::Async::Listener 0.61 0.71
IO::Async::Notifier 0.63 0.71
IO::Async::Stream 0.34 0.71
perl 5.010 5.018002
Protocol::WebSocket 0.22 0.24
Protocol::WebSocket::Frame 0 0
Protocol::WebSocket::Handshake::Client 0 0
Protocol::WebSocket::Handshake::Server 0 0
Sub::Util 1.40 1.47
URI 0 1.64
build_requires:
Module Need Have
-------------------------------------- ------ --------
IO::Async::OS 0 0.71
Test::More 0.88 1.001009
configure_requires:
Module Need Have
-------------------------------------- ------ --------
Module::Build 0.4004 0.4210
------------------------------
ENVIRONMENT AND OTHER CONTEXT
------------------------------
Environment variables:
LANG = en_GB.UTF-8
LANGUAGE = en_GB:en
LD_LIBRARY_PATH = /home/leo/lib
PATH = /home/leo/bin:/home/leo/bin:/usr/local/bin:/usr/bin:/bin:/usr/local/games:/usr/games
PERL5LIB = /home/leo/.cpan/build/Protocol-WebSocket-0.24-fueVxg/blib/arch:/home/leo/.cpan/build/Protocol-WebSocket-0.24-fueVxg/blib/lib
PERL5OPT =
PERL5_CPANPLUS_IS_RUNNING = 17617
PERL5_CPAN_IS_RUNNING = 17617
SHELL = /bin/bash
TERM = xterm
Perl special variables (and OS-specific diagnostics, for MSWin32):
$^X = /home/leo/perl5/perlbrew/perls/perl-5.18.2/bin/perl5.18.2
$UID/$EUID = 1000 / 1000
$GID = 1000 20 24 25 29 30 44 46 116 123 1000 1003 1016 2000
$EGID = 1000 20 24 25 29 30 44 46 116 123 1000 1003 1016 2000
Perl module toolchain versions installed:
Module Have
------------------- --------
CPAN 2.00
CPAN::Meta 2.143240
Cwd 3.40
ExtUtils::CBuilder 0.280210
ExtUtils::Command 1.17
ExtUtils::Install 1.59
ExtUtils::MakeMaker 6.66
ExtUtils::Manifest 1.63
ExtUtils::ParseXS 3.30
File::Spec 3.40
JSON 2.90
JSON::PP 2.27202
Module::Build 0.4210
Module::Signature n/a
Parse::CPAN::Meta 1.4414
Test::Harness 3.39
Test::More 1.001009
YAML n/a
YAML::Syck n/a
version 0.9902
--
Summary of my perl5 (revision 5 version 18 subversion 2) configuration:
Platform:
osname=linux, osvers=3.10-3-amd64, archname=x86_64-linux
uname='linux cel 3.10-3-amd64 #1 smp debian 3.10.11-1 (2013-09-10) x86_64 gnulinux '
config_args='-de -Dprefix=/home/leo/perl5/perlbrew/perls/perl-5.18.2 -Aeval:scriptdir=/home/leo/perl5/perlbrew/perls/perl-5.18.2/bin'
hint=recommended, useposix=true, d_sigaction=define
useithreads=undef, usemultiplicity=undef
useperlio=define, d_sfio=undef, uselargefiles=define, usesocks=undef
use64bitint=define, use64bitall=define, uselongdouble=undef
usemymalloc=n, bincompat5005=undef
Compiler:
cc='cc', ccflags ='-fno-strict-aliasing -pipe -fstack-protector -I/usr/local/include -D_LARGEFILE_SOURCE -D_FILE_OFFSET_BITS=64',
optimize='-O2',
cppflags='-fno-strict-aliasing -pipe -fstack-protector -I/usr/local/include'
ccversion='', gccversion='4.8.3', gccosandvers=''
intsize=4, longsize=8, ptrsize=8, doublesize=8, byteorder=12345678
d_longlong=define, longlongsize=8, d_longdbl=define, longdblsize=16
ivtype='long', ivsize=8, nvtype='double', nvsize=8, Off_t='off_t', lseeksize=8
alignbytes=8, prototype=define
Linker and Libraries:
ld='cc', ldflags =' -fstack-protector -L/usr/local/lib'
libpth=/usr/local/lib /lib/x86_64-linux-gnu /lib/../lib /usr/lib/x86_64-linux-gnu /usr/lib/../lib /lib /usr/lib
libs=-lnsl -ldl -lm -lcrypt -lutil -lc
perllibs=-lnsl -ldl -lm -lcrypt -lutil -lc
libc=, so=so, useshrplib=false, libperl=libperl.a
gnulibc_version='2.19'
Dynamic Linking:
dlsrc=dl_dlopen.xs, dlext=so, d_dlsymun=undef, ccdlflags='-Wl,-E'
cccdlflags='-fPIC', lddlflags='-shared -O2 -L/usr/local/lib -fstack-protector'
Characteristics of this binary (from libperl):
Compile-time options: HAS_TIMES PERLIO_LAYERS PERL_DONT_CREATE_GVSV
PERL_HASH_FUNC_ONE_AT_A_TIME_HARD PERL_MALLOC_WRAP
PERL_PRESERVE_IVUV PERL_SAWAMPERSAND USE_64_BIT_ALL
USE_64_BIT_INT USE_LARGE_FILES USE_LOCALE
USE_LOCALE_COLLATE USE_LOCALE_CTYPE
USE_LOCALE_NUMERIC USE_PERLIO USE_PERL_ATOF
Built under linux
Compiled at Aug 30 2014 12:06:16
%ENV:
PERL5LIB="/home/leo/.cpan/build/Protocol-WebSocket-0.24-fueVxg/blib/arch:/home/leo/.cpan/build/Protocol-WebSocket-0.24-fueVxg/blib/lib"
PERL5OPT=""
PERL5_CPANPLUS_IS_RUNNING="17617"
PERL5_CPAN_IS_RUNNING="17617"
@INC:
/home/leo/.cpan/build/Protocol-WebSocket-0.24-fueVxg/blib/arch
/home/leo/.cpan/build/Protocol-WebSocket-0.24-fueVxg/blib/lib
/home/leo/perl5/perlbrew/perls/perl-5.18.2/lib/site_perl/5.18.2/x86_64-linux
/home/leo/perl5/perlbrew/perls/perl-5.18.2/lib/site_perl/5.18.2
/home/leo/perl5/perlbrew/perls/perl-5.18.2/lib/5.18.2/x86_64-linux
/home/leo/perl5/perlbrew/perls/perl-5.18.2/lib/5.18.2
.