HiD v1.992 Perl 5 v5.35.10 x86_64-linux-ld
- Status
- Pass
- From
- Andreas J. König (ANDK)
- Dist
-
HiD v1.992
- Platform
- Perl 5 v5.35.10 x86_64-linux-ld
- Date
- 2022-03-24 18:01:29
- ID
- 6e89fdce-ab9c-11ec-a3f3-e86087c5709e
This distribution has been tested as part of the CPAN Testers
project, supporting the Perl programming language. See
http://wiki.cpantesters.org/ for more information or email
questions to cpan-testers-discuss@perl.org
--
Dear John SJ Anderson,
This is a computer-generated report for HiD-1.992
on perl 5.35.10, created by CPAN-Reporter-1.2018.
Thank you for uploading your work to CPAN. Congratulations!
All tests were successful.
Sections of this report:
* Tester comments
* Program output
* Prerequisites
* Environment and other context
------------------------------
TESTER COMMENTS
------------------------------
Additional comments from tester:
this report is from an automated smoke testing program
and was not reviewed by a human for accuracy
------------------------------
PROGRAM OUTPUT
------------------------------
Output from '/usr/bin/make test':
PERL_DL_NONLAZY=1 "/tmp/basesmoker-reloperl-NUIy/bin/perl" "-MExtUtils::Command::MM" "-MTest::Harness" "-e" "undef *Test::Harness::Switches; test_harness(0, 'blib/lib', 'blib/arch')" t/*.t
t/00-compile.t ........... ok
t/author-eol.t ........... skipped: these tests are for testing by the author
t/author-pod-coverage.t .. skipped: these tests are for testing by the author
t/author-pod-syntax.t .... skipped: these tests are for testing by the author
t/cmd-config.t ........... ok
t/cmd-help.t ............. ok
t/cmd-init.t ............. ok
# Testing in /tmp/6tjD8s9nQy
t/cmd-publish.t .......... ok
t/config.t ............... ok
t/file.t ................. ok
t/hid-server.t ........... ok
[2022/03/24 18:00:57] WARN Skipping _posts/2008-02-02-not-published.textile because 'published' flag is false
[2022/03/24 18:00:57] ERROR ERROR: Post failed to build: Can't locate PatternLayout.pm in @INC (you may need to install the PatternLayout module) (@INC contains: /tmp/loop_over_bdir-1837119-ktF9s_/HiD-1.992-0/blib/lib /tmp/loop_over_bdir-1837119-ktF9s_/HiD-1.992-0/blib/arch /tmp/loop_over_bdir-1837119-ktF9s_/Dpkg-1.21.2-0/blib/arch /tmp/loop_over_bdir-1837119-ktF9s_/Dpkg-1.21.2-0/blib/lib /tmp/loop_over_bdir-1837119-ktF9s_/Dpkg-1.21.2-0/blib/arch /tmp/loop_over_bdir-1837119-ktF9s_/Dpkg-1.21.2-0/blib/lib /home/sand/src/perl/repoperls/installed-perls/host/k93focal/v5.35.10/7dc8/lib/site_perl/5.35.10/x86_64-linux-ld /home/sand/src/perl/repoperls/installed-perls/host/k93focal/v5.35.10/7dc8/lib/site_perl/5.35.10 /home/sand/src/perl/repoperls/installed-perls/host/k93focal/v5.35.10/7dc8/lib/5.35.10/x86_64-linux-ld /home/sand/src/perl/repoperls/installed-perls/host/k93focal/v5.35.10/7dc8/lib/5.35.10 .) at /home/sand/src/perl/repoperls/installed-perls/host/k93focal/v5.35.10/7dc8/lib/site_perl/5.35.10/Log/Log4perl/Util.pm line 51.
...propagated at /tmp/loop_over_bdir-1837119-ktF9s_/HiD-1.992-0/blib/lib/HiD/Post.pm line 36.
t/hid.t .................. ok
t/layout.t ............... ok
t/page.t ................. ok
t/post-twitter.t ......... ok
t/post.t ................. ok
All tests successful.
Test Summary Report
-------------------
t/cmd-publish.t (Wstat: 0 Tests: 76 Failed: 0)
TODO passed: 72-73
Files=16, Tests=209, 17 wallclock secs ( 0.08 usr 0.08 sys + 15.19 cusr 2.19 csys = 17.54 CPU)
Result: PASS
------------------------------
PREREQUISITES
------------------------------
Prerequisite modules loaded:
requires:
Module Need Have
---------------------------- ----- --------
autodie 0 2.34
Carp 0 1.52
charnames 0 1.50
Class::Load 0 0.25
Data::Page 0 2.03
Data::Printer 0.35 1.000004
Date::Parse 0 2.33
DateTime 0 1.57
feature 0 1.71
File::Copy 0 2.39
File::Find::Rule 0 0.34
Log::Log4perl 0 1.54
Moose 0 2.2201
Moose::Role 0 2.2201
Moose::Util::TypeConstraints 0 2.2201
MooseX::App::Cmd 0 0.34
MooseX::App::Cmd::Command 0 0.34
MooseX::Getopt 0 0.75
namespace::autoclean 0 0.29
open 0 1.13
parent 0 0.238
Path::Tiny 0.054 0.122
perl 5.014 5.035010
Plack::App::File 0 0
Plack::Builder 0 0
Plack::Handler::Standalone 0 0
Plack::Loader::Restarter 0 0
Plack::Runner 0 0
strict 0 1.12
String::Errf 0 0.008
Template 0 3.010
Text::Handlebars 0 0.05
Text::Markdown 0 1.000031
Text::MultiMarkdown 0 1.000035
Text::Textile 0 2.13
Text::Xslate 0 v3.5.9
Try::Tiny 0 0.31
utf8 0 1.24
warnings 0 1.58
XML::Feed 0 0.63
XML::Feed::Entry 0 0.63
YAML::Tiny 0 1.73
YAML::XS 0 0.83
build_requires:
Module Need Have
---------------------------- ----- --------
App::Cmd::Tester 0 0.334
Exporter 0 5.77
ExtUtils::MakeMaker 0 7.64
File::Spec 0 3.84
FindBin 0 1.53
HTTP::Request::Common 0 6.36
IO::Handle 0 1.48
IPC::Open3 0 1.22
lib 0 0.65
Plack::Test 0 0
Test::File 0 1.992
Test::File::Contents 0 0.23
Test::More 0 1.302190
Test::Routine 0 0.028
Test::Routine::Util 0 0.028
Test::Warn 0 0.36
configure_requires:
Module Need Have
---------------------------- ----- --------
ExtUtils::MakeMaker 0 7.64
perl 5.014 5.035010
------------------------------
ENVIRONMENT AND OTHER CONTEXT
------------------------------
Environment variables:
AUTOMATED_TESTING = 1
LANG = en_US.utf8
PATH = /home/sand/bin:/usr/local/bin:/usr/local/sbin:/usr/sbin:/usr/bin:/sbin:/bin:/usr/games:/usr/local/games:/snap/bin:/usr/local/perl/bin:/usr/X11/bin
PERL5LIB = /tmp/loop_over_bdir-1837119-ktF9s_/Dpkg-1.21.2-0/blib/arch:/tmp/loop_over_bdir-1837119-ktF9s_/Dpkg-1.21.2-0/blib/lib
PERL5OPT =
PERL5_CPANPLUS_IS_RUNNING = 1837127
PERL5_CPAN_IS_RUNNING = 1837127
PERL_CANARY_STABILITY_NOPROMPT = 1
PERL_MM_USE_DEFAULT = 1
PERL_USE_UNSAFE_INC = 1
SHELL = /usr/bin/zsh
TERM = screen
Perl special variables (and OS-specific diagnostics, for MSWin32):
$^X = /tmp/basesmoker-reloperl-NUIy/bin/perl
$UID/$EUID = 1005 / 1005
$GID = 1005 1005
$EGID = 1005 1005
Perl module toolchain versions installed:
Module Have
------------------- --------
CPAN 2.33
CPAN::Meta 2.150010
Cwd 3.84
ExtUtils::CBuilder 0.280236
ExtUtils::Command 7.64
ExtUtils::Install 2.20
ExtUtils::MakeMaker 7.64
ExtUtils::Manifest 1.73
ExtUtils::ParseXS 3.45
File::Spec 3.84
JSON 4.05
JSON::PP 4.07
Module::Build 0.4231
Module::Signature 0.88
Parse::CPAN::Meta 2.150010
Test::Harness 3.43
Test::More 1.302190
YAML 1.30
YAML::Syck 1.34
version 0.9929
--
Summary of my perl5 (revision 5 version 35 subversion 10) configuration:
Commit id: a1655185e6f80da0d630b3c2d8df5f32364b0e35
Platform:
osname=linux
osvers=5.4.0-100-generic
archname=x86_64-linux-ld
uname='linux k93focal 5.4.0-100-generic #113-ubuntu smp thu feb 3 18:43:29 utc 2022 x86_64 x86_64 x86_64 gnulinux '
config_args='-Dprefix=/home/sand/src/perl/repoperls/installed-perls/host/k93focal/v5.35.10/7dc8 -Dmyhostname=k93focal -Dinstallusrbinperl=n -Uversiononly -Dusedevel -des -Ui_db -Dlibswanted=cl pthread socket inet nsl gdbm dbm malloc dl ld sun m crypt sec util c cposix posix ucb BSD gdbm_compat -Uuseithreads -Duselongdouble -DEBUGGING=-g'
hint=recommended
useposix=true
d_sigaction=define
useithreads=undef
usemultiplicity=undef
use64bitint=define
use64bitall=define
uselongdouble=define
usemymalloc=n
default_inc_excludes_dot=define
Compiler:
cc='cc'
ccflags ='-fwrapv -fno-strict-aliasing -pipe -fstack-protector-strong -I/usr/local/include -D_LARGEFILE_SOURCE -D_FILE_OFFSET_BITS=64'
optimize='-O2 -g'
cppflags='-fwrapv -fno-strict-aliasing -pipe -fstack-protector-strong -I/usr/local/include'
ccversion=''
gccversion='9.3.0'
gccosandvers=''
intsize=4
longsize=8
ptrsize=8
doublesize=8
byteorder=12345678
doublekind=3
d_longlong=define
longlongsize=8
d_longdbl=define
longdblsize=16
longdblkind=3
ivtype='long'
ivsize=8
nvtype='long double'
nvsize=16
Off_t='off_t'
lseeksize=8
alignbytes=16
prototype=define
Linker and Libraries:
ld='cc'
ldflags =' -fstack-protector-strong -L/usr/local/lib'
libpth=/usr/local/lib /usr/lib/x86_64-linux-gnu /usr/lib /usr/lib64
libs=-lpthread -lnsl -ldl -lm -lcrypt -lutil -lc
perllibs=-lpthread -lnsl -ldl -lm -lcrypt -lutil -lc
libc=libc-2.31.so
so=so
useshrplib=false
libperl=libperl.a
gnulibc_version='2.31'
Dynamic Linking:
dlsrc=dl_dlopen.xs
dlext=so
d_dlsymun=undef
ccdlflags='-Wl,-E'
cccdlflags='-fPIC'
lddlflags='-shared -O2 -g -L/usr/local/lib -fstack-protector-strong'
Characteristics of this binary (from libperl):
Compile-time options:
HAS_TIMES
PERLIO_LAYERS
PERL_COPY_ON_WRITE
PERL_DONT_CREATE_GVSV
PERL_MALLOC_WRAP
PERL_OP_PARENT
PERL_PRESERVE_IVUV
PERL_USE_DEVEL
USE_64_BIT_ALL
USE_64_BIT_INT
USE_LARGE_FILES
USE_LOCALE
USE_LOCALE_COLLATE
USE_LOCALE_CTYPE
USE_LOCALE_NUMERIC
USE_LOCALE_TIME
USE_LONG_DOUBLE
USE_PERLIO
USE_PERL_ATOF
Built under linux
Compiled at Mar 22 2022 16:50:52
%ENV:
PERL5LIB="/tmp/loop_over_bdir-1837119-ktF9s_/Dpkg-1.21.2-0/blib/arch:/tmp/loop_over_bdir-1837119-ktF9s_/Dpkg-1.21.2-0/blib/lib"
PERL5OPT=""
PERL5_CPANPLUS_IS_RUNNING="1837127"
PERL5_CPAN_IS_RUNNING="1837127"
PERL_CANARY_STABILITY_NOPROMPT="1"
PERL_MM_USE_DEFAULT="1"
PERL_USE_UNSAFE_INC="1"
@INC:
/tmp/loop_over_bdir-1837119-ktF9s_/Dpkg-1.21.2-0/blib/arch
/tmp/loop_over_bdir-1837119-ktF9s_/Dpkg-1.21.2-0/blib/lib
/home/sand/src/perl/repoperls/installed-perls/host/k93focal/v5.35.10/7dc8/lib/site_perl/5.35.10/x86_64-linux-ld
/home/sand/src/perl/repoperls/installed-perls/host/k93focal/v5.35.10/7dc8/lib/site_perl/5.35.10
/home/sand/src/perl/repoperls/installed-perls/host/k93focal/v5.35.10/7dc8/lib/5.35.10/x86_64-linux-ld
/home/sand/src/perl/repoperls/installed-perls/host/k93focal/v5.35.10/7dc8/lib/5.35.10
.