Back
From: metabase:user:cd035d39-6d5b-1014-ab3a-39c0c09612a1
Subject: PASS Bread-Board-Declare-0.16 v5.24.1
Date: 2017-02-10T20:48:29Z
This distribution has been tested as part of the CPAN Testers
project, supporting the Perl programming language. See
http://wiki.cpantesters.org/ for more information or email
questions to cpan-testers-discuss@perl.org
--
Dear Jesse Luehrs,
This is a computer-generated report for Bread-Board-Declare-0.16
on perl 5.24.1, created by CPAN-Reporter-1.2018.
Thank you for uploading your work to CPAN. Congratulations!
All tests were successful.
Sections of this report:
* Tester comments
* Program output
* Prerequisites
* Environment and other context
------------------------------
TESTER COMMENTS
------------------------------
Additional comments from tester:
this report is from an automated smoke testing program
and was not reviewed by a human for accuracy
------------------------------
PROGRAM OUTPUT
------------------------------
Output from 'C:\strawberry\c\bin\dmake.EXE test':
"C:\Strawberry\perl\bin\perl.exe" "-MExtUtils::Command::MM" "-MTest::Harness" "-e" "undef *Test::Harness::Switches; test_harness(0, 'blib\lib', 'blib\arch')" t/*.t
t/00-compile.t .............. ok
t/auto-deref.t .............. ok
t/basic.t ................... ok
t/block.t ................... ok
t/circular-dependency.t ..... ok
t/constructor-name.t ........ ok
t/defaults.t ................ ok
t/deps.t .................... ok
t/extends.t ................. ok
t/infer-loading.t ........... ok
t/infer-subclasses.t ........ ok
t/infer.t ................... ok
t/inheritance.t ............. ok
t/inline-services.t ......... ok
t/inlining.t ................ ok
t/leak.t .................... ok
t/lifecycle.t ............... ok
t/mop.t ..................... ok
t/more-inheritance.t ........ ok
t/multiple-instantiation.t .. ok
t/no-service.t .............. ok
t/parameters.t .............. ok
t/roles.t ................... ok
t/subcontainers.t ........... ok
t/type-checks.t ............. ok
All tests successful.
Files=25, Tests=358, 79 wallclock secs ( 0.27 usr + 0.06 sys = 0.33 CPU)
Result: PASS
------------------------------
PREREQUISITES
------------------------------
Prerequisite modules loaded:
requires:
Module Need Have
---------------------------------- ---- --------
Bread::Board 0 0.34
Bread::Board::BlockInjection 0 0.34
Bread::Board::ConstructorInjection 0 0.34
Bread::Board::Literal 0 0.34
Bread::Board::Service 0 0.34
Bread::Board::Types 0 0.34
Class::Load 0 0.23
Moose 0 2.2004
Moose::Exporter 0 2.2004
Moose::Role 0 2.2004
Moose::Util 0 2.2004
build_requires:
Module Need Have
---------------------------------- ---- --------
File::Spec 0 3.63_01
IO::Handle 0 1.36
IPC::Open3 0 1.20
lib 0 0.63
Moose::Util::TypeConstraints 0 2.2004
strict 0 1.11
Test::Fatal 0 0.014
Test::Moose 0 2.2004
Test::More 0.88 1.302075
warnings 0 1.36
configure_requires:
Module Need Have
---------------------------------- ---- --------
ExtUtils::MakeMaker 6.30 7.24
------------------------------
ENVIRONMENT AND OTHER CONTEXT
------------------------------
Environment variables:
AUTOMATED_TESTING = 1
COMSPEC = C:\WINDOWS.0\system32\cmd.exe
NONINTERACTIVE_TESTING = 1
NUMBER_OF_PROCESSORS = 1
PATH = C:\WINDOWS.0\system32;C:\strawberry\c\bin;C:\strawberry\perl\site\bin;C:\strawberry\perl\bin
PERL5LIB = C:\cpan\build\Bread-Board-0.34-0/blib/arch;C:\cpan\build\Bread-Board-0.34-0/blib/lib;C:\cpan\build\MooseX-Params-Validate-0.21-1/blib/arch;C:\cpan\build\MooseX-Params-Validate-0.21-1/blib/lib;C:\cpan\build\MooseX-Clone-0.06-0/blib/arch;C:\cpan\build\MooseX-Clone-0.06-0/blib/lib;C:\cpan\build\Hash-Util-FieldHash-Compat-0.11-0/blib/arch;C:\cpan\build\Hash-Util-FieldHash-Compat-0.11-0/blib/lib;C:\cpan\build\Data-Visitor-0.30-0/blib/arch;C:\cpan\build\Data-Visitor-0.30-0/blib/lib;C:\cpan\build\Tie-ToObject-0.03-0/blib/arch;C:\cpan\build\Tie-ToObject-0.03-0/blib/lib
PERL5OPT =
PERL5_CPANPLUS_IS_RUNNING = 720
PERL5_CPAN_IS_RUNNING = 720
PERL5_CPAN_IS_RUNNING_IN_RECURSION = 3100,720
PERL_CR_SMOKER_CURRENT = Bread-Board-Declare-0.16
PERL_EXTUTILS_AUTOINSTALL = --defaultdeps
PERL_MM_USE_DEFAULT = 1
PROCESSOR_IDENTIFIER = x86 Family 6 Model 14 Stepping 8, GenuineIntel
TEMP = C:\DOKUME~1\smoker\LOKALE~1\Temp
TERM = dumb
Perl special variables (and OS-specific diagnostics, for MSWin32):
$^X = C:\Strawberry\perl\bin\perl.exe
$UID/$EUID = 0 / 0
$GID = 0
$EGID = 0
Win32::GetOSName = WinXP/.Net
Win32::GetOSVersion = Service Pack 3, 5, 1, 2600, 2, 3, 0, 256, 1
Win32::FsType = NTFS
Win32::IsAdminUser = 1
Perl module toolchain versions installed:
Module Have
------------------- --------
CPAN 2.14
CPAN::Meta 2.150010
Cwd 3.63_01
ExtUtils::CBuilder 0.280225
ExtUtils::Command 7.24
ExtUtils::Install 2.04
ExtUtils::MakeMaker 7.24
ExtUtils::Manifest 1.70
ExtUtils::ParseXS 3.31
File::Spec 3.63_01
JSON 2.90
JSON::PP 2.27400
Module::Build 0.4220
Module::Signature 0.81
Parse::CPAN::Meta 2.150010
Test::Harness 3.36_01
Test::More 1.302075
YAML 1.21
YAML::Syck n/a
version 0.9917
--
Summary of my perl5 (revision 5 version 24 subversion 1) configuration:
Platform:
osname=MSWin32, osvers=6.3, archname=MSWin32-x86-multi-thread-64int
uname='Win32 strawberry-perl 5.24.1.1 #1 Sun Jan 15 20:28:53 2017 i386'
config_args='undef'
hint=recommended, useposix=true, d_sigaction=undef
useithreads=define, usemultiplicity=define
use64bitint=define, use64bitall=undef, uselongdouble=undef
usemymalloc=n, bincompat5005=undef
Compiler:
cc='gcc', ccflags =' -s -O2 -DWIN32 -DPERL_TEXTMODE_SCRIPTS -DPERL_IMPLICIT_CONTEXT -DPERL_IMPLICIT_SYS -fwrapv -fno-strict-aliasing -mms-bitfields',
optimize='-s -O2',
cppflags='-DWIN32'
ccversion='', gccversion='4.9.2', gccosandvers=''
intsize=4, longsize=4, ptrsize=4, doublesize=8, byteorder=12345678, doublekind=3
d_longlong=define, longlongsize=8, d_longdbl=define, longdblsize=12, longdblkind=3
ivtype='long long', ivsize=8, nvtype='double', nvsize=8, Off_t='long long', lseeksize=8
alignbytes=8, prototype=define
Linker and Libraries:
ld='g++', ldflags ='-s -L"C:\STRAWB~1\perl\lib\CORE" -L"C:\STRAWB~1\c\lib"'
libpth=C:\STRAWB~1\c\lib C:\STRAWB~1\c\i686-w64-mingw32\lib C:\STRAWB~1\c\lib\gcc\i686-w64-mingw32\4.9.2
libs=-lmoldname -lkernel32 -luser32 -lgdi32 -lwinspool -lcomdlg32 -ladvapi32 -lshell32 -lole32 -loleaut32 -lnetapi32 -luuid -lws2_32 -lmpr -lwinmm -lversion -lodbc32 -lodbccp32 -lcomctl32
perllibs=-lmoldname -lkernel32 -luser32 -lgdi32 -lwinspool -lcomdlg32 -ladvapi32 -lshell32 -lole32 -loleaut32 -lnetapi32 -luuid -lws2_32 -lmpr -lwinmm -lversion -lodbc32 -lodbccp32 -lcomctl32
libc=, so=dll, useshrplib=true, libperl=libperl524.a
gnulibc_version=''
Dynamic Linking:
dlsrc=dl_win32.xs, dlext=xs.dll, d_dlsymun=undef, ccdlflags=' '
cccdlflags=' ', lddlflags='-mdll -s -L"C:\STRAWB~1\perl\lib\CORE" -L"C:\STRAWB~1\c\lib"'
Characteristics of this binary (from libperl):
Compile-time options: HAS_TIMES HAVE_INTERP_INTERN MULTIPLICITY
PERLIO_LAYERS PERL_COPY_ON_WRITE
PERL_DONT_CREATE_GVSV
PERL_HASH_FUNC_ONE_AT_A_TIME_HARD
PERL_IMPLICIT_CONTEXT PERL_IMPLICIT_SYS
PERL_MALLOC_WRAP PERL_PRESERVE_IVUV USE_64_BIT_INT
USE_ITHREADS USE_LARGE_FILES USE_LOCALE
USE_LOCALE_COLLATE USE_LOCALE_CTYPE
USE_LOCALE_NUMERIC USE_LOCALE_TIME USE_PERLIO
USE_PERL_ATOF
Built under MSWin32
Compiled at Jan 15 2017 20:39:08
%ENV:
PERL5LIB="C:\cpan\build\Bread-Board-0.34-0/blib/arch;C:\cpan\build\Bread-Board-0.34-0/blib/lib;C:\cpan\build\MooseX-Params-Validate-0.21-1/blib/arch;C:\cpan\build\MooseX-Params-Validate-0.21-1/blib/lib;C:\cpan\build\MooseX-Clone-0.06-0/blib/arch;C:\cpan\build\MooseX-Clone-0.06-0/blib/lib;C:\cpan\build\Hash-Util-FieldHash-Compat-0.11-0/blib/arch;C:\cpan\build\Hash-Util-FieldHash-Compat-0.11-0/blib/lib;C:\cpan\build\Data-Visitor-0.30-0/blib/arch;C:\cpan\build\Data-Visitor-0.30-0/blib/lib;C:\cpan\build\Tie-ToObject-0.03-0/blib/arch;C:\cpan\build\Tie-ToObject-0.03-0/blib/lib"
PERL5_CPANPLUS_IS_RUNNING="720"
PERL5_CPAN_IS_RUNNING="720"
PERL5_CPAN_IS_RUNNING_IN_RECURSION="3100,720"
PERL_CR_SMOKER_CURRENT="Bread-Board-Declare-0.16"
PERL_EXTUTILS_AUTOINSTALL="--defaultdeps"
PERL_MM_USE_DEFAULT="1"
@INC:
C:\cpan\build\Bread-Board-0.34-0/blib/arch
C:\cpan\build\Bread-Board-0.34-0/blib/lib
C:\cpan\build\MooseX-Params-Validate-0.21-1/blib/arch
C:\cpan\build\MooseX-Params-Validate-0.21-1/blib/lib
C:\cpan\build\MooseX-Clone-0.06-0/blib/arch
C:\cpan\build\MooseX-Clone-0.06-0/blib/lib
C:\cpan\build\Hash-Util-FieldHash-Compat-0.11-0/blib/arch
C:\cpan\build\Hash-Util-FieldHash-Compat-0.11-0/blib/lib
C:\cpan\build\Data-Visitor-0.30-0/blib/arch
C:\cpan\build\Data-Visitor-0.30-0/blib/lib
C:\cpan\build\Tie-ToObject-0.03-0/blib/arch
C:\cpan\build\Tie-ToObject-0.03-0/blib/lib
C:/Strawberry/perl/site/lib/MSWin32-x86-multi-thread-64int
C:/Strawberry/perl/site/lib
C:/Strawberry/perl/vendor/lib
C:/Strawberry/perl/lib
.