App-MARC-Leader v0.02 Perl 5 v5.22.2 x86_64-linux

Status
Pass
From
Slaven Rezić
Dist
App-MARC-Leader v0.02
Platform
Perl 5 v5.22.2 x86_64-linux
Date
2023-11-20T18:12:56
ID
6e5c13e8-87d0-11ee-8826-e21e6e8775ea
This distribution has been tested as part of the CPAN Testers
project, supporting the Perl programming language.  See
http://wiki.cpantesters.org/ for more information or email
questions to cpan-testers-discuss@perl.org


--
Dear Michal Josef Spacek,

This is a computer-generated report for App-MARC-Leader-0.02
on perl 5.22.2, created by CPAN-Reporter-1.2018.

Thank you for uploading your work to CPAN.  Congratulations!
All tests were successful.

Sections of this report:

    * Tester comments
    * Program output
    * Prerequisites
    * Environment and other context

------------------------------
TESTER COMMENTS
------------------------------

Additional comments from tester:

none provided

------------------------------
PROGRAM OUTPUT
------------------------------

Output from '/usr/bin/make test':

PERL_DL_NONLAZY=1 "/opt/perl-5.22.2/bin/perl" "-MExtUtils::Command::MM" "-MTest::Harness" "-e" "undef *Test::Harness::Switches; test_harness(0, 'inc', 'blib/lib', 'blib/arch')" t/App-MARC-Leader/*.t
t/App-MARC-Leader/01-use.t ...... ok
t/App-MARC-Leader/02-version.t .. ok
t/App-MARC-Leader/03-new.t ...... ok
t/App-MARC-Leader/04-run.t ...... ok
All tests successful.
Files=4, Tests=9,  1 wallclock secs ( 0.00 usr  0.02 sys +  0.41 cusr  0.08 csys =  0.51 CPU)
Result: PASS

------------------------------
PREREQUISITES
------------------------------

Prerequisite modules loaded:

requires:

    Module                Need   Have    
    --------------------- ------ --------
    Class::Utils          0      0.07    
    Getopt::Std           0      1.11    
    MARC::File::XML       v1.0.4 1.0.5   
    MARC::Leader          0      0.03    
  ! MARC::Leader::Print   0.02   0.01    
    perl                  5.006  5.022002

build_requires:

    Module                Need   Have    
    --------------------- ------ --------
    English               0      1.09    
    ExtUtils::MakeMaker   6.59   7.24    
    File::Object          0      0.1     
    File::Spec::Functions 0      3.62    
    Test::More            0      1.302052
    Test::NoWarnings      0      1.04    
    Test::Output          0      1.03    

configure_requires:

    Module                Need   Have    
    --------------------- ------ --------
    ExtUtils::MakeMaker   6.59   7.24    


------------------------------
ENVIRONMENT AND OTHER CONTEXT
------------------------------

Environment variables:

    LANG = en_US.UTF-8
    LANGUAGE = en_US:en
    LC_ALL = en_US.UTF-8
    PATH = /usr/local/bin:/usr/bin:/bin:/usr/local/sbin:/usr/sbin:/sbin:/home/cpansand/bin/linux-gnu:/home/cpansand/bin/sh:/home/cpansand/bin:/usr/games:/home/cpansand/devel:/home/eserte/src/srezic-misc/scripts
    PERL5LIB = /home/cpansand/.cpan/build/2023112019/MARC-Leader-Print-0.01-1/blib/arch:/home/cpansand/.cpan/build/2023112019/MARC-Leader-Print-0.01-1/blib/lib:/home/cpansand/.cpan/build/2023112019/MARC-Leader-0.03-2/blib/arch:/home/cpansand/.cpan/build/2023112019/MARC-Leader-0.03-2/blib/lib:/home/cpansand/.cpan/build/2023112019/Data-MARC-Leader-0.02-4/blib/arch:/home/cpansand/.cpan/build/2023112019/Data-MARC-Leader-0.02-4/blib/lib:/home/cpansand/.cpan/build/2023112019/Mo-utils-0.20-5/blib/arch:/home/cpansand/.cpan/build/2023112019/Mo-utils-0.20-5/blib/lib:/home/cpansand/.cpan/build/2023112019/MARC-File-XML-1.0.5-1/blib/arch:/home/cpansand/.cpan/build/2023112019/MARC-File-XML-1.0.5-1/blib/lib
    PERL5OPT = 
    PERL5_CPANPLUS_IS_RUNNING = 11063
    PERL5_CPAN_IS_RUNNING = 11063
    PERL5_CPAN_IS_RUNNING_IN_RECURSION = 24455,11063
    PERLDOC = -MPod::Perldoc::ToTextOverstrike
    PERL_BATCH = yes
    PERL_CANARY_STABILITY_NOPROMPT = 1
    PERL_CPAN_REPORTER_CONFIG = /var/tmp/cpansmoker-1023/2023112017/cpanreporter_000_config.ini
    PERL_EXTUTILS_AUTOINSTALL = --defaultdeps
    PERL_USE_UNSAFE_INC = 1
    SHELL = /bin/zsh
    TERM = screen
    TMPDIR = /var/tmp/cpansmoker-1023/2023112017

Perl special variables (and OS-specific diagnostics, for MSWin32):

    $^X = /opt/perl-5.22.2/bin/perl
    $UID/$EUID = 1023 / 1023
    $GID = 1023 1023
    $EGID = 1023 1023

Perl module toolchain versions installed:

    Module              Have    
    ------------------- --------
    CPAN                2.16    
    CPAN::Meta          2.150010
    Cwd                 3.62    
    ExtUtils::CBuilder  0.280221
    ExtUtils::Command   7.24    
    ExtUtils::Install   2.04    
    ExtUtils::MakeMaker 7.24    
    ExtUtils::Manifest  1.70    
    ExtUtils::ParseXS   3.28    
    File::Spec          3.62    
    JSON                2.90    
    JSON::PP            2.27300 
    Module::Build       0.4220  
    Module::Signature   0.81    
    Parse::CPAN::Meta   2.150010
    Test::Harness       3.35    
    Test::More          1.302052
    YAML                1.17    
    YAML::Syck          1.29    
    version             0.9917  


--

Summary of my perl5 (revision 5 version 22 subversion 2) configuration:
   
  Platform:
    osname=linux, osvers=3.2.0-4-amd64, archname=x86_64-linux
    uname='linux cvrsnica-wheezy 3.2.0-4-amd64 #1 smp debian 3.2.54-2 x86_64 gnulinux '
    config_args='-ds -e -Dprefix=/opt/perl-5.22.2 -Dcf_email=srezic@cpan.org'
    hint=recommended, useposix=true, d_sigaction=define
    useithreads=undef, usemultiplicity=undef
    use64bitint=define, use64bitall=define, uselongdouble=undef
    usemymalloc=n, bincompat5005=undef
  Compiler:
    cc='cc', ccflags ='-fwrapv -fno-strict-aliasing -pipe -fstack-protector -I/usr/local/include -D_LARGEFILE_SOURCE -D_FILE_OFFSET_BITS=64 -D_FORTIFY_SOURCE=2',
    optimize='-O2',
    cppflags='-fwrapv -fno-strict-aliasing -pipe -fstack-protector -I/usr/local/include'
    ccversion='', gccversion='4.7.2', gccosandvers=''
    intsize=4, longsize=8, ptrsize=8, doublesize=8, byteorder=12345678, doublekind=3
    d_longlong=define, longlongsize=8, d_longdbl=define, longdblsize=16, longdblkind=3
    ivtype='long', ivsize=8, nvtype='double', nvsize=8, Off_t='off_t', lseeksize=8
    alignbytes=8, prototype=define
  Linker and Libraries:
    ld='cc', ldflags =' -fstack-protector -L/usr/local/lib'
    libpth=/usr/local/lib /usr/lib/gcc/x86_64-linux-gnu/4.7/include-fixed /usr/include/x86_64-linux-gnu /usr/lib /lib/x86_64-linux-gnu /lib/../lib /usr/lib/x86_64-linux-gnu /usr/lib/../lib /lib
    libs=-lpthread -lnsl -ldb -ldl -lm -lcrypt -lutil -lc
    perllibs=-lpthread -lnsl -ldl -lm -lcrypt -lutil -lc
    libc=libc-2.13.so, so=so, useshrplib=false, libperl=libperl.a
    gnulibc_version='2.13'
  Dynamic Linking:
    dlsrc=dl_dlopen.xs, dlext=so, d_dlsymun=undef, ccdlflags='-Wl,-E'
    cccdlflags='-fPIC', lddlflags='-shared -O2 -L/usr/local/lib -fstack-protector'


Characteristics of this binary (from libperl): 
  Compile-time options: HAS_TIMES PERLIO_LAYERS PERL_DONT_CREATE_GVSV
                        PERL_HASH_FUNC_ONE_AT_A_TIME_HARD PERL_MALLOC_WRAP
                        PERL_NEW_COPY_ON_WRITE PERL_PRESERVE_IVUV
                        USE_64_BIT_ALL USE_64_BIT_INT USE_LARGE_FILES
                        USE_LOCALE USE_LOCALE_COLLATE USE_LOCALE_CTYPE
                        USE_LOCALE_NUMERIC USE_LOCALE_TIME USE_PERLIO
                        USE_PERL_ATOF
  Built under linux
  Compiled at May 29 2016 23:41:57
  %ENV:
    PERL5LIB="/home/cpansand/.cpan/build/2023112019/MARC-Leader-Print-0.01-1/blib/arch:/home/cpansand/.cpan/build/2023112019/MARC-Leader-Print-0.01-1/blib/lib:/home/cpansand/.cpan/build/2023112019/MARC-Leader-0.03-2/blib/arch:/home/cpansand/.cpan/build/2023112019/MARC-Leader-0.03-2/blib/lib:/home/cpansand/.cpan/build/2023112019/Data-MARC-Leader-0.02-4/blib/arch:/home/cpansand/.cpan/build/2023112019/Data-MARC-Leader-0.02-4/blib/lib:/home/cpansand/.cpan/build/2023112019/Mo-utils-0.20-5/blib/arch:/home/cpansand/.cpan/build/2023112019/Mo-utils-0.20-5/blib/lib:/home/cpansand/.cpan/build/2023112019/MARC-File-XML-1.0.5-1/blib/arch:/home/cpansand/.cpan/build/2023112019/MARC-File-XML-1.0.5-1/blib/lib"
    PERL5OPT=""
    PERL5_CPANPLUS_IS_RUNNING="11063"
    PERL5_CPAN_IS_RUNNING="11063"
    PERL5_CPAN_IS_RUNNING_IN_RECURSION="24455,11063"
    PERLDOC="-MPod::Perldoc::ToTextOverstrike"
    PERL_BATCH="yes"
    PERL_CANARY_STABILITY_NOPROMPT="1"
    PERL_CPAN_REPORTER_CONFIG="/var/tmp/cpansmoker-1023/2023112017/cpanreporter_000_config.ini"
    PERL_EXTUTILS_AUTOINSTALL="--defaultdeps"
    PERL_USE_UNSAFE_INC="1"
  @INC:
    /home/cpansand/.cpan/build/2023112019/MARC-Leader-Print-0.01-1/blib/arch
    /home/cpansand/.cpan/build/2023112019/MARC-Leader-Print-0.01-1/blib/lib
    /home/cpansand/.cpan/build/2023112019/MARC-Leader-0.03-2/blib/arch
    /home/cpansand/.cpan/build/2023112019/MARC-Leader-0.03-2/blib/lib
    /home/cpansand/.cpan/build/2023112019/Data-MARC-Leader-0.02-4/blib/arch
    /home/cpansand/.cpan/build/2023112019/Data-MARC-Leader-0.02-4/blib/lib
    /home/cpansand/.cpan/build/2023112019/Mo-utils-0.20-5/blib/arch
    /home/cpansand/.cpan/build/2023112019/Mo-utils-0.20-5/blib/lib
    /home/cpansand/.cpan/build/2023112019/MARC-File-XML-1.0.5-1/blib/arch
    /home/cpansand/.cpan/build/2023112019/MARC-File-XML-1.0.5-1/blib/lib
    /opt/perl-5.22.2/lib/site_perl/5.22.2/x86_64-linux
    /opt/perl-5.22.2/lib/site_perl/5.22.2
    /opt/perl-5.22.2/lib/5.22.2/x86_64-linux
    /opt/perl-5.22.2/lib/5.22.2
    .