HTTP-Exception v0.04007 Perl 5 v5.30.1 x86_64-linux-thread-multi-ld
- Status
- Pass
- From
- Dist
-
HTTP-Exception v0.04007
- Platform
- Perl 5 v5.30.1 x86_64-linux-thread-multi-ld
- Date
- 2020-02-17 23:15:44
- ID
- 6c80f8b0-51db-11ea-b4bc-305eeff55b25
This distribution has been tested as part of the CPAN Testers
project, supporting the Perl programming language. See
http://wiki.cpantesters.org/ for more information or email
questions to cpan-testers-discuss@perl.org
--
Dear Thomas Mueller,
This is a computer-generated report for HTTP-Exception-0.04007
on perl 5.30.1, created by CPAN-Reporter-1.2018.
Thank you for uploading your work to CPAN. Congratulations!
All tests were successful.
Sections of this report:
* Tester comments
* Program output
* Prerequisites
* Environment and other context
------------------------------
TESTER COMMENTS
------------------------------
Additional comments from tester:
none provided
------------------------------
PROGRAM OUTPUT
------------------------------
Output from '/usr/bin/make test':
PERL_DL_NONLAZY=1 "/opt/Perl/bin/perl" "-MExtUtils::Command::MM" "-MTest::Harness" "-e" "undef *Test::Harness::Switches; test_harness(0, 'blib/lib', 'blib/arch')" t/*.t
t/00-load.t ............... ok
t/01-exceptions.t ......... ok
t/02-combinations.t ....... ok
t/03-nice.t ............... ok
t/04-subclassing.t ........ ok
t/05-plack.t .............. ok
t/06-is_methods.t ......... ok
t/07-status_messages.t .... ok
t/08-teapot.t ............. ok
t/10-fields_1xx.t ......... skipped: no fields for HTTP::Exception::1XX yet
t/11-fields_2xx.t ......... skipped: no fields for HTTP::Exception::2XX yet
t/12-fields_3xx.t ......... ok
t/13-fields_4xx.t ......... skipped: no fields for HTTP::Exception::4XX yet
t/14-fields_5xx.t ......... skipped: no fields for HTTP::Exception::5XX yet
t/15-fields_ec.t .......... ok
t/20-load_1XX.t ........... ok
t/21-load_2XX.t ........... ok
t/22-load_3XX.t ........... ok
t/23-load_4XX.t ........... ok
t/24-load_5XX.t ........... ok
t/25-load_all.t ........... ok
t/26-load_server_error.t .. ok
t/27-load_client_error.t .. ok
t/28-load_errors.t ........ ok
t/29-load_redirection.t ... ok
t/30-implicit_all.t ....... ok
t/31-load_mixed.t ......... ok
t/32-load_warnings.t ...... ok
t/boilerplate.t ........... skipped: Author tests not required for installation
t/eol.t ................... skipped: Author tests not required for installation
t/eol_special.t ........... skipped: Author tests not required for installation
t/manifest.t .............. skipped: Author tests not required for installation
t/pod.t ................... skipped: Author tests not required for installation
All tests successful.
Files=33, Tests=4693, 11 wallclock secs ( 1.02 usr 0.10 sys + 10.12 cusr 0.73 csys = 11.97 CPU)
Result: PASS
------------------------------
PREREQUISITES
------------------------------
Prerequisite modules loaded:
requires:
Module Need Have
------------------- ----- --------
base 0 2.27
Exception::Class 1.29 1.44
HTTP::Status 5.817 6.18
Scalar::Util 1.22 1.54
strict 0 1.11
Test::Exception 0.29 0.43
Test::More 0.88 1.302171
Test::NoWarnings 1.04 1.04
warnings 0 1.44
build_requires:
Module Need Have
------------------- ----- --------
ExtUtils::MakeMaker 0 7.44
configure_requires:
Module Need Have
------------------- ----- --------
ExtUtils::MakeMaker 0 7.44
------------------------------
ENVIRONMENT AND OTHER CONTEXT
------------------------------
Environment variables:
LANG = en_US.UTF-8
LC_ALL = en_US.UTF-8
LC_CTYPE = C
PATH = /Users/greeneg/bin:/opt/X11/bin:/opt/Perl/bin:/opt/Perl/sbin:/opt/local/bin:/opt/local/sbin:/opt/local/libexec/gnubin:/opt/local/libexec/qt4/bin:/opt/local/Library/Frameworks/wxWidgets.framework/Versions/wxWidgets/3.1/bin:/usr/local/mysql/bin:/usr/local/go/bin:/Users/ggreene/Development/hrs:/bin:/sbin:/usr/bin:/usr/sbin:/usr/local/bin:/usr/local/sbin:/Users/greeneg/.rvm/bin
PERL5LIB =
PERL5OPT =
PERL5_CPANPLUS_IS_RUNNING = 7185
PERL5_CPAN_IS_RUNNING = 7185
PERL_USE_UNSAFE_INC = 1
SHELL = /bin/zsh
TERM = xterm-256color
Perl special variables (and OS-specific diagnostics, for MSWin32):
$^X = /opt/Perl/bin/perl
$UID/$EUID = 1026 / 1026
$GID = 100 100
$EGID = 100 100
Perl module toolchain versions installed:
Module Have
------------------- --------
CPAN 2.27
CPAN::Meta 2.150010
Cwd 3.78
ExtUtils::CBuilder 0.280234
ExtUtils::Command 7.44
ExtUtils::Install 2.14
ExtUtils::MakeMaker 7.44
ExtUtils::Manifest 1.72
ExtUtils::ParseXS 3.40
File::Spec 3.78
JSON 4.02
JSON::PP 4.04
Module::Build 0.4231
Module::Signature 0.83
Parse::CPAN::Meta 2.150010
Test::Harness 3.42
Test::More 1.302171
YAML 1.30
YAML::Syck 1.32
version 0.9924
--
Summary of my perl5 (revision 5 version 30 subversion 1) configuration:
Platform:
osname=linux
osvers=5.4.13-1.g5cf5394-default
archname=x86_64-linux-thread-multi-ld
uname='linux erik 5.4.13-1.g5cf5394-default #1 smp sat jan 18 09:42:02 utc 2020 (5cf5394) x86_64 x86_64 x86_64 gnulinux '
config_args=''
hint=previous
useposix=true
d_sigaction=define
useithreads=define
usemultiplicity=define
use64bitint=define
use64bitall=define
uselongdouble=define
usemymalloc=n
default_inc_excludes_dot=define
bincompat5005=undef
Compiler:
cc='cc'
ccflags ='-D_REENTRANT -D_GNU_SOURCE -fwrapv -DSOCKS -fno-strict-aliasing -pipe -fstack-protector-strong -I/usr/local/include -D_LARGEFILE_SOURCE -D_FILE_OFFSET_BITS=64 -D_FORTIFY_SOURCE=2'
optimize='-O2'
cppflags='-D_REENTRANT -D_GNU_SOURCE -fwrapv -DSOCKS -fno-strict-aliasing -pipe -fstack-protector-strong -I/usr/local/include'
ccversion=''
gccversion='7.5.0'
gccosandvers=''
intsize=4
longsize=8
ptrsize=8
doublesize=8
byteorder=12345678
doublekind=3
d_longlong=define
longlongsize=8
d_longdbl=define
longdblsize=16
longdblkind=3
ivtype='long'
ivsize=8
nvtype='long double'
nvsize=16
Off_t='off_t'
lseeksize=8
alignbytes=16
prototype=define
Linker and Libraries:
ld='cc'
ldflags =' -fstack-protector-strong -L/usr/local/lib'
libpth=/usr/local/lib /usr/lib64/gcc/x86_64-suse-linux/7/include-fixed /usr/lib64/gcc/x86_64-suse-linux/7/../../../../x86_64-suse-linux/lib /usr/lib /lib/../lib64 /usr/lib/../lib64 /lib /lib64 /usr/lib64 /usr/local/lib64 /usr/local/lib /usr/lib64/gcc/x86_64-suse-linux/7/include-fixed /usr/lib64/gcc/x86_64-suse-linux/7/../../../../x86_64-suse-linux/lib /usr/lib
libs=-lpthread -lnsl -lgdbm -ldb -ldl -lm -lcrypt -lutil -lc -lgdbm_compat
perllibs=-lpthread -lnsl -ldl -lm -lcrypt -lutil -lc
libc=libc-2.26.so
so=so
useshrplib=true
libperl=libperl.so
gnulibc_version='2.26'
Dynamic Linking:
dlsrc=dl_dlopen.xs
dlext=so
d_dlsymun=undef
ccdlflags='-Wl,-E -Wl,-rpath,/opt/Perl/lib/perl5/5.30.1/x86_64-linux-thread-multi-ld/CORE'
cccdlflags='-fPIC'
lddlflags='-shared -O2 -L/usr/local/lib -fstack-protector-strong'
Characteristics of this binary (from libperl):
Compile-time options:
HAS_TIMES
MULTIPLICITY
PERLIO_LAYERS
PERL_COPY_ON_WRITE
PERL_DONT_CREATE_GVSV
PERL_IMPLICIT_CONTEXT
PERL_MALLOC_WRAP
PERL_OP_PARENT
PERL_PRESERVE_IVUV
USE_64_BIT_ALL
USE_64_BIT_INT
USE_ITHREADS
USE_LARGE_FILES
USE_LOCALE
USE_LOCALE_COLLATE
USE_LOCALE_CTYPE
USE_LOCALE_NUMERIC
USE_LOCALE_TIME
USE_LONG_DOUBLE
USE_PERLIO
USE_PERL_ATOF
USE_REENTRANT_API
USE_THREAD_SAFE_LOCALE
Built under linux
Compiled at Feb 6 2020 22:16:06
%ENV:
PERL5LIB=""
PERL5OPT=""
PERL5_CPANPLUS_IS_RUNNING="7185"
PERL5_CPAN_IS_RUNNING="7185"
PERL_USE_UNSAFE_INC="1"
@INC:
/opt/Perl/lib/perl5/site_perl/5.30.1/x86_64-linux-thread-multi-ld
/opt/Perl/lib/perl5/site_perl/5.30.1
/opt/Perl/lib/perl5/5.30.1/x86_64-linux-thread-multi-ld
/opt/Perl/lib/perl5/5.30.1
.