Back
From: metabase:user:314402c4-2aae-11df-837a-5e0a49663a4f
Subject: PASS Dist-Zilla-Plugin-Git-2.042 v5.26.0 RC1 GNU/Linux
Date: 2017-05-17T22:08:57Z
This distribution has been tested as part of the CPAN Testers
project, supporting the Perl programming language. See
http://wiki.cpantesters.org/ for more information or email
questions to cpan-testers-discuss@perl.org
--
Dear Karen Etheridge,
This is a computer-generated report for Dist-Zilla-Plugin-Git-2.042
on perl 5.26.0, created by CPAN-Reporter-1.2018.
Thank you for uploading your work to CPAN. Congratulations!
All tests were successful.
Sections of this report:
* Tester comments
* Program output
* Prerequisites
* Environment and other context
------------------------------
TESTER COMMENTS
------------------------------
Additional comments from tester:
none provided
------------------------------
PROGRAM OUTPUT
------------------------------
Output from '/usr/bin/make test':
PERL_DL_NONLAZY=1 "/opt/perl-5.26.0-RC1t/bin/perl" "-MExtUtils::Command::MM" "-MTest::Harness" "-e" "undef *Test::Harness::Switches; test_harness(0, 'blib/lib', 'blib/arch')" t/*.t
#
# Versions for all modules listed in MYMETA.json (including optional ones):
#
# === Configure Requires ===
#
# Module Want Have
# ------------------- ---- ------
# ExtUtils::MakeMaker any 7.24
# Text::ParseWords any 3.30
# version any 0.9917
#
# === Build Requires ===
#
# Module Want Have
# ------------------- ---- ----
# ExtUtils::MakeMaker any 7.24
#
# === Test Requires ===
#
# Module Want Have
# -------------------------------- ----- --------
# CPAN::Meta::Check 0.011 0.014
# CPAN::Meta::Requirements any 2.140
# Devel::SimpleTrace any 0.08
# Dist::Zilla::File::InMemory any 6.009
# Dist::Zilla::Plugin::Config::Git any 0.92
# Dist::Zilla::Role::Releaser any 6.009
# Dist::Zilla::Tester any 6.009
# Encode any 2.88
# Exporter any 5.72
# ExtUtils::MakeMaker any 7.24
# File::Copy any 2.32
# File::Copy::Recursive any 0.38
# File::Path 2.07 2.12_01
# File::Spec any 3.67
# File::Which any 1.21
# File::pushd any 1.014
# Log::Dispatchouli any 2.015
# Test::DZil any 6.009
# Test::Fatal any 0.014
# Test::More 0.88 1.302073
# lib any 0.64
# utf8 any 1.19
#
# === Test Recommends ===
#
# Module Want Have
# ---------- -------- --------
# CPAN::Meta 2.120900 2.150010
#
# === Runtime Requires ===
#
# Module Want Have
# ---------------------------------- -------- --------
# Cwd any 3.67
# DateTime any 1.42
# Dist::Zilla 4 6.009
# Dist::Zilla::Plugin::GatherDir 4.200016 6.009
# Dist::Zilla::Role::AfterBuild any 6.009
# Dist::Zilla::Role::AfterMint any 6.009
# Dist::Zilla::Role::AfterRelease any 6.009
# Dist::Zilla::Role::BeforeRelease any 6.009
# Dist::Zilla::Role::FilePruner any 6.009
# Dist::Zilla::Role::GitConfig any 0.92
# Dist::Zilla::Role::PluginBundle any 6.009
# Dist::Zilla::Role::VersionProvider any 6.009
# File::HomeDir 0.81 1.002
# File::Spec::Functions any 3.67
# File::Temp any 0.2304
# File::chdir any 0.1010
# Git::Wrapper 0.021 0.047
# IPC::Open3 any 1.20
# IPC::System::Simple any 1.25
# List::Util 1.45 1.46_02
# Module::Runtime any 0.014
# Moose any 2.2005
# Moose::Role any 2.2005
# Moose::Util::TypeConstraints any 2.2005
# MooseX::Has::Sugar any 1.000006
# MooseX::Types::Moose any 0.50
# MooseX::Types::Path::Tiny 0.010 0.012
# Path::Tiny 0.048 0.104
# String::Formatter any 0.102084
# Try::Tiny any 0.28
# Version::Next any 1.000
# constant any 1.33
# namespace::autoclean 0.09 0.28
# strict any 1.11
# version 0.80 0.9917
# warnings any 1.37
#
# === Other Modules ===
#
# Module Have
# ------------- ----------
# JSON::PP 2.27400_02
# Pod::Coverage 0.23
# Sub::Name 0.21
# YAML 1.23
# autodie 2.29
#
t/00-report-prereqs.t ........... ok
# git version 1.8.3.1
t/000-report-git-version.t ...... ok
t/check.t ....................... ok
t/commit-build-custom.t ......... ok
t/commit-build-src-as-parent.t .. ok
t/commit-build.t ................ ok
t/commit-dirtydir.t ............. ok
t/commit-message.t .............. ok
t/commit-utf8.t ................. ok
t/commit-ws.t ................... ok
t/commit.t ...................... ok
t/gatherdir-multi.t ............. ok
t/gatherdir.t ................... ok
t/push-gitconfig.t .............. ok
t/push-multi.t .................. ok
t/push.t ........................ ok
t/repo-dir.t .................... ok
t/tag-signed.t .................. ok
t/tag.t ......................... ok
t/version-by-branch.t ........... ok
t/version-default.t ............. ok
t/version-extraction.t .......... ok
t/version-regexp.t .............. ok
t/zzz-check-breaks.t ............ ok
All tests successful.
Files=24, Tests=206, 38 wallclock secs ( 0.13 usr 0.04 sys + 32.56 cusr 5.53 csys = 38.26 CPU)
Result: PASS
------------------------------
PREREQUISITES
------------------------------
Prerequisite modules loaded:
requires:
Module Need Have
---------------------------------- -------- --------
constant 0 1.33
Cwd 0 3.67
DateTime 0 1.42
Dist::Zilla 4 6.009
Dist::Zilla::Plugin::GatherDir 4.200016 6.009
Dist::Zilla::Role::AfterBuild 0 6.009
Dist::Zilla::Role::AfterMint 0 6.009
Dist::Zilla::Role::AfterRelease 0 6.009
Dist::Zilla::Role::BeforeRelease 0 6.009
Dist::Zilla::Role::FilePruner 0 6.009
Dist::Zilla::Role::GitConfig 0 0.92
Dist::Zilla::Role::PluginBundle 0 6.009
Dist::Zilla::Role::VersionProvider 0 6.009
File::chdir 0 0.1010
File::HomeDir 0.81 1.002
File::Spec::Functions 0 3.67
File::Temp 0 0.2304
Git::Wrapper 0.021 0.047
IPC::Open3 0 1.20
IPC::System::Simple 0 1.25
List::Util 1.45 1.46_02
Module::Runtime 0 0.014
Moose 0 2.2005
Moose::Role 0 2.2005
Moose::Util::TypeConstraints 0 2.2005
MooseX::Has::Sugar 0 1.000006
MooseX::Types::Moose 0 0.50
MooseX::Types::Path::Tiny 0.010 0.012
namespace::autoclean 0.09 0.28
Path::Tiny 0.048 0.104
perl 5.010 5.026000
strict 0 1.11
String::Formatter 0 0.102084
Try::Tiny 0 0.28
version 0.80 0.9917
Version::Next 0 1.000
warnings 0 1.37
build_requires:
Module Need Have
---------------------------------- -------- --------
CPAN::Meta::Check 0.011 0.014
CPAN::Meta::Requirements 0 2.140
Devel::SimpleTrace 0 0.08
Dist::Zilla::File::InMemory 0 6.009
Dist::Zilla::Plugin::Config::Git 0 0.92
Dist::Zilla::Role::Releaser 0 6.009
Dist::Zilla::Tester 0 6.009
Encode 0 2.88
Exporter 0 5.72
ExtUtils::MakeMaker 0 7.24
File::Copy 0 2.32
File::Copy::Recursive 0 0.38
File::Path 2.07 2.12_01
File::pushd 0 1.014
File::Spec 0 3.67
File::Which 0 1.21
lib 0 0.64
Log::Dispatchouli 0 2.015
Test::DZil 0 6.009
Test::Fatal 0 0.014
Test::More 0.88 1.302073
utf8 0 1.19
configure_requires:
Module Need Have
---------------------------------- -------- --------
ExtUtils::MakeMaker 0 7.24
perl 5.010 5.026000
Text::ParseWords 0 3.30
version 0 0.9917
------------------------------
ENVIRONMENT AND OTHER CONTEXT
------------------------------
Environment variables:
LANG = de_DE.UTF-8
PATH = /usr/local/bin:/usr/bin:/bin:/usr/local/sbin:/usr/sbin:/sbin:/home/cpansand/bin/linux-gnu:/home/cpansand/bin/sh:/home/cpansand/bin:/usr/games:/home/cpansand/devel:/home/eserte/src/srezic-misc/scripts
PERL5LIB =
PERL5OPT =
PERL5_CPANPLUS_IS_RUNNING = 27185
PERL5_CPAN_IS_RUNNING = 27185
PERL5_CPAN_IS_RUNNING_IN_RECURSION = 25613,27185
PERLDOC = -MPod::Perldoc::ToTextOverstrike
PERL_BATCH = yes
PERL_CANARY_STABILITY_NOPROMPT = 1
PERL_CPAN_REPORTER_CONFIG = /var/tmp/cpansmoker-1002/2017051721/cpanreporter_000_config.ini
PERL_EXTUTILS_AUTOINSTALL = --defaultdeps
PERL_USE_UNSAFE_INC = 1
SHELL = /bin/zsh
TERM = screen
TMPDIR = /var/tmp/cpansmoker-1002/2017051721
Perl special variables (and OS-specific diagnostics, for MSWin32):
$^X = /opt/perl-5.26.0-RC1t/bin/perl
$UID/$EUID = 1002 / 1002
$GID = 1002 1002
$EGID = 1002 1002
Perl module toolchain versions installed:
Module Have
------------------- ----------
CPAN 2.18
CPAN::Meta 2.150010
Cwd 3.67
ExtUtils::CBuilder 0.280225
ExtUtils::Command 7.24
ExtUtils::Install 2.04
ExtUtils::MakeMaker 7.24
ExtUtils::Manifest 1.70
ExtUtils::ParseXS 3.34
File::Spec 3.67
JSON 2.92
JSON::PP 2.27400_02
Module::Build 0.4222
Module::Signature 0.81
Parse::CPAN::Meta 2.150010
Test::Harness 3.38
Test::More 1.302073
YAML 1.23
YAML::Syck 1.30
version 0.9917
--
Summary of my perl5 (revision 5 version 26 subversion 0) configuration:
Platform:
osname=linux
osvers=3.10.0-514.16.1.el7.x86_64
archname=x86_64-linux-thread-multi
uname='linux prod5 3.10.0-514.16.1.el7.x86_64 #1 smp wed apr 12 15:04:24 utc 2017 x86_64 x86_64 x86_64 gnulinux '
config_args='-ds -e -Dprefix=/opt/perl-5.26.0-RC1t -Dusethreads -Dcf_email=srezic@cpan.org'
hint=recommended
useposix=true
d_sigaction=define
useithreads=define
usemultiplicity=define
use64bitint=define
use64bitall=define
uselongdouble=undef
usemymalloc=n
default_inc_excludes_dot=define
bincompat5005=undef
Compiler:
cc='cc'
ccflags ='-D_REENTRANT -D_GNU_SOURCE -fwrapv -fno-strict-aliasing -pipe -fstack-protector-strong -I/usr/local/include -D_LARGEFILE_SOURCE -D_FILE_OFFSET_BITS=64 -D_FORTIFY_SOURCE=2'
optimize='-O2'
cppflags='-D_REENTRANT -D_GNU_SOURCE -fwrapv -fno-strict-aliasing -pipe -fstack-protector-strong -I/usr/local/include'
ccversion=''
gccversion='4.8.5 20150623 (Red Hat 4.8.5-11)'
gccosandvers=''
intsize=4
longsize=8
ptrsize=8
doublesize=8
byteorder=12345678
doublekind=3
d_longlong=define
longlongsize=8
d_longdbl=define
longdblsize=16
longdblkind=3
ivtype='long'
ivsize=8
nvtype='double'
nvsize=8
Off_t='off_t'
lseeksize=8
alignbytes=8
prototype=define
Linker and Libraries:
ld='cc'
ldflags =' -fstack-protector-strong -L/usr/local/lib'
libpth=/usr/local/lib /usr/lib /lib/../lib64 /usr/lib/../lib64 /lib /lib64 /usr/lib64 /usr/local/lib64
libs=-lpthread -lnsl -lgdbm -ldb -ldl -lm -lcrypt -lutil -lc -lgdbm_compat
perllibs=-lpthread -lnsl -ldl -lm -lcrypt -lutil -lc
libc=libc-2.17.so
so=so
useshrplib=false
libperl=libperl.a
gnulibc_version='2.17'
Dynamic Linking:
dlsrc=dl_dlopen.xs
dlext=so
d_dlsymun=undef
ccdlflags='-Wl,-E'
cccdlflags='-fPIC'
lddlflags='-shared -O2 -L/usr/local/lib -fstack-protector-strong'
Characteristics of this binary (from libperl):
Compile-time options:
HAS_TIMES
MULTIPLICITY
PERLIO_LAYERS
PERL_COPY_ON_WRITE
PERL_DONT_CREATE_GVSV
PERL_IMPLICIT_CONTEXT
PERL_MALLOC_WRAP
PERL_OP_PARENT
PERL_PRESERVE_IVUV
USE_64_BIT_ALL
USE_64_BIT_INT
USE_ITHREADS
USE_LARGE_FILES
USE_LOCALE
USE_LOCALE_COLLATE
USE_LOCALE_CTYPE
USE_LOCALE_NUMERIC
USE_LOCALE_TIME
USE_PERLIO
USE_PERL_ATOF
USE_REENTRANT_API
Locally applied patches:
RC1
Built under linux
Compiled at May 17 2017 20:33:58
%ENV:
PERL5LIB=""
PERL5OPT=""
PERL5_CPANPLUS_IS_RUNNING="27185"
PERL5_CPAN_IS_RUNNING="27185"
PERL5_CPAN_IS_RUNNING_IN_RECURSION="25613,27185"
PERLDOC="-MPod::Perldoc::ToTextOverstrike"
PERL_BATCH="yes"
PERL_CANARY_STABILITY_NOPROMPT="1"
PERL_CPAN_REPORTER_CONFIG="/var/tmp/cpansmoker-1002/2017051721/cpanreporter_000_config.ini"
PERL_EXTUTILS_AUTOINSTALL="--defaultdeps"
PERL_USE_UNSAFE_INC="1"
@INC:
/opt/perl-5.26.0-RC1t/lib/site_perl/5.26.0/x86_64-linux-thread-multi
/opt/perl-5.26.0-RC1t/lib/site_perl/5.26.0
/opt/perl-5.26.0-RC1t/lib/5.26.0/x86_64-linux-thread-multi
/opt/perl-5.26.0-RC1t/lib/5.26.0
.