App-Phoebe v4.07 Perl 5 v5.39.9 x86_64-linux-thread-multi
- Status
- Pass
- From
- Andreas J. König (ANDK)
- Dist
-
App-Phoebe v4.07
- Platform
- Perl 5 v5.39.9 x86_64-linux-thread-multi
- Date
- 2024-04-10 09:12:14
- ID
- 6bcbd122-f71a-11ee-b8b6-61d8dfe8b9d6
This distribution has been tested as part of the CPAN Testers
project, supporting the Perl programming language. See
http://wiki.cpantesters.org/ for more information or email
questions to cpan-testers-discuss@perl.org
--
Dear Alex Schroeder,
This is a computer-generated report for App-Phoebe-4.07
on perl 5.39.9, created by CPAN-Reporter-1.2019.
Thank you for uploading your work to CPAN. Congratulations!
All tests were successful.
Sections of this report:
* Tester comments
* Program output
* Prerequisites
* Environment and other context
------------------------------
TESTER COMMENTS
------------------------------
Additional comments from tester:
this report is from an automated smoke testing program
and was not reviewed by a human for accuracy
------------------------------
PROGRAM OUTPUT
------------------------------
Output from '/usr/bin/make test':
PERL_DL_NONLAZY=1 "/tmp/basesmoker-reloperl-Bmzm/bin/perl" "-MExtUtils::Command::MM" "-MTest::Harness" "-e" "undef *Test::Harness::Switches; test_harness(0, 'blib/lib', 'blib/arch')" t/*.t
t/00_tls_check.t ..................... ok
t/archive-spaces.t ................... ok
t/archive.t .......................... ok
t/basics.t ........................... ok
t/BlockFediverse.t ................... ok
t/Capsules.t ......................... skipped: This is an author test. Set $ENV{TEST_AUTHOR} to a true value to run.
t/Chat.t ............................. ok
t/Comments.t ......................... ok
t/Css.t .............................. ok
t/DebugIpNumbers.t ................... ok
t/encoding.t ......................... ok
t/example-capsules-only.t ............ ok
t/example-dark-mode.t ................ ok
t/example-footer.t ................... ok
t/example-footer2.t .................. ok
t/example-new-action.t ............... ok
t/example-registered-editors-only.t .. skipped: This is an author test. Set $ENV{TEST_AUTHOR} to a true value to run.
t/example-route.t .................... ok
t/Favicon.t .......................... ok
t/Galleries.t ........................ skipped: This is an author test. Set $ENV{TEST_AUTHOR} to a true value to run.
t/gemini-diagnostics.t ............... skipped: Diagnostics are an author test that cannot succeed, unfortunately. Set $ENV{TEST_AUTHOR} to "2" to run it anyway.
t/Gopher.t ........................... skipped: This is an author test. Set $ENV{TEST_AUTHOR} to a true value to run.
t/HeapDump.t ......................... skipped: This is an author test. Set $ENV{TEST_AUTHOR} to a true value to run.
t/html-spaces.t ...................... ok
t/Iapetus.t .......................... ok
t/Ijirait.t .......................... ok
t/locks.t ............................ ok
t/meta.t ............................. ok
t/MokuPona.t ......................... skipped: This is an author test. Set $ENV{TEST_AUTHOR} to a true value to run.
t/oddmuse-gopher.t ................... skipped: This is an author test. Set $ENV{TEST_AUTHOR} to a true value to run.
t/Oddmuse.t .......................... skipped: This is an author test. Set $ENV{TEST_AUTHOR} to a true value to run.
t/Oracle.t ........................... skipped: This is an author test. Set $ENV{TEST_AUTHOR} to a true value to run.
t/PageHeadings.t ..................... ok
t/RegisteredEditorsOnly.t ............ skipped: This is an author test. Set $ENV{TEST_AUTHOR} to a true value to run.
t/spaces.t ........................... ok
t/Spartan.t .......................... skipped: This is an author test. Set $ENV{TEST_AUTHOR} to a true value to run.
t/SpeedBump.t ........................ skipped: This is an author test. Set $ENV{TEST_AUTHOR} to a true value to run.
t/StaticFiles.t ...................... ok
t/TokiPona.t ......................... skipped: This is an author test. Set $ENV{TEST_AUTHOR} to a true value to run.
t/virtual-hosting.t .................. ok
t/Web.t .............................. ok
t/WebComments.t ...................... ok
t/WebDAV.t ........................... skipped: This is an author test. Set $ENV{TEST_AUTHOR} to a true value to run.
t/WebEdit.t .......................... ok
t/WebStaticFiles.t ................... ok
t/Wikipedia.t ........................ skipped: This is an author test. Set $ENV{TEST_AUTHOR} to a true value to run.
All tests successful.
Files=46, Tests=595, 47 wallclock secs ( 0.17 usr 0.05 sys + 13.19 cusr 1.80 csys = 15.21 CPU)
Result: PASS
------------------------------
PREREQUISITES
------------------------------
Prerequisite modules loaded:
requires:
Module Need Have
--------------------- ---------- ----------
Algorithm::Diff 0 1.201
Encode::Locale 0 1.05
File::MimeInfo 0 0.34
File::MimeInfo::Magic 0 0.34
File::ReadBackwards 0 1.06
File::Slurper 0 0.014
HTTP::Date 0 6.06
IO::Scalar 0 2.113
IO::Socket::SSL 2.069 2.085
IRI 0 0.011
Modern::Perl 1.20180701 1.20240115
Mojolicious 9 9.36
Net::IDN::Encode 0 2.500
Net::SSLeay 1.9 1.94
perl 5.026000 5.039009
Text::Wrapper 0 1.05
URI::Escape 0 5.28
XML::LibXML 0 2.0210
build_requires:
Module Need Have
--------------------- ---------- ----------
ExtUtils::MakeMaker 0 7.70
configure_requires:
Module Need Have
--------------------- ---------- ----------
ExtUtils::MakeMaker 0 7.70
------------------------------
ENVIRONMENT AND OTHER CONTEXT
------------------------------
Environment variables:
AUTOMATED_TESTING = 1
LANG = en_US.UTF-8
PATH = /home/sand/bin:/usr/local/bin:/usr/local/sbin:/usr/sbin:/usr/bin:/sbin:/bin:/usr/games:/usr/local/games:/snap/bin:/usr/local/perl/bin:/usr/X11/bin
PERL = /tmp/basesmoker-reloperl-Bmzm/bin/perl
PERL5LIB = /tmp/loop_over_bdir-2793-lmliEZ/Dpkg-1.22.6-0/blib/arch:/tmp/loop_over_bdir-2793-lmliEZ/Dpkg-1.22.6-0/blib/lib:/tmp/loop_over_bdir-2793-lmliEZ/perl-Hardware-UPS-Perl-0.43-0/blib/arch:/tmp/loop_over_bdir-2793-lmliEZ/perl-Hardware-UPS-Perl-0.43-0/blib/lib:/tmp/loop_over_bdir-2793-lmliEZ/Lingua-YaTeA-0.626-0/blib/arch:/tmp/loop_over_bdir-2793-lmliEZ/Lingua-YaTeA-0.626-0/blib/lib:/tmp/loop_over_bdir-2793-lmliEZ/mmds-1.902-0/blib/arch:/tmp/loop_over_bdir-2793-lmliEZ/mmds-1.902-0/blib/lib
PERL5OPT =
PERL5_CPANPLUS_IS_RUNNING = 2803
PERL5_CPAN_IS_RUNNING = 2803
PERL_CANARY_STABILITY_NOPROMPT = 1
PERL_MM_USE_DEFAULT = 1
PERL_USE_UNSAFE_INC = 1
SHELL = /usr/bin/zsh
TERM = screen
Perl special variables (and OS-specific diagnostics, for MSWin32):
$^X = /tmp/basesmoker-reloperl-Bmzm/bin/perl
$UID/$EUID = 1005 / 1005
$GID = 1005 1005
$EGID = 1005 1005
Perl module toolchain versions installed:
Module Have
------------------- --------
CPAN 2.36
CPAN::Meta 2.150010
Cwd 3.90
ExtUtils::CBuilder 0.280240
ExtUtils::Command 7.70
ExtUtils::Install 2.22
ExtUtils::MakeMaker 7.70
ExtUtils::Manifest 1.75
ExtUtils::ParseXS 3.51
File::Spec 3.90
JSON 4.10
JSON::PP 4.16
Module::Build 0.4234
Module::Signature 0.88
Parse::CPAN::Meta 2.150010
Test2 1.302198
Test::Harness 3.48
Test::More 1.302198
YAML 1.31
YAML::Syck 1.34
version 0.9930
--
Summary of my perl5 (revision 5 version 39 subversion 9) configuration:
Commit id: 824a7e0bf8052e62e6913c5fb807a6a8331a2d81
Platform:
osname=linux
osvers=5.4.0-173-generic
archname=x86_64-linux-thread-multi
uname='linux k93focal 5.4.0-173-generic #191-ubuntu smp fri feb 2 13:55:07 utc 2024 x86_64 x86_64 x86_64 gnulinux '
config_args='-Dprefix=/home/sand/src/perl/repoperls/installed-perls/host/k93focal/v5.39.9/d119 -Dmyhostname=k93focal -Dinstallusrbinperl=n -Uversiononly -Dusedevel -des -Ui_db -Dlibswanted=cl pthread socket inet nsl gdbm dbm malloc dl ld sun m crypt sec util c cposix posix ucb BSD gdbm_compat -Duseithreads -Uuselongdouble -DEBUGGING=both'
hint=recommended
useposix=true
d_sigaction=define
useithreads=define
usemultiplicity=define
use64bitint=define
use64bitall=define
uselongdouble=undef
usemymalloc=n
default_inc_excludes_dot=define
Compiler:
cc='cc'
ccflags ='-D_REENTRANT -D_GNU_SOURCE -fwrapv -DDEBUGGING -fno-strict-aliasing -pipe -fstack-protector-strong -I/usr/local/include -D_LARGEFILE_SOURCE -D_FILE_OFFSET_BITS=64'
optimize='-O2 -g'
cppflags='-D_REENTRANT -D_GNU_SOURCE -fwrapv -DDEBUGGING -fno-strict-aliasing -pipe -fstack-protector-strong -I/usr/local/include'
ccversion=''
gccversion='9.4.0'
gccosandvers=''
intsize=4
longsize=8
ptrsize=8
doublesize=8
byteorder=12345678
doublekind=3
d_longlong=define
longlongsize=8
d_longdbl=define
longdblsize=16
longdblkind=3
ivtype='long'
ivsize=8
nvtype='double'
nvsize=8
Off_t='off_t'
lseeksize=8
alignbytes=8
prototype=define
Linker and Libraries:
ld='cc'
ldflags =' -fstack-protector-strong -L/usr/local/lib'
libpth=/usr/local/lib /usr/lib/x86_64-linux-gnu /usr/lib /usr/lib64
libs=-lpthread -lnsl -ldl -lm -lcrypt -lutil -lc
perllibs=-lpthread -lnsl -ldl -lm -lcrypt -lutil -lc
libc=libc-2.31.so
so=so
useshrplib=false
libperl=libperl.a
gnulibc_version='2.31'
Dynamic Linking:
dlsrc=dl_dlopen.xs
dlext=so
d_dlsymun=undef
ccdlflags='-Wl,-E'
cccdlflags='-fPIC'
lddlflags='-shared -O2 -g -L/usr/local/lib -fstack-protector-strong'
Characteristics of this binary (from libperl):
Compile-time options:
DEBUGGING
HAS_LONG_DOUBLE
HAS_STRTOLD
HAS_TIMES
MULTIPLICITY
PERLIO_LAYERS
PERL_COPY_ON_WRITE
PERL_DONT_CREATE_GVSV
PERL_HASH_FUNC_SIPHASH13
PERL_HASH_USE_SBOX32
PERL_MALLOC_WRAP
PERL_OP_PARENT
PERL_PRESERVE_IVUV
PERL_TRACK_MEMPOOL
PERL_USE_DEVEL
PERL_USE_SAFE_PUTENV
USE_64_BIT_ALL
USE_64_BIT_INT
USE_ITHREADS
USE_LARGE_FILES
USE_LOCALE
USE_LOCALE_COLLATE
USE_LOCALE_CTYPE
USE_LOCALE_NUMERIC
USE_LOCALE_TIME
USE_PERLIO
USE_PERL_ATOF
USE_REENTRANT_API
USE_THREAD_SAFE_LOCALE
Built under linux
Compiled at Mar 23 2024 14:34:44
%ENV:
PERL="/tmp/basesmoker-reloperl-Bmzm/bin/perl"
PERL5LIB="/tmp/loop_over_bdir-2793-lmliEZ/Dpkg-1.22.6-0/blib/arch:/tmp/loop_over_bdir-2793-lmliEZ/Dpkg-1.22.6-0/blib/lib:/tmp/loop_over_bdir-2793-lmliEZ/perl-Hardware-UPS-Perl-0.43-0/blib/arch:/tmp/loop_over_bdir-2793-lmliEZ/perl-Hardware-UPS-Perl-0.43-0/blib/lib:/tmp/loop_over_bdir-2793-lmliEZ/Lingua-YaTeA-0.626-0/blib/arch:/tmp/loop_over_bdir-2793-lmliEZ/Lingua-YaTeA-0.626-0/blib/lib:/tmp/loop_over_bdir-2793-lmliEZ/mmds-1.902-0/blib/arch:/tmp/loop_over_bdir-2793-lmliEZ/mmds-1.902-0/blib/lib"
PERL5OPT=""
PERL5_CPANPLUS_IS_RUNNING="2803"
PERL5_CPAN_IS_RUNNING="2803"
PERL_CANARY_STABILITY_NOPROMPT="1"
PERL_MM_USE_DEFAULT="1"
PERL_USE_UNSAFE_INC="1"
@INC:
/tmp/loop_over_bdir-2793-lmliEZ/Dpkg-1.22.6-0/blib/arch
/tmp/loop_over_bdir-2793-lmliEZ/Dpkg-1.22.6-0/blib/lib
/tmp/loop_over_bdir-2793-lmliEZ/perl-Hardware-UPS-Perl-0.43-0/blib/arch
/tmp/loop_over_bdir-2793-lmliEZ/perl-Hardware-UPS-Perl-0.43-0/blib/lib
/tmp/loop_over_bdir-2793-lmliEZ/Lingua-YaTeA-0.626-0/blib/arch
/tmp/loop_over_bdir-2793-lmliEZ/Lingua-YaTeA-0.626-0/blib/lib
/tmp/loop_over_bdir-2793-lmliEZ/mmds-1.902-0/blib/arch
/tmp/loop_over_bdir-2793-lmliEZ/mmds-1.902-0/blib/lib
/home/sand/src/perl/repoperls/installed-perls/host/k93focal/v5.39.9/d119/lib/site_perl/5.39.9/x86_64-linux-thread-multi
/home/sand/src/perl/repoperls/installed-perls/host/k93focal/v5.39.9/d119/lib/site_perl/5.39.9
/home/sand/src/perl/repoperls/installed-perls/host/k93focal/v5.39.9/d119/lib/5.39.9/x86_64-linux-thread-multi
/home/sand/src/perl/repoperls/installed-perls/host/k93focal/v5.39.9/d119/lib/5.39.9
.