Report for OX-View-TT-0.02

Back
From: metabase:user:30ae4450-2aae-11df-837a-5e0a49663a4f
Subject: PASS OX-View-TT-0.02 v5.14.3 
Date: 2014-03-25T17:27:14Z

This distribution has been tested as part of the CPAN Testers
project, supporting the Perl programming language.  See
http://wiki.cpantesters.org/ for more information or email
questions to cpan-testers-discuss@perl.org


--
Dear Jesse Luehrs,

This is a computer-generated report for OX-View-TT-0.02
on perl 5.14.3, created by CPAN-Reporter-1.2010_01.

Thank you for uploading your work to CPAN.  Congratulations!
All tests were successful.

Sections of this report:

    * Tester comments
    * Program output
    * Prerequisites
    * Environment and other context

------------------------------
TESTER COMMENTS
------------------------------

Additional comments from tester:

this report is from an automated smoke testing program
and was not reviewed by a human for accuracy

------------------------------
PROGRAM OUTPUT
------------------------------

Output from 'C:\strawberry5143\c\bin\dmake.exe test':

C:\strawberry5143\perl\bin\perl.exe "-MExtUtils::Command::MM" "-e" "test_harness(0, 'blib\lib', 'blib\arch')" t/*.t
Class::MOP::load_class is deprecated at C:\strawberry5143\cpan\build\Moose-2.1204-DgHf81/blib/lib/Class/MOP.pm line 73.
	Class::MOP::load_class('MooseX::Role::Parameterized::Meta::Role::Parameterized') called at C:/strawberry5143/perl/vendor/lib/MooseX/Role/Parameterized/Meta/Role/Parameterizable.pm line 60
	MooseX::Role::Parameterized::Meta::Role::Parameterizable::generate_role('MooseX::Role::Parameterized::Meta::Role::Parameterizable=HASH...', 'consumer', 'Moose::Meta::Role=HASH(0x1538d84)', 'parameters', 'HASH(0x155e334)') called at C:/strawberry5143/perl/vendor/lib/MooseX/Role/Parameterized/Meta/Role/Parameterizable.pm line 104
	MooseX::Role::Parameterized::Meta::Role::Parameterizable::apply('MooseX::Role::Parameterized::Meta::Role::Parameterizable=HASH...', 'Moose::Meta::Role=HASH(0x1538d84)') called at C:\strawberry5143\cpan\build\Moose-2.1204-DgHf81/blib/lib/Moose/Util.pm line 166
	Moose::Util::_apply_all_roles('Moose::Meta::Role=HASH(0x1538d84)', undef, 'MooseX::Getopt::GLD') called at C:\strawberry5143\cpan\build\Moose-2.1204-DgHf81/blib/lib/Moose/Util.pm line 108
	Moose::Util::apply_all_roles('Moose::Meta::Role=HASH(0x1538d84)', 'MooseX::Getopt::GLD') called at C:\strawberry5143\cpan\build\Moose-2.1204-DgHf81/blib/lib/Moose/Role.pm line 27
	Moose::Role::with('Moose::Meta::Role=HASH(0x1538d84)', 'MooseX::Getopt::GLD') called at C:\strawberry5143\cpan\build\Moose-2.1204-DgHf81/blib/lib/Moose/Exporter.pm line 405
	Moose::Role::with('MooseX::Getopt::GLD') called at C:/strawberry5143/perl/site/lib/MooseX/Getopt.pm line 14
	require MooseX/Getopt.pm called at C:/strawberry5143/perl/site/lib/MooseX/Types/Path/Class.pm line 35
	eval {...} called at C:/strawberry5143/perl/site/lib/MooseX/Types/Path/Class.pm line 35
	require MooseX/Types/Path/Class.pm called at C:\strawberry5143\cpan\build\OX-View-TT-0.02-mC6kkd\blib\lib/OX/View/TT.pm line 9
	OX::View::TT::BEGIN() called at C:/strawberry5143/perl/site/lib/MooseX/Getopt.pm line 0
	eval {...} called at C:/strawberry5143/perl/site/lib/MooseX/Getopt.pm line 0
	require OX/View/TT.pm called at -e line 1
t/00-compile.t ....... ok
Class::MOP::load_class is deprecated at C:\strawberry5143\cpan\build\Moose-2.1204-DgHf81/blib/lib/Class/MOP.pm line 73.
	Class::MOP::load_class('Plack::Component', 'HASH(0x20eb824)') called at C:/strawberry5143/perl/vendor/lib/MooseX/NonMoose/Meta/Role/Class.pm line 247
	Class::MOP::Class:::around(undef, undef, 'Plack::Component') called at C:\strawberry5143\cpan\build\Moose-2.1204-DgHf81/blib/lib/Class/MOP/Method/Wrapped.pm line 163
	Class::MOP::Method::Wrapped::__ANON__('Moose::Meta::Class::__ANON__::SERIAL::22=HASH(0x20f0284)', 'Plack::Component') called at C:\strawberry5143\cpan\build\Moose-2.1204-DgHf81/blib/lib/Class/MOP/Method/Wrapped.pm line 92
	Moose::Meta::Class::__ANON__::SERIAL::22::superclasses('Moose::Meta::Class::__ANON__::SERIAL::22=HASH(0x20f0284)', 'Plack::Component') called at C:\strawberry5143\cpan\build\Moose-2.1204-DgHf81/blib/lib/Moose.pm line 56
	Moose::extends('Moose::Meta::Class::__ANON__::SERIAL::22=HASH(0x20f0284)', 'Plack::Component') called at C:\strawberry5143\cpan\build\Moose-2.1204-DgHf81/blib/lib/Moose/Exporter.pm line 405
	Moose::extends('Plack::Component') called at C:\strawberry5143\cpan\build\Plack-App-Path-Router-0.05-x3oVQE/blib/lib/Plack/App/Path/Router/Custom.pm line 12
	require Plack/App/Path/Router/Custom.pm called at C:\strawberry5143\cpan\build\OX-0.13-YaDF_K/blib/lib/OX/Application/Role/Router/Path/Router.pm line 12
	OX::Application::Role::Router::Path::Router::BEGIN() called at C:\strawberry5143\cpan\build\Plack-App-Path-Router-0.05-x3oVQE/blib/lib/Plack/App/Path/Router/Custom.pm line 0
	eval {...} called at C:\strawberry5143\cpan\build\Plack-App-Path-Router-0.05-x3oVQE/blib/lib/Plack/App/Path/Router/Custom.pm line 0
	require OX/Application/Role/Router/Path/Router.pm called at C:\strawberry5143\cpan\build\Module-Runtime-0.014-yrwEsP/blib/lib/Module/Runtime.pm line 317
	Module::Runtime::require_module('OX::Application::Role::Router::Path::Router') called at C:\strawberry5143\cpan\build\Module-Runtime-0.014-yrwEsP/blib/lib/Module/Runtime.pm line 348
	Module::Runtime::use_module('OX::Application::Role::Router::Path::Router') called at C:\strawberry5143\cpan\build\Moose-2.1204-DgHf81/blib/lib/Moose/Util.pm line 141
	Moose::Util::_apply_all_roles('Moose::Meta::Class=HASH(0x1fe175c)', undef, 'OX::Application::Role::Router::Path::Router', 'OX::Application::Role::RouteBuilder', 'OX::Application::Role::Sugar', 'Bread::Board::Declare::Role::Object') called at C:\strawberry5143\cpan\build\Moose-2.1204-DgHf81/blib/lib/Moose/Util.pm line 108
	Moose::Util::apply_all_roles('Moose::Meta::Class=HASH(0x1fe175c)', 'OX::Application::Role::Router::Path::Router', 'OX::Application::Role::RouteBuilder', 'OX::Application::Role::Sugar', 'Bread::Board::Declare::Role::Object') called at C:\strawberry5143\cpan\build\Moose-2.1204-DgHf81/blib/lib/Moose/Meta/Class.pm line 93
	Moose::Meta::Class::create('Moose::Meta::Class', 'Moose::Meta::Class::__ANON__::SERIAL::21', 'roles', 'ARRAY(0x1174104)', 'weaken', '', 'superclasses', 'ARRAY(0x1fe14bc)') called at C:\strawberry5143\cpan\build\Moose-2.1204-DgHf81/blib/lib/Class/MOP/Package.pm line 126
	Class::MOP::Package::create_anon('Moose::Meta::Class', 'superclasses', 'ARRAY(0x1fe14bc)', 'roles', 'ARRAY(0x1174104)', 'cache', 1) called at C:\strawberry5143\cpan\build\Moose-2.1204-DgHf81/blib/lib/Class/MOP/Class.pm line 475
	Class::MOP::Class::create_anon_class('Moose::Meta::Class', 'superclasses', 'ARRAY(0x1fe14bc)', 'roles', 'ARRAY(0x1174104)', 'cache', 1) called at C:\strawberry5143\cpan\build\Moose-2.1204-DgHf81/blib/lib/Moose/Util/MetaRole.pm line 113
	Moose::Util::MetaRole::_make_new_class('Foo', 'ARRAY(0x1174104)', 'ARRAY(0x1fe14bc)') called at C:\strawberry5143\cpan\build\Moose-2.1204-DgHf81/blib/lib/Moose/Util/MetaRole.pm line 90
	Moose::Util::MetaRole::apply_base_class_roles('for', 'Moose::Meta::Class=HASH(0x16302dc)', 'roles', 'ARRAY(0x1174104)') called at C:\strawberry5143\cpan\build\Moose-2.1204-DgHf81/blib/lib/Moose/Exporter.pm line 570
	Moose::Exporter::_apply_metaroles('Plack::App::Path::Router::Custom', 'ARRAY(0x16300ac)', 'CODE(0xee07fc)') called at C:\strawberry5143\cpan\build\Moose-2.1204-DgHf81/blib/lib/Moose/Exporter.pm line 483
	Moose::Exporter::__ANON__('OX') called at t/array_parameter.t line 35
	Foo::BEGIN() called at C:\strawberry5143\cpan\build\Plack-App-Path-Router-0.05-x3oVQE/blib/lib/Plack/App/Path/Router/Custom.pm line 0
	eval {...} called at C:\strawberry5143\cpan\build\Plack-App-Path-Router-0.05-x3oVQE/blib/lib/Plack/App/Path/Router/Custom.pm line 0
Class::MOP::load_class is deprecated at C:\strawberry5143\cpan\build\Moose-2.1204-DgHf81/blib/lib/Class/MOP.pm line 73.
	Class::MOP::load_class('MooseX::Role::Parameterized::Meta::Role::Parameterized') called at C:/strawberry5143/perl/vendor/lib/MooseX/Role/Parameterized/Meta/Role/Parameterizable.pm line 60
	MooseX::Role::Parameterized::Meta::Role::Parameterizable::generate_role('MooseX::Role::Parameterized::Meta::Role::Parameterizable=HASH...', 'consumer', 'Moose::Meta::Role=HASH(0x22263dc)', 'parameters', 'HASH(0x226e27c)') called at C:/strawberry5143/perl/vendor/lib/MooseX/Role/Parameterized/Meta/Role/Parameterizable.pm line 104
	MooseX::Role::Parameterized::Meta::Role::Parameterizable::apply('MooseX::Role::Parameterized::Meta::Role::Parameterizable=HASH...', 'Moose::Meta::Role=HASH(0x22263dc)') called at C:\strawberry5143\cpan\build\Moose-2.1204-DgHf81/blib/lib/Moose/Util.pm line 166
	Moose::Util::_apply_all_roles('Moose::Meta::Role=HASH(0x22263dc)', undef, 'MooseX::Getopt::GLD') called at C:\strawberry5143\cpan\build\Moose-2.1204-DgHf81/blib/lib/Moose/Util.pm line 108
	Moose::Util::apply_all_roles('Moose::Meta::Role=HASH(0x22263dc)', 'MooseX::Getopt::GLD') called at C:\strawberry5143\cpan\build\Moose-2.1204-DgHf81/blib/lib/Moose/Role.pm line 27
	Moose::Role::with('Moose::Meta::Role=HASH(0x22263dc)', 'MooseX::Getopt::GLD') called at C:\strawberry5143\cpan\build\Moose-2.1204-DgHf81/blib/lib/Moose/Exporter.pm line 405
	Moose::Role::with('MooseX::Getopt::GLD') called at C:/strawberry5143/perl/site/lib/MooseX/Getopt.pm line 14
	require MooseX/Getopt.pm called at C:/strawberry5143/perl/site/lib/MooseX/Types/Path/Class.pm line 35
	eval {...} called at C:/strawberry5143/perl/site/lib/MooseX/Types/Path/Class.pm line 35
	require MooseX/Types/Path/Class.pm called at C:\strawberry5143\cpan\build\OX-View-TT-0.02-mC6kkd\blib\lib/OX/View/TT.pm line 9
	OX::View::TT::BEGIN() called at C:/strawberry5143/perl/site/lib/MooseX/Getopt.pm line 0
	eval {...} called at C:/strawberry5143/perl/site/lib/MooseX/Getopt.pm line 0
	require OX/View/TT.pm called at C:\strawberry5143\cpan\build\Module-Runtime-0.014-yrwEsP/blib/lib/Module/Runtime.pm line 317
	Module::Runtime::require_module('OX::View::TT') called at C:/strawberry5143/perl/vendor/lib/Class/Load.pm line 177
	Class::Load::__ANON__() called at C:/strawberry5143/perl/vendor/lib/Try/Tiny.pm line 71
	eval {...} called at C:/strawberry5143/perl/vendor/lib/Try/Tiny.pm line 67
	Try::Tiny::try('CODE(0x217cb74)', 'Try::Tiny::Catch=REF(0x21a9edc)') called at C:/strawberry5143/perl/vendor/lib/Class/Load.pm line 183
	Class::Load::try_load_class('OX::View::TT', undef) called at C:/strawberry5143/perl/vendor/lib/Class/Load.pm line 38
	Class::Load::load_class('OX::View::TT') called at C:\strawberry5143\cpan\build\Bread-Board-Declare-0.16-FHE2x5/blib/lib/Bread/Board/Declare/Meta/Role/Attribute/Service.pm line 118
	Class::MOP::Class:::after('Moose::Meta::Class::__ANON__::SERIAL::24=HASH(0x21a1cd4)', 'Moose::Meta::Class::__ANON__::SERIAL::13=HASH(0x1fe14ac)') called at C:\strawberry5143\cpan\build\Moose-2.1204-DgHf81/blib/lib/Class/MOP/Method/Wrapped.pm line 61
	Class::MOP::Method::Wrapped::__ANON__('Moose::Meta::Class::__ANON__::SERIAL::24=HASH(0x21a1cd4)', 'Moose::Meta::Class::__ANON__::SERIAL::13=HASH(0x1fe14ac)') called at C:\strawberry5143\cpan\build\Moose-2.1204-DgHf81/blib/lib/Class/MOP/Method/Wrapped.pm line 92
	Moose::Meta::Class::__ANON__::SERIAL::24::attach_to_class('Moose::Meta::Class::__ANON__::SERIAL::24=HASH(0x21a1cd4)', 'Moose::Meta::Class::__ANON__::SERIAL::13=HASH(0x1fe14ac)') called at C:\strawberry5143\cpan\build\Moose-2.1204-DgHf81/blib/lib/Class/MOP/Class.pm line 889
	Class::MOP::Class::_attach_attribute('Moose::Meta::Class::__ANON__::SERIAL::13=HASH(0x1fe14ac)', 'Moose::Meta::Class::__ANON__::SERIAL::24=HASH(0x21a1cd4)') called at C:\strawberry5143\cpan\build\Moose-2.1204-DgHf81/blib/lib/Class/MOP/Mixin/HasAttributes.pm line 26
	Class::MOP::Mixin::HasAttributes::add_attribute('Moose::Meta::Class::__ANON__::SERIAL::13=HASH(0x1fe14ac)', 'Moose::Meta::Class::__ANON__::SERIAL::24=HASH(0x21a1cd4)') called at C:\strawberry5143\cpan\build\Moose-2.1204-DgHf81/blib/lib/Moose/Meta/Class.pm line 577
	Moose::Meta::Class::add_attribute('Moose::Meta::Class::__ANON__::SERIAL::13=HASH(0x1fe14ac)', 'view', 'definition_context', 'HASH(0x99ce2c)', 'is', 'ro', 'isa', 'OX::View::TT', 'dependencies', ...) called at C:\strawberry5143\cpan\build\Moose-2.1204-DgHf81/blib/lib/Moose.pm line 77
	Moose::has('Moose::Meta::Class::__ANON__::SERIAL::13=HASH(0x1fe14ac)', 'view', 'is', 'ro', 'isa', 'OX::View::TT', 'dependencies', 'ARRAY(0x3fa00c)') called at C:\strawberry5143\cpan\build\Moose-2.1204-DgHf81/blib/lib/Moose/Exporter.pm line 405
	Moose::has('view', 'is', 'ro', 'isa', 'OX::View::TT', 'dependencies', 'ARRAY(0x3fa00c)') called at t/array_parameter.t line 57
t/array_parameter.t .. ok
Class::MOP::load_class is deprecated at C:\strawberry5143\cpan\build\Moose-2.1204-DgHf81/blib/lib/Class/MOP.pm line 73.
	Class::MOP::load_class('Plack::Component', 'HASH(0x20eb5dc)') called at C:/strawberry5143/perl/vendor/lib/MooseX/NonMoose/Meta/Role/Class.pm line 247
	Class::MOP::Class:::around(undef, undef, 'Plack::Component') called at C:\strawberry5143\cpan\build\Moose-2.1204-DgHf81/blib/lib/Class/MOP/Method/Wrapped.pm line 163
	Class::MOP::Method::Wrapped::__ANON__('Moose::Meta::Class::__ANON__::SERIAL::22=HASH(0x20f005c)', 'Plack::Component') called at C:\strawberry5143\cpan\build\Moose-2.1204-DgHf81/blib/lib/Class/MOP/Method/Wrapped.pm line 92
	Moose::Meta::Class::__ANON__::SERIAL::22::superclasses('Moose::Meta::Class::__ANON__::SERIAL::22=HASH(0x20f005c)', 'Plack::Component') called at C:\strawberry5143\cpan\build\Moose-2.1204-DgHf81/blib/lib/Moose.pm line 56
	Moose::extends('Moose::Meta::Class::__ANON__::SERIAL::22=HASH(0x20f005c)', 'Plack::Component') called at C:\strawberry5143\cpan\build\Moose-2.1204-DgHf81/blib/lib/Moose/Exporter.pm line 405
	Moose::extends('Plack::Component') called at C:\strawberry5143\cpan\build\Plack-App-Path-Router-0.05-x3oVQE/blib/lib/Plack/App/Path/Router/Custom.pm line 12
	require Plack/App/Path/Router/Custom.pm called at C:\strawberry5143\cpan\build\OX-0.13-YaDF_K/blib/lib/OX/Application/Role/Router/Path/Router.pm line 12
	OX::Application::Role::Router::Path::Router::BEGIN() called at C:\strawberry5143\cpan\build\Plack-App-Path-Router-0.05-x3oVQE/blib/lib/Plack/App/Path/Router/Custom.pm line 0
	eval {...} called at C:\strawberry5143\cpan\build\Plack-App-Path-Router-0.05-x3oVQE/blib/lib/Plack/App/Path/Router/Custom.pm line 0
	require OX/Application/Role/Router/Path/Router.pm called at C:\strawberry5143\cpan\build\Module-Runtime-0.014-yrwEsP/blib/lib/Module/Runtime.pm line 317
	Module::Runtime::require_module('OX::Application::Role::Router::Path::Router') called at C:\strawberry5143\cpan\build\Module-Runtime-0.014-yrwEsP/blib/lib/Module/Runtime.pm line 348
	Module::Runtime::use_module('OX::Application::Role::Router::Path::Router') called at C:\strawberry5143\cpan\build\Moose-2.1204-DgHf81/blib/lib/Moose/Util.pm line 141
	Moose::Util::_apply_all_roles('Moose::Meta::Class=HASH(0x1fe1874)', undef, 'OX::Application::Role::Router::Path::Router', 'OX::Application::Role::RouteBuilder', 'OX::Application::Role::Sugar', 'Bread::Board::Declare::Role::Object') called at C:\strawberry5143\cpan\build\Moose-2.1204-DgHf81/blib/lib/Moose/Util.pm line 108
	Moose::Util::apply_all_roles('Moose::Meta::Class=HASH(0x1fe1874)', 'OX::Application::Role::Router::Path::Router', 'OX::Application::Role::RouteBuilder', 'OX::Application::Role::Sugar', 'Bread::Board::Declare::Role::Object') called at C:\strawberry5143\cpan\build\Moose-2.1204-DgHf81/blib/lib/Moose/Meta/Class.pm line 93
	Moose::Meta::Class::create('Moose::Meta::Class', 'Moose::Meta::Class::__ANON__::SERIAL::21', 'roles', 'ARRAY(0x117406c)', 'weaken', '', 'superclasses', 'ARRAY(0x1fe15d4)') called at C:\strawberry5143\cpan\build\Moose-2.1204-DgHf81/blib/lib/Class/MOP/Package.pm line 126
	Class::MOP::Package::create_anon('Moose::Meta::Class', 'superclasses', 'ARRAY(0x1fe15d4)', 'roles', 'ARRAY(0x117406c)', 'cache', 1) called at C:\strawberry5143\cpan\build\Moose-2.1204-DgHf81/blib/lib/Class/MOP/Class.pm line 475
	Class::MOP::Class::create_anon_class('Moose::Meta::Class', 'superclasses', 'ARRAY(0x1fe15d4)', 'roles', 'ARRAY(0x117406c)', 'cache', 1) called at C:\strawberry5143\cpan\build\Moose-2.1204-DgHf81/blib/lib/Moose/Util/MetaRole.pm line 113
	Moose::Util::MetaRole::_make_new_class('Foo', 'ARRAY(0x117406c)', 'ARRAY(0x1fe15d4)') called at C:\strawberry5143\cpan\build\Moose-2.1204-DgHf81/blib/lib/Moose/Util/MetaRole.pm line 90
	Moose::Util::MetaRole::apply_base_class_roles('for', 'Moose::Meta::Class=HASH(0x162f03c)', 'roles', 'ARRAY(0x117406c)') called at C:\strawberry5143\cpan\build\Moose-2.1204-DgHf81/blib/lib/Moose/Exporter.pm line 570
	Moose::Exporter::_apply_metaroles('Plack::App::Path::Router::Custom', 'ARRAY(0x162ee0c)', 'CODE(0x10f011c)') called at C:\strawberry5143\cpan\build\Moose-2.1204-DgHf81/blib/lib/Moose/Exporter.pm line 483
	Moose::Exporter::__ANON__('OX') called at t/basic.t line 35
	Foo::BEGIN() called at C:\strawberry5143\cpan\build\Plack-App-Path-Router-0.05-x3oVQE/blib/lib/Plack/App/Path/Router/Custom.pm line 0
	eval {...} called at C:\strawberry5143\cpan\build\Plack-App-Path-Router-0.05-x3oVQE/blib/lib/Plack/App/Path/Router/Custom.pm line 0
Class::MOP::load_class is deprecated at C:\strawberry5143\cpan\build\Moose-2.1204-DgHf81/blib/lib/Class/MOP.pm line 73.
	Class::MOP::load_class('MooseX::Role::Parameterized::Meta::Role::Parameterized') called at C:/strawberry5143/perl/vendor/lib/MooseX/Role/Parameterized/Meta/Role/Parameterizable.pm line 60
	MooseX::Role::Parameterized::Meta::Role::Parameterizable::generate_role('MooseX::Role::Parameterized::Meta::Role::Parameterizable=HASH...', 'consumer', 'Moose::Meta::Role=HASH(0x221e214)', 'parameters', 'HASH(0x2264c54)') called at C:/strawberry5143/perl/vendor/lib/MooseX/Role/Parameterized/Meta/Role/Parameterizable.pm line 104
	MooseX::Role::Parameterized::Meta::Role::Parameterizable::apply('MooseX::Role::Parameterized::Meta::Role::Parameterizable=HASH...', 'Moose::Meta::Role=HASH(0x221e214)') called at C:\strawberry5143\cpan\build\Moose-2.1204-DgHf81/blib/lib/Moose/Util.pm line 166
	Moose::Util::_apply_all_roles('Moose::Meta::Role=HASH(0x221e214)', undef, 'MooseX::Getopt::GLD') called at C:\strawberry5143\cpan\build\Moose-2.1204-DgHf81/blib/lib/Moose/Util.pm line 108
	Moose::Util::apply_all_roles('Moose::Meta::Role=HASH(0x221e214)', 'MooseX::Getopt::GLD') called at C:\strawberry5143\cpan\build\Moose-2.1204-DgHf81/blib/lib/Moose/Role.pm line 27
	Moose::Role::with('Moose::Meta::Role=HASH(0x221e214)', 'MooseX::Getopt::GLD') called at C:\strawberry5143\cpan\build\Moose-2.1204-DgHf81/blib/lib/Moose/Exporter.pm line 405
	Moose::Role::with('MooseX::Getopt::GLD') called at C:/strawberry5143/perl/site/lib/MooseX/Getopt.pm line 14
	require MooseX/Getopt.pm called at C:/strawberry5143/perl/site/lib/MooseX/Types/Path/Class.pm line 35
	eval {...} called at C:/strawberry5143/perl/site/lib/MooseX/Types/Path/Class.pm line 35
	require MooseX/Types/Path/Class.pm called at C:\strawberry5143\cpan\build\OX-View-TT-0.02-mC6kkd\blib\lib/OX/View/TT.pm line 9
	OX::View::TT::BEGIN() called at C:/strawberry5143/perl/site/lib/MooseX/Getopt.pm line 0
	eval {...} called at C:/strawberry5143/perl/site/lib/MooseX/Getopt.pm line 0
	require OX/View/TT.pm called at C:\strawberry5143\cpan\build\Module-Runtime-0.014-yrwEsP/blib/lib/Module/Runtime.pm line 317
	Module::Runtime::require_module('OX::View::TT') called at C:/strawberry5143/perl/vendor/lib/Class/Load.pm line 177
	Class::Load::__ANON__() called at C:/strawberry5143/perl/vendor/lib/Try/Tiny.pm line 71
	eval {...} called at C:/strawberry5143/perl/vendor/lib/Try/Tiny.pm line 67
	Try::Tiny::try('CODE(0x217cc7c)', 'Try::Tiny::Catch=REF(0x21a9ccc)') called at C:/strawberry5143/perl/vendor/lib/Class/Load.pm line 183
	Class::Load::try_load_class('OX::View::TT', undef) called at C:/strawberry5143/perl/vendor/lib/Class/Load.pm line 38
	Class::Load::load_class('OX::View::TT') called at C:\strawberry5143\cpan\build\Bread-Board-Declare-0.16-FHE2x5/blib/lib/Bread/Board/Declare/Meta/Role/Attribute/Service.pm line 118
	Class::MOP::Class:::after('Moose::Meta::Class::__ANON__::SERIAL::24=HASH(0x21b0ff4)', 'Moose::Meta::Class::__ANON__::SERIAL::13=HASH(0x1fe15c4)') called at C:\strawberry5143\cpan\build\Moose-2.1204-DgHf81/blib/lib/Class/MOP/Method/Wrapped.pm line 61
	Class::MOP::Method::Wrapped::__ANON__('Moose::Meta::Class::__ANON__::SERIAL::24=HASH(0x21b0ff4)', 'Moose::Meta::Class::__ANON__::SERIAL::13=HASH(0x1fe15c4)') called at C:\strawberry5143\cpan\build\Moose-2.1204-DgHf81/blib/lib/Class/MOP/Method/Wrapped.pm line 92
	Moose::Meta::Class::__ANON__::SERIAL::24::attach_to_class('Moose::Meta::Class::__ANON__::SERIAL::24=HASH(0x21b0ff4)', 'Moose::Meta::Class::__ANON__::SERIAL::13=HASH(0x1fe15c4)') called at C:\strawberry5143\cpan\build\Moose-2.1204-DgHf81/blib/lib/Class/MOP/Class.pm line 889
	Class::MOP::Class::_attach_attribute('Moose::Meta::Class::__ANON__::SERIAL::13=HASH(0x1fe15c4)', 'Moose::Meta::Class::__ANON__::SERIAL::24=HASH(0x21b0ff4)') called at C:\strawberry5143\cpan\build\Moose-2.1204-DgHf81/blib/lib/Class/MOP/Mixin/HasAttributes.pm line 26
	Class::MOP::Mixin::HasAttributes::add_attribute('Moose::Meta::Class::__ANON__::SERIAL::13=HASH(0x1fe15c4)', 'Moose::Meta::Class::__ANON__::SERIAL::24=HASH(0x21b0ff4)') called at C:\strawberry5143\cpan\build\Moose-2.1204-DgHf81/blib/lib/Moose/Meta/Class.pm line 577
	Moose::Meta::Class::add_attribute('Moose::Meta::Class::__ANON__::SERIAL::13=HASH(0x1fe15c4)', 'view', 'definition_context', 'HASH(0x99cd8c)', 'is', 'ro', 'isa', 'OX::View::TT', 'dependencies', ...) called at C:\strawberry5143\cpan\build\Moose-2.1204-DgHf81/blib/lib/Moose.pm line 77
	Moose::has('Moose::Meta::Class::__ANON__::SERIAL::13=HASH(0x1fe15c4)', 'view', 'is', 'ro', 'isa', 'OX::View::TT', 'dependencies', 'ARRAY(0x3f9fec)') called at C:\strawberry5143\cpan\build\Moose-2.1204-DgHf81/blib/lib/Moose/Exporter.pm line 405
	Moose::has('view', 'is', 'ro', 'isa', 'OX::View::TT', 'dependencies', 'ARRAY(0x3f9fec)') called at t/basic.t line 45
t/basic.t ............ ok
Class::MOP::load_class is deprecated at C:\strawberry5143\cpan\build\Moose-2.1204-DgHf81/blib/lib/Class/MOP.pm line 73.
	Class::MOP::load_class('Plack::Component', 'HASH(0x20eb40c)') called at C:/strawberry5143/perl/vendor/lib/MooseX/NonMoose/Meta/Role/Class.pm line 247
	Class::MOP::Class:::around(undef, undef, 'Plack::Component') called at C:\strawberry5143\cpan\build\Moose-2.1204-DgHf81/blib/lib/Class/MOP/Method/Wrapped.pm line 163
	Class::MOP::Method::Wrapped::__ANON__('Moose::Meta::Class::__ANON__::SERIAL::22=HASH(0x20efc24)', 'Plack::Component') called at C:\strawberry5143\cpan\build\Moose-2.1204-DgHf81/blib/lib/Class/MOP/Method/Wrapped.pm line 92
	Moose::Meta::Class::__ANON__::SERIAL::22::superclasses('Moose::Meta::Class::__ANON__::SERIAL::22=HASH(0x20efc24)', 'Plack::Component') called at C:\strawberry5143\cpan\build\Moose-2.1204-DgHf81/blib/lib/Moose.pm line 56
	Moose::extends('Moose::Meta::Class::__ANON__::SERIAL::22=HASH(0x20efc24)', 'Plack::Component') called at C:\strawberry5143\cpan\build\Moose-2.1204-DgHf81/blib/lib/Moose/Exporter.pm line 405
	Moose::extends('Plack::Component') called at C:\strawberry5143\cpan\build\Plack-App-Path-Router-0.05-x3oVQE/blib/lib/Plack/App/Path/Router/Custom.pm line 12
	require Plack/App/Path/Router/Custom.pm called at C:\strawberry5143\cpan\build\OX-0.13-YaDF_K/blib/lib/OX/Application/Role/Router/Path/Router.pm line 12
	OX::Application::Role::Router::Path::Router::BEGIN() called at C:\strawberry5143\cpan\build\Plack-App-Path-Router-0.05-x3oVQE/blib/lib/Plack/App/Path/Router/Custom.pm line 0
	eval {...} called at C:\strawberry5143\cpan\build\Plack-App-Path-Router-0.05-x3oVQE/blib/lib/Plack/App/Path/Router/Custom.pm line 0
	require OX/Application/Role/Router/Path/Router.pm called at C:\strawberry5143\cpan\build\Module-Runtime-0.014-yrwEsP/blib/lib/Module/Runtime.pm line 317
	Module::Runtime::require_module('OX::Application::Role::Router::Path::Router') called at C:\strawberry5143\cpan\build\Module-Runtime-0.014-yrwEsP/blib/lib/Module/Runtime.pm line 348
	Module::Runtime::use_module('OX::Application::Role::Router::Path::Router') called at C:\strawberry5143\cpan\build\Moose-2.1204-DgHf81/blib/lib/Moose/Util.pm line 141
	Moose::Util::_apply_all_roles('Moose::Meta::Class=HASH(0x2091dd4)', undef, 'OX::Application::Role::Router::Path::Router', 'OX::Application::Role::RouteBuilder', 'OX::Application::Role::Sugar', 'Bread::Board::Declare::Role::Object') called at C:\strawberry5143\cpan\build\Moose-2.1204-DgHf81/blib/lib/Moose/Util.pm line 108
	Moose::Util::apply_all_roles('Moose::Meta::Class=HASH(0x2091dd4)', 'OX::Application::Role::Router::Path::Router', 'OX::Application::Role::RouteBuilder', 'OX::Application::Role::Sugar', 'Bread::Board::Declare::Role::Object') called at C:\strawberry5143\cpan\build\Moose-2.1204-DgHf81/blib/lib/Moose/Meta/Class.pm line 93
	Moose::Meta::Class::create('Moose::Meta::Class', 'Moose::Meta::Class::__ANON__::SERIAL::21', 'roles', 'ARRAY(0x1173f0c)', 'weaken', '', 'superclasses', 'ARRAY(0x2091b34)') called at C:\strawberry5143\cpan\build\Moose-2.1204-DgHf81/blib/lib/Class/MOP/Package.pm line 126
	Class::MOP::Package::create_anon('Moose::Meta::Class', 'superclasses', 'ARRAY(0x2091b34)', 'roles', 'ARRAY(0x1173f0c)', 'cache', 1) called at C:\strawberry5143\cpan\build\Moose-2.1204-DgHf81/blib/lib/Class/MOP/Class.pm line 475
	Class::MOP::Class::create_anon_class('Moose::Meta::Class', 'superclasses', 'ARRAY(0x2091b34)', 'roles', 'ARRAY(0x1173f0c)', 'cache', 1) called at C:\strawberry5143\cpan\build\Moose-2.1204-DgHf81/blib/lib/Moose/Util/MetaRole.pm line 113
	Moose::Util::MetaRole::_make_new_class('Foo', 'ARRAY(0x1173f0c)', 'ARRAY(0x2091b34)') called at C:\strawberry5143\cpan\build\Moose-2.1204-DgHf81/blib/lib/Moose/Util/MetaRole.pm line 90
	Moose::Util::MetaRole::apply_base_class_roles('for', 'Moose::Meta::Class=HASH(0x1d9de44)', 'roles', 'ARRAY(0x1173f0c)') called at C:\strawberry5143\cpan\build\Moose-2.1204-DgHf81/blib/lib/Moose/Exporter.pm line 570
	Moose::Exporter::_apply_metaroles('Plack::App::Path::Router::Custom', 'ARRAY(0x1d9dc14)', 'CODE(0x10f0074)') called at C:\strawberry5143\cpan\build\Moose-2.1204-DgHf81/blib/lib/Moose/Exporter.pm line 483
	Moose::Exporter::__ANON__('OX') called at t/mapping.t line 31
	Foo::BEGIN() called at C:\strawberry5143\cpan\build\Plack-App-Path-Router-0.05-x3oVQE/blib/lib/Plack/App/Path/Router/Custom.pm line 0
	eval {...} called at C:\strawberry5143\cpan\build\Plack-App-Path-Router-0.05-x3oVQE/blib/lib/Plack/App/Path/Router/Custom.pm line 0
Class::MOP::load_class is deprecated at C:\strawberry5143\cpan\build\Moose-2.1204-DgHf81/blib/lib/Class/MOP.pm line 73.
	Class::MOP::load_class('MooseX::Role::Parameterized::Meta::Role::Parameterized') called at C:/strawberry5143/perl/vendor/lib/MooseX/Role/Parameterized/Meta/Role/Parameterizable.pm line 60
	MooseX::Role::Parameterized::Meta::Role::Parameterizable::generate_role('MooseX::Role::Parameterized::Meta::Role::Parameterizable=HASH...', 'consumer', 'Moose::Meta::Role=HASH(0x221aebc)', 'parameters', 'HASH(0x2269a3c)') called at C:/strawberry5143/perl/vendor/lib/MooseX/Role/Parameterized/Meta/Role/Parameterizable.pm line 104
	MooseX::Role::Parameterized::Meta::Role::Parameterizable::apply('MooseX::Role::Parameterized::Meta::Role::Parameterizable=HASH...', 'Moose::Meta::Role=HASH(0x221aebc)') called at C:\strawberry5143\cpan\build\Moose-2.1204-DgHf81/blib/lib/Moose/Util.pm line 166
	Moose::Util::_apply_all_roles('Moose::Meta::Role=HASH(0x221aebc)', undef, 'MooseX::Getopt::GLD') called at C:\strawberry5143\cpan\build\Moose-2.1204-DgHf81/blib/lib/Moose/Util.pm line 108
	Moose::Util::apply_all_roles('Moose::Meta::Role=HASH(0x221aebc)', 'MooseX::Getopt::GLD') called at C:\strawberry5143\cpan\build\Moose-2.1204-DgHf81/blib/lib/Moose/Role.pm line 27
	Moose::Role::with('Moose::Meta::Role=HASH(0x221aebc)', 'MooseX::Getopt::GLD') called at C:\strawberry5143\cpan\build\Moose-2.1204-DgHf81/blib/lib/Moose/Exporter.pm line 405
	Moose::Role::with('MooseX::Getopt::GLD') called at C:/strawberry5143/perl/site/lib/MooseX/Getopt.pm line 14
	require MooseX/Getopt.pm called at C:/strawberry5143/perl/site/lib/MooseX/Types/Path/Class.pm line 35
	eval {...} called at C:/strawberry5143/perl/site/lib/MooseX/Types/Path/Class.pm line 35
	require MooseX/Types/Path/Class.pm called at C:\strawberry5143\cpan\build\OX-View-TT-0.02-mC6kkd\blib\lib/OX/View/TT.pm line 9
	OX::View::TT::BEGIN() called at C:/strawberry5143/perl/site/lib/MooseX/Getopt.pm line 0
	eval {...} called at C:/strawberry5143/perl/site/lib/MooseX/Getopt.pm line 0
	require OX/View/TT.pm called at C:\strawberry5143\cpan\build\Module-Runtime-0.014-yrwEsP/blib/lib/Module/Runtime.pm line 317
	Module::Runtime::require_module('OX::View::TT') called at C:/strawberry5143/perl/vendor/lib/Class/Load.pm line 177
	Class::Load::__ANON__() called at C:/strawberry5143/perl/vendor/lib/Try/Tiny.pm line 71
	eval {...} called at C:/strawberry5143/perl/vendor/lib/Try/Tiny.pm line 67
	Try::Tiny::try('CODE(0x217a6e4)', 'Try::Tiny::Catch=REF(0x21a6f8c)') called at C:/strawberry5143/perl/vendor/lib/Class/Load.pm line 183
	Class::Load::try_load_class('OX::View::TT', undef) called at C:/strawberry5143/perl/vendor/lib/Class/Load.pm line 38
	Class::Load::load_class('OX::View::TT') called at C:\strawberry5143\cpan\build\Bread-Board-Declare-0.16-FHE2x5/blib/lib/Bread/Board/Declare/Meta/Role/Attribute/Service.pm line 118
	Class::MOP::Class:::after('Moose::Meta::Class::__ANON__::SERIAL::24=HASH(0x21b0904)', 'Moose::Meta::Class::__ANON__::SERIAL::13=HASH(0x2091b24)') called at C:\strawberry5143\cpan\build\Moose-2.1204-DgHf81/blib/lib/Class/MOP/Method/Wrapped.pm line 61
	Class::MOP::Method::Wrapped::__ANON__('Moose::Meta::Class::__ANON__::SERIAL::24=HASH(0x21b0904)', 'Moose::Meta::Class::__ANON__::SERIAL::13=HASH(0x2091b24)') called at C:\strawberry5143\cpan\build\Moose-2.1204-DgHf81/blib/lib/Class/MOP/Method/Wrapped.pm line 92
	Moose::Meta::Class::__ANON__::SERIAL::24::attach_to_class('Moose::Meta::Class::__ANON__::SERIAL::24=HASH(0x21b0904)', 'Moose::Meta::Class::__ANON__::SERIAL::13=HASH(0x2091b24)') called at C:\strawberry5143\cpan\build\Moose-2.1204-DgHf81/blib/lib/Class/MOP/Class.pm line 889
	Class::MOP::Class::_attach_attribute('Moose::Meta::Class::__ANON__::SERIAL::13=HASH(0x2091b24)', 'Moose::Meta::Class::__ANON__::SERIAL::24=HASH(0x21b0904)') called at C:\strawberry5143\cpan\build\Moose-2.1204-DgHf81/blib/lib/Class/MOP/Mixin/HasAttributes.pm line 26
	Class::MOP::Mixin::HasAttributes::add_attribute('Moose::Meta::Class::__ANON__::SERIAL::13=HASH(0x2091b24)', 'Moose::Meta::Class::__ANON__::SERIAL::24=HASH(0x21b0904)') called at C:\strawberry5143\cpan\build\Moose-2.1204-DgHf81/blib/lib/Moose/Meta/Class.pm line 577
	Moose::Meta::Class::add_attribute('Moose::Meta::Class::__ANON__::SERIAL::13=HASH(0x2091b24)', 'view', 'definition_context', 'HASH(0x99cd8c)', 'is', 'ro', 'isa', 'OX::View::TT', 'dependencies', ...) called at C:\strawberry5143\cpan\build\Moose-2.1204-DgHf81/blib/lib/Moose.pm line 77
	Moose::has('Moose::Meta::Class::__ANON__::SERIAL::13=HASH(0x2091b24)', 'view', 'is', 'ro', 'isa', 'OX::View::TT', 'dependencies', 'ARRAY(0x3f9fec)') called at C:\strawberry5143\cpan\build\Moose-2.1204-DgHf81/blib/lib/Moose/Exporter.pm line 405
	Moose::has('view', 'is', 'ro', 'isa', 'OX::View::TT', 'dependencies', 'ARRAY(0x3f9fec)') called at t/mapping.t line 41
t/mapping.t .......... ok
Class::MOP::load_class is deprecated at C:\strawberry5143\cpan\build\Moose-2.1204-DgHf81/blib/lib/Class/MOP.pm line 73.
	Class::MOP::load_class('Plack::Component', 'HASH(0x20df4e4)') called at C:/strawberry5143/perl/vendor/lib/MooseX/NonMoose/Meta/Role/Class.pm line 247
	Class::MOP::Class:::around(undef, undef, 'Plack::Component') called at C:\strawberry5143\cpan\build\Moose-2.1204-DgHf81/blib/lib/Class/MOP/Method/Wrapped.pm line 163
	Class::MOP::Method::Wrapped::__ANON__('Moose::Meta::Class::__ANON__::SERIAL::22=HASH(0x20e077c)', 'Plack::Component') called at C:\strawberry5143\cpan\build\Moose-2.1204-DgHf81/blib/lib/Class/MOP/Method/Wrapped.pm line 92
	Moose::Meta::Class::__ANON__::SERIAL::22::superclasses('Moose::Meta::Class::__ANON__::SERIAL::22=HASH(0x20e077c)', 'Plack::Component') called at C:\strawberry5143\cpan\build\Moose-2.1204-DgHf81/blib/lib/Moose.pm line 56
	Moose::extends('Moose::Meta::Class::__ANON__::SERIAL::22=HASH(0x20e077c)', 'Plack::Component') called at C:\strawberry5143\cpan\build\Moose-2.1204-DgHf81/blib/lib/Moose/Exporter.pm line 405
	Moose::extends('Plack::Component') called at C:\strawberry5143\cpan\build\Plack-App-Path-Router-0.05-x3oVQE/blib/lib/Plack/App/Path/Router/Custom.pm line 12
	require Plack/App/Path/Router/Custom.pm called at C:\strawberry5143\cpan\build\OX-0.13-YaDF_K/blib/lib/OX/Application/Role/Router/Path/Router.pm line 12
	OX::Application::Role::Router::Path::Router::BEGIN() called at C:\strawberry5143\cpan\build\Plack-App-Path-Router-0.05-x3oVQE/blib/lib/Plack/App/Path/Router/Custom.pm line 0
	eval {...} called at C:\strawberry5143\cpan\build\Plack-App-Path-Router-0.05-x3oVQE/blib/lib/Plack/App/Path/Router/Custom.pm line 0
	require OX/Application/Role/Router/Path/Router.pm called at C:\strawberry5143\cpan\build\Module-Runtime-0.014-yrwEsP/blib/lib/Module/Runtime.pm line 317
	Module::Runtime::require_module('OX::Application::Role::Router::Path::Router') called at C:\strawberry5143\cpan\build\Module-Runtime-0.014-yrwEsP/blib/lib/Module/Runtime.pm line 348
	Module::Runtime::use_module('OX::Application::Role::Router::Path::Router') called at C:\strawberry5143\cpan\build\Moose-2.1204-DgHf81/blib/lib/Moose/Util.pm line 141
	Moose::Util::_apply_all_roles('Moose::Meta::Class=HASH(0x1fdf2e4)', undef, 'OX::Application::Role::Router::Path::Router', 'OX::Application::Role::RouteBuilder', 'OX::Application::Role::Sugar', 'Bread::Board::Declare::Role::Object') called at C:\strawberry5143\cpan\build\Moose-2.1204-DgHf81/blib/lib/Moose/Util.pm line 108
	Moose::Util::apply_all_roles('Moose::Meta::Class=HASH(0x1fdf2e4)', 'OX::Application::Role::Router::Path::Router', 'OX::Application::Role::RouteBuilder', 'OX::Application::Role::Sugar', 'Bread::Board::Declare::Role::Object') called at C:\strawberry5143\cpan\build\Moose-2.1204-DgHf81/blib/lib/Moose/Meta/Class.pm line 93
	Moose::Meta::Class::create('Moose::Meta::Class', 'Moose::Meta::Class::__ANON__::SERIAL::21', 'roles', 'ARRAY(0x1170364)', 'weaken', '', 'superclasses', 'ARRAY(0x1fdf044)') called at C:\strawberry5143\cpan\build\Moose-2.1204-DgHf81/blib/lib/Class/MOP/Package.pm line 126
	Class::MOP::Package::create_anon('Moose::Meta::Class', 'superclasses', 'ARRAY(0x1fdf044)', 'roles', 'ARRAY(0x1170364)', 'cache', 1) called at C:\strawberry5143\cpan\build\Moose-2.1204-DgHf81/blib/lib/Class/MOP/Class.pm line 475
	Class::MOP::Class::create_anon_class('Moose::Meta::Class', 'superclasses', 'ARRAY(0x1fdf044)', 'roles', 'ARRAY(0x1170364)', 'cache', 1) called at C:\strawberry5143\cpan\build\Moose-2.1204-DgHf81/blib/lib/Moose/Util/MetaRole.pm line 113
	Moose::Util::MetaRole::_make_new_class('Foo', 'ARRAY(0x1170364)', 'ARRAY(0x1fdf044)') called at C:\strawberry5143\cpan\build\Moose-2.1204-DgHf81/blib/lib/Moose/Util/MetaRole.pm line 90
	Moose::Util::MetaRole::apply_base_class_roles('for', 'Moose::Meta::Class=HASH(0x1d90fc4)', 'roles', 'ARRAY(0x1170364)') called at C:\strawberry5143\cpan\build\Moose-2.1204-DgHf81/blib/lib/Moose/Exporter.pm line 570
	Moose::Exporter::_apply_metaroles('Plack::App::Path::Router::Custom', 'ARRAY(0x1d90d94)', 'CODE(0x10ce36c)') called at C:\strawberry5143\cpan\build\Moose-2.1204-DgHf81/blib/lib/Moose/Exporter.pm line 483
	Moose::Exporter::__ANON__('OX') called at t/route.t line 13
	Foo::BEGIN() called at C:\strawberry5143\cpan\build\Plack-App-Path-Router-0.05-x3oVQE/blib/lib/Plack/App/Path/Router/Custom.pm line 0
	eval {...} called at C:\strawberry5143\cpan\build\Plack-App-Path-Router-0.05-x3oVQE/blib/lib/Plack/App/Path/Router/Custom.pm line 0
Class::MOP::load_class is deprecated at C:\strawberry5143\cpan\build\Moose-2.1204-DgHf81/blib/lib/Class/MOP.pm line 73.
	Class::MOP::load_class('MooseX::Role::Parameterized::Meta::Role::Parameterized') called at C:/strawberry5143/perl/vendor/lib/MooseX/Role/Parameterized/Meta/Role/Parameterizable.pm line 60
	MooseX::Role::Parameterized::Meta::Role::Parameterizable::generate_role('MooseX::Role::Parameterized::Meta::Role::Parameterizable=HASH...', 'consumer', 'Moose::Meta::Role=HASH(0x2228bdc)', 'parameters', 'HASH(0x227677c)') called at C:/strawberry5143/perl/vendor/lib/MooseX/Role/Parameterized/Meta/Role/Parameterizable.pm line 104
	MooseX::Role::Parameterized::Meta::Role::Parameterizable::apply('MooseX::Role::Parameterized::Meta::Role::Parameterizable=HASH...', 'Moose::Meta::Role=HASH(0x2228bdc)') called at C:\strawberry5143\cpan\build\Moose-2.1204-DgHf81/blib/lib/Moose/Util.pm line 166
	Moose::Util::_apply_all_roles('Moose::Meta::Role=HASH(0x2228bdc)', undef, 'MooseX::Getopt::GLD') called at C:\strawberry5143\cpan\build\Moose-2.1204-DgHf81/blib/lib/Moose/Util.pm line 108
	Moose::Util::apply_all_roles('Moose::Meta::Role=HASH(0x2228bdc)', 'MooseX::Getopt::GLD') called at C:\strawberry5143\cpan\build\Moose-2.1204-DgHf81/blib/lib/Moose/Role.pm line 27
	Moose::Role::with('Moose::Meta::Role=HASH(0x2228bdc)', 'MooseX::Getopt::GLD') called at C:\strawberry5143\cpan\build\Moose-2.1204-DgHf81/blib/lib/Moose/Exporter.pm line 405
	Moose::Role::with('MooseX::Getopt::GLD') called at C:/strawberry5143/perl/site/lib/MooseX/Getopt.pm line 14
	require MooseX/Getopt.pm called at C:/strawberry5143/perl/site/lib/MooseX/Types/Path/Class.pm line 35
	eval {...} called at C:/strawberry5143/perl/site/lib/MooseX/Types/Path/Class.pm line 35
	require MooseX/Types/Path/Class.pm called at C:\strawberry5143\cpan\build\OX-View-TT-0.02-mC6kkd\blib\lib/OX/View/TT.pm line 9
	OX::View::TT::BEGIN() called at C:/strawberry5143/perl/site/lib/MooseX/Getopt.pm line 0
	eval {...} called at C:/strawberry5143/perl/site/lib/MooseX/Getopt.pm line 0
	require OX/View/TT.pm called at C:\strawberry5143\cpan\build\Module-Runtime-0.014-yrwEsP/blib/lib/Module/Runtime.pm line 317
	Module::Runtime::require_module('OX::View::TT') called at C:/strawberry5143/perl/vendor/lib/Class/Load.pm line 177
	Class::Load::__ANON__() called at C:/strawberry5143/perl/vendor/lib/Try/Tiny.pm line 71
	eval {...} called at C:/strawberry5143/perl/vendor/lib/Try/Tiny.pm line 67
	Try::Tiny::try('CODE(0x21744c4)', 'Try::Tiny::Catch=REF(0x21b523c)') called at C:/strawberry5143/perl/vendor/lib/Class/Load.pm line 183
	Class::Load::try_load_class('OX::View::TT', undef) called at C:/strawberry5143/perl/vendor/lib/Class/Load.pm line 38
	Class::Load::load_class('OX::View::TT') called at C:\strawberry5143\cpan\build\Bread-Board-Declare-0.16-FHE2x5/blib/lib/Bread/Board/Declare/Meta/Role/Attribute/Service.pm line 118
	Class::MOP::Class:::after('Moose::Meta::Class::__ANON__::SERIAL::24=HASH(0x21b5dbc)', 'Moose::Meta::Class::__ANON__::SERIAL::13=HASH(0x1fdf034)') called at C:\strawberry5143\cpan\build\Moose-2.1204-DgHf81/blib/lib/Class/MOP/Method/Wrapped.pm line 61
	Class::MOP::Method::Wrapped::__ANON__('Moose::Meta::Class::__ANON__::SERIAL::24=HASH(0x21b5dbc)', 'Moose::Meta::Class::__ANON__::SERIAL::13=HASH(0x1fdf034)') called at C:\strawberry5143\cpan\build\Moose-2.1204-DgHf81/blib/lib/Class/MOP/Method/Wrapped.pm line 92
	Moose::Meta::Class::__ANON__::SERIAL::24::attach_to_class('Moose::Meta::Class::__ANON__::SERIAL::24=HASH(0x21b5dbc)', 'Moose::Meta::Class::__ANON__::SERIAL::13=HASH(0x1fdf034)') called at C:\strawberry5143\cpan\build\Moose-2.1204-DgHf81/blib/lib/Class/MOP/Class.pm line 889
	Class::MOP::Class::_attach_attribute('Moose::Meta::Class::__ANON__::SERIAL::13=HASH(0x1fdf034)', 'Moose::Meta::Class::__ANON__::SERIAL::24=HASH(0x21b5dbc)') called at C:\strawberry5143\cpan\build\Moose-2.1204-DgHf81/blib/lib/Class/MOP/Mixin/HasAttributes.pm line 26
	Class::MOP::Mixin::HasAttributes::add_attribute('Moose::Meta::Class::__ANON__::SERIAL::13=HASH(0x1fdf034)', 'Moose::Meta::Class::__ANON__::SERIAL::24=HASH(0x21b5dbc)') called at C:\strawberry5143\cpan\build\Moose-2.1204-DgHf81/blib/lib/Moose/Meta/Class.pm line 577
	Moose::Meta::Class::add_attribute('Moose::Meta::Class::__ANON__::SERIAL::13=HASH(0x1fdf034)', 'view', 'definition_context', 'HASH(0x3fa05c)', 'is', 'ro', 'isa', 'OX::View::TT', 'dependencies', ...) called at C:\strawberry5143\cpan\build\Moose-2.1204-DgHf81/blib/lib/Moose.pm line 77
	Moose::has('Moose::Meta::Class::__ANON__::SERIAL::13=HASH(0x1fdf034)', 'view', 'is', 'ro', 'isa', 'OX::View::TT', 'dependencies', 'ARRAY(0x3f9d0c)') called at C:\strawberry5143\cpan\build\Moose-2.1204-DgHf81/blib/lib/Moose/Exporter.pm line 405
	Moose::has('view', 'is', 'ro', 'isa', 'OX::View::TT', 'dependencies', 'ARRAY(0x3f9d0c)') called at t/route.t line 23
t/route.t ............ ok
All tests successful.
Files=5, Tests=24, 14 wallclock secs ( 0.08 usr +  0.02 sys =  0.10 CPU)
Result: PASS

------------------------------
PREREQUISITES
------------------------------

Prerequisite modules loaded:

requires:

    Module                     Need Have  
    -------------------------- ---- ------
    File::Spec                 0    3.33  
    FindBin                    0    1.50  
    HTTP::Request::Common      0    6.04  
    IO::Handle                 0    1.31  
    IPC::Open3                 0    1.0901
    Moose                      0    2.1204
    MooseX::Types::Path::Class 0    0.06  
    OX                         0    0.13  
    Path::Class                0    0.29  
    Plack::Test                0    0     
    strict                     0    1.04  
    Template                   0    2.24  
    Test::More                 0.88 0.98  
    warnings                   0    1.12  

build_requires:

    Module                     Need Have  
    -------------------------- ---- ------
    ExtUtils::MakeMaker        0    6.62  

configure_requires:

    Module                     Need Have  
    -------------------------- ---- ------
    ExtUtils::MakeMaker        6.30 6.62  


------------------------------
ENVIRONMENT AND OTHER CONTEXT
------------------------------

Environment variables:

    AUTOMATED_TESTING = 1
    COMSPEC = C:\WINDOWS\system32\cmd.exe
    NUMBER_OF_PROCESSORS = 1
    PATH = C:\Program Files\Far Manager\;C:\IM\ImageMagick-6.8.2-Q16;C:\WINDOWS\system32;C:\WINDOWS;C:\WINDOWS\System32\Wbem;C:\strawberry5143\c\bin;C:\strawberry5143\perl\site\bin;C:\strawberry5143\perl\bin
    PERL5LIB = C:\strawberry5143\cpan\build\OX-0.13-YaDF_K/blib/arch;C:\strawberry5143\cpan\build\OX-0.13-YaDF_K/blib/lib;C:\strawberry5143\cpan\build\Bread-Board-Declare-0.16-FHE2x5/blib/arch;C:\strawberry5143\cpan\build\Bread-Board-Declare-0.16-FHE2x5/blib/lib;C:\strawberry5143\cpan\build\Web-Request-0.11-mdO39f/blib/arch;C:\strawberry5143\cpan\build\Web-Request-0.11-mdO39f/blib/lib;C:\strawberry5143\cpan\build\Bread-Board-0.30-r9AMeZ/blib/arch;C:\strawberry5143\cpan\build\Bread-Board-0.30-r9AMeZ/blib/lib;C:\strawberry5143\cpan\build\Moose-2.1204-DgHf81/blib/arch;C:\strawberry5143\cpan\build\Moose-2.1204-DgHf81/blib/lib;C:\strawberry5143\cpan\build\Module-Runtime-0.014-yrwEsP/blib/arch;C:\strawberry5143\cpan\build\Module-Runtime-0.014-yrwEsP/blib/lib;C:\strawberry5143\cpan\build\Plack-App-Path-Router-0.05-x3oVQE/blib/arch;C:\strawberry5143\cpan\build\Plack-App-Path-Router-0.05-x3oVQE/blib/lib;C:\strawberry5143\cpan\build\Path-Router-0.12-aEB3eX/blib/arch;C:\strawberry5143\cpan\build\Path-Router-0.12-aEB3eX/blib/lib
    PERL5OPT = 
    PERL5_CPANPLUS_IS_RUNNING = 6656
    PERL5_CPAN_IS_RUNNING = 6656
    PERL5_CPAN_IS_RUNNING_IN_RECURSION = 1336,6656
    PERL_CR_SMOKER_CURRENT = OX-View-TT-0.02
    PERL_EXTUTILS_AUTOINSTALL = --defaultdeps
    PERL_MM_USE_DEFAULT = 1
    PROCESSOR_IDENTIFIER = x86 Family 18 Model 1 Stepping 0, AuthenticAMD
    TEMP = C:\DOCUME~1\c\LOCALS~1\Temp
    TERM = dumb

Perl special variables (and OS-specific diagnostics, for MSWin32):

    $^X = C:\strawberry5143\perl\bin\perl.exe
    $UID/$EUID = 0 / 0
    $GID = 0
    $EGID = 0
    Win32::GetOSName = WinXP/.Net
    Win32::GetOSVersion = Service Pack 3, 5, 1, 2600, 2, 3, 0, 256, 1
    Win32::FsType = NTFS
    Win32::IsAdminUser = 1

Perl module toolchain versions installed:

    Module              Have    
    ------------------- --------
    CPAN                1.9800  
    CPAN::Meta          2.120921
    Cwd                 3.36    
    ExtUtils::CBuilder  0.280205
    ExtUtils::Command   1.17    
    ExtUtils::Install   1.56    
    ExtUtils::MakeMaker 6.62    
    ExtUtils::Manifest  1.61    
    ExtUtils::ParseXS   3.15    
    File::Spec          3.33    
    JSON                2.53    
    JSON::PP            2.27200 
    Module::Build       0.4003  
    Module::Signature   0.68    
    Parse::CPAN::Meta   1.4404  
    Test::Harness       3.25    
    Test::More          0.98    
    YAML                0.84    
    YAML::Syck          1.22    
    version             0.9901  


--

Summary of my perl5 (revision 5 version 14 subversion 3) configuration:
   
  Platform:
    osname=MSWin32, osvers=4.0, archname=MSWin32-x86-multi-thread
    uname='Win32 strawberry-perl 5.14.3.1 #1 Wed Oct 17 22:51:55 2012 i386'
    config_args='undef'
    hint=recommended, useposix=true, d_sigaction=undef
    useithreads=define, usemultiplicity=define
    useperlio=define, d_sfio=undef, uselargefiles=define, usesocks=undef
    use64bitint=undef, use64bitall=undef, uselongdouble=undef
    usemymalloc=n, bincompat5005=undef
  Compiler:
    cc='gcc', ccflags =' -s -O2 -DWIN32  -DPERL_TEXTMODE_SCRIPTS -DPERL_IMPLICIT_CONTEXT -DPERL_IMPLICIT_SYS -fno-strict-aliasing -mms-bitfields',
    optimize='-s -O2',
    cppflags='-DWIN32'
    ccversion='', gccversion='4.6.3', gccosandvers=''
    intsize=4, longsize=4, ptrsize=4, doublesize=8, byteorder=1234
    d_longlong=undef, longlongsize=8, d_longdbl=define, longdblsize=12
    ivtype='long', ivsize=4, nvtype='double', nvsize=8, Off_t='long long', lseeksize=8
    alignbytes=8, prototype=define
  Linker and Libraries:
    ld='g++', ldflags ='-s -L"C:\strawberry5143\perl\lib\CORE" -L"C:\strawberry5143\c\lib"'
    libpth=C:\strawberry5143\c\lib C:\strawberry5143\c\i686-w64-mingw32\lib
    libs=-lmoldname -lkernel32 -luser32 -lgdi32 -lwinspool -lcomdlg32 -ladvapi32 -lshell32 -lole32 -loleaut32 -lnetapi32 -luuid -lws2_32 -lmpr -lwinmm -lversion -lodbc32 -lodbccp32 -lcomctl32
    perllibs=-lmoldname -lkernel32 -luser32 -lgdi32 -lwinspool -lcomdlg32 -ladvapi32 -lshell32 -lole32 -loleaut32 -lnetapi32 -luuid -lws2_32 -lmpr -lwinmm -lversion -lodbc32 -lodbccp32 -lcomctl32
    libc=, so=dll, useshrplib=true, libperl=libperl514.a
    gnulibc_version=''
  Dynamic Linking:
    dlsrc=dl_win32.xs, dlext=dll, d_dlsymun=undef, ccdlflags=' '
    cccdlflags=' ', lddlflags='-mdll -s -L"C:\strawberry5143\perl\lib\CORE" -L"C:\strawberry5143\c\lib"'


Characteristics of this binary (from libperl): 
  Compile-time options: MULTIPLICITY PERL_DONT_CREATE_GVSV
                        PERL_IMPLICIT_CONTEXT PERL_IMPLICIT_SYS
                        PERL_MALLOC_WRAP PERL_PRESERVE_IVUV PL_OP_SLAB_ALLOC
                        USE_ITHREADS USE_LARGE_FILES USE_PERLIO
                        USE_PERL_ATOF
  Built under MSWin32
  Compiled at Oct 17 2012 23:05:06
  %ENV:
    PERL5LIB="C:\strawberry5143\cpan\build\OX-0.13-YaDF_K/blib/arch;C:\strawberry5143\cpan\build\OX-0.13-YaDF_K/blib/lib;C:\strawberry5143\cpan\build\Bread-Board-Declare-0.16-FHE2x5/blib/arch;C:\strawberry5143\cpan\build\Bread-Board-Declare-0.16-FHE2x5/blib/lib;C:\strawberry5143\cpan\build\Web-Request-0.11-mdO39f/blib/arch;C:\strawberry5143\cpan\build\Web-Request-0.11-mdO39f/blib/lib;C:\strawberry5143\cpan\build\Bread-Board-0.30-r9AMeZ/blib/arch;C:\strawberry5143\cpan\build\Bread-Board-0.30-r9AMeZ/blib/lib;C:\strawberry5143\cpan\build\Moose-2.1204-DgHf81/blib/arch;C:\strawberry5143\cpan\build\Moose-2.1204-DgHf81/blib/lib;C:\strawberry5143\cpan\build\Module-Runtime-0.014-yrwEsP/blib/arch;C:\strawberry5143\cpan\build\Module-Runtime-0.014-yrwEsP/blib/lib;C:\strawberry5143\cpan\build\Plack-App-Path-Router-0.05-x3oVQE/blib/arch;C:\strawberry5143\cpan\build\Plack-App-Path-Router-0.05-x3oVQE/blib/lib;C:\strawberry5143\cpan\build\Path-Router-0.12-aEB3eX/blib/arch;C:\strawberry5143\cpan\build\Path-Router-0.12-aEB3eX/blib/lib"
    PERL5_CPANPLUS_IS_RUNNING="6656"
    PERL5_CPAN_IS_RUNNING="6656"
    PERL5_CPAN_IS_RUNNING_IN_RECURSION="1336,6656"
    PERL_CR_SMOKER_CURRENT="OX-View-TT-0.02"
    PERL_EXTUTILS_AUTOINSTALL="--defaultdeps"
    PERL_MM_USE_DEFAULT="1"
  @INC:
    C:\strawberry5143\cpan\build\OX-0.13-YaDF_K/blib/arch
    C:\strawberry5143\cpan\build\OX-0.13-YaDF_K/blib/lib
    C:\strawberry5143\cpan\build\Bread-Board-Declare-0.16-FHE2x5/blib/arch
    C:\strawberry5143\cpan\build\Bread-Board-Declare-0.16-FHE2x5/blib/lib
    C:\strawberry5143\cpan\build\Web-Request-0.11-mdO39f/blib/arch
    C:\strawberry5143\cpan\build\Web-Request-0.11-mdO39f/blib/lib
    C:\strawberry5143\cpan\build\Bread-Board-0.30-r9AMeZ/blib/arch
    C:\strawberry5143\cpan\build\Bread-Board-0.30-r9AMeZ/blib/lib
    C:\strawberry5143\cpan\build\Moose-2.1204-DgHf81/blib/arch
    C:\strawberry5143\cpan\build\Moose-2.1204-DgHf81/blib/lib
    C:\strawberry5143\cpan\build\Module-Runtime-0.014-yrwEsP/blib/arch
    C:\strawberry5143\cpan\build\Module-Runtime-0.014-yrwEsP/blib/lib
    C:\strawberry5143\cpan\build\Plack-App-Path-Router-0.05-x3oVQE/blib/arch
    C:\strawberry5143\cpan\build\Plack-App-Path-Router-0.05-x3oVQE/blib/lib
    C:\strawberry5143\cpan\build\Path-Router-0.12-aEB3eX/blib/arch
    C:\strawberry5143\cpan\build\Path-Router-0.12-aEB3eX/blib/lib
    C:/strawberry5143/perl/site/lib
    C:/strawberry5143/perl/vendor/lib
    C:/strawberry5143/perl/lib
    .