YAML v1.27 Perl 5 v5.28.0 x86_64-linux-thread-multi

Status
Pass
From
Arpad Szasz
Dist
YAML v1.27
Platform
Perl 5 v5.28.0 x86_64-linux-thread-multi
Date
2018-11-13 11:58:22
ID
6b73f136-e73b-11e8-9424-e2e5d941d129
This distribution has been tested as part of the CPAN Testers
project, supporting the Perl programming language.  See
http://wiki.cpantesters.org/ for more information or email
questions to cpan-testers-discuss@perl.org


--
Dear TINITA,

This is a computer-generated report for YAML-1.27
on perl 5.28.0, created by App::cpanminus::reporter 0.17 (1.7043).

Thank you for uploading your work to CPAN.  Congratulations!
All tests were successful.

Sections of this report:

    * Tester comments
    * Program output
    * Prerequisites
    * Environment and other context

------------------------------
TESTER COMMENTS
------------------------------

Additional comments from tester:

none provided

------------------------------
PROGRAM OUTPUT
------------------------------

Output from '':

Building and testing YAML-1.27
cp lib/YAML/Types.pm blib/lib/YAML/Types.pm
cp lib/YAML/Types.pod blib/lib/YAML/Types.pod
cp lib/YAML/Marshall.pm blib/lib/YAML/Marshall.pm
cp lib/YAML/Loader/Base.pod blib/lib/YAML/Loader/Base.pod
cp lib/YAML/Dumper/Base.pm blib/lib/YAML/Dumper/Base.pm
cp lib/YAML/Node.pod blib/lib/YAML/Node.pod
cp lib/YAML/Marshall.pod blib/lib/YAML/Marshall.pod
cp lib/YAML/Mo.pm blib/lib/YAML/Mo.pm
cp lib/YAML/Any.pm blib/lib/YAML/Any.pm
cp lib/YAML/Dumper.pm blib/lib/YAML/Dumper.pm
cp lib/YAML/Any.pod blib/lib/YAML/Any.pod
cp lib/YAML.pm blib/lib/YAML.pm
cp lib/YAML/Tag.pod blib/lib/YAML/Tag.pod
cp lib/YAML/Tag.pm blib/lib/YAML/Tag.pm
cp lib/YAML.pod blib/lib/YAML.pod
cp lib/YAML/Dumper.pod blib/lib/YAML/Dumper.pod
cp lib/YAML/Node.pm blib/lib/YAML/Node.pm
cp lib/YAML/Dumper/Base.pod blib/lib/YAML/Dumper/Base.pod
cp lib/YAML/Loader/Base.pm blib/lib/YAML/Loader/Base.pm
cp lib/YAML/Error.pod blib/lib/YAML/Error.pod
cp lib/YAML/Error.pm blib/lib/YAML/Error.pm
cp lib/YAML/Loader.pod blib/lib/YAML/Loader.pod
cp lib/YAML/Loader.pm blib/lib/YAML/Loader.pm
Manifying 11 pod documents
PERL_DL_NONLAZY=1 "/home/arpi/opt/perl5/perls/perl-5.28.0/bin/perl" "-MExtUtils::Command::MM" "-MTest::Harness" "-e" "undef *Test::Harness::Switches; test_harness(0, 'blib/lib', 'blib/arch')" t/*.t
t/author-pod-syntax.t .............. skipped: these tests are for testing by the author
Subroutine new redefined at /home/arpi/opt/perl5/perls/perl-5.28.0/lib/site_perl/5.28.0/YAML/Old/Node.pm line 74.
Subroutine TIESCALAR redefined at /home/arpi/opt/perl5/perls/perl-5.28.0/lib/site_perl/5.28.0/YAML/Old/Node.pm line 79.
Subroutine FETCH redefined at /home/arpi/opt/perl5/perls/perl-5.28.0/lib/site_perl/5.28.0/YAML/Old/Node.pm line 85.
Subroutine STORE redefined at /home/arpi/opt/perl5/perls/perl-5.28.0/lib/site_perl/5.28.0/YAML/Old/Node.pm line 90.
Subroutine new redefined at /home/arpi/opt/perl5/perls/perl-5.28.0/lib/site_perl/5.28.0/YAML/Old/Node.pm line 100.
Subroutine TIEARRAY redefined at /home/arpi/opt/perl5/perls/perl-5.28.0/lib/site_perl/5.28.0/YAML/Old/Node.pm line 107.
Subroutine FETCHSIZE redefined at /home/arpi/opt/perl5/perls/perl-5.28.0/lib/site_perl/5.28.0/YAML/Old/Node.pm line 112.
Subroutine FETCH redefined at /home/arpi/opt/perl5/perls/perl-5.28.0/lib/site_perl/5.28.0/YAML/Old/Node.pm line 117.
Subroutine STORE redefined at /home/arpi/opt/perl5/perls/perl-5.28.0/lib/site_perl/5.28.0/YAML/Old/Node.pm line 122.
Subroutine undone redefined at /home/arpi/opt/perl5/perls/perl-5.28.0/lib/site_perl/5.28.0/YAML/Old/Node.pm line 127.
Subroutine new redefined at /home/arpi/opt/perl5/perls/perl-5.28.0/lib/site_perl/5.28.0/YAML/Old/Node.pm line 140.
Subroutine TIEHASH redefined at /home/arpi/opt/perl5/perls/perl-5.28.0/lib/site_perl/5.28.0/YAML/Old/Node.pm line 148.
Subroutine FETCH redefined at /home/arpi/opt/perl5/perls/perl-5.28.0/lib/site_perl/5.28.0/YAML/Old/Node.pm line 153.
Subroutine STORE redefined at /home/arpi/opt/perl5/perls/perl-5.28.0/lib/site_perl/5.28.0/YAML/Old/Node.pm line 162.
Subroutine DELETE redefined at /home/arpi/opt/perl5/perls/perl-5.28.0/lib/site_perl/5.28.0/YAML/Old/Node.pm line 179.
Subroutine CLEAR redefined at /home/arpi/opt/perl5/perls/perl-5.28.0/lib/site_perl/5.28.0/YAML/Old/Node.pm line 196.
Subroutine FIRSTKEY redefined at /home/arpi/opt/perl5/perls/perl-5.28.0/lib/site_perl/5.28.0/YAML/Old/Node.pm line 202.
Subroutine NEXTKEY redefined at /home/arpi/opt/perl5/perls/perl-5.28.0/lib/site_perl/5.28.0/YAML/Old/Node.pm line 208.
Subroutine EXISTS redefined at /home/arpi/opt/perl5/perls/perl-5.28.0/lib/site_perl/5.28.0/YAML/Old/Node.pm line 213.
t/basic-tests.t .................... ok
t/000-compile-modules.t ............ ok
t/changes.t ........................ ok
t/dump-blessed.t ................... ok
t/bugs-emailed.t ................... ok
t/dump-basics.t .................... ok
t/dump-blessed-glob.t .............. ok
t/bugs-rt.t ........................ ok
t/dump-file.t ...................... ok
t/dump-file-utf8.t ................. ok
t/dump-stringify.t ................. ok
t/dump-perl-types-512.t ............ skipped: test only for perls before v5.13.5-11-gfb85c04
t/dump-perl-types-514.t ............ ok
t/dump-nested.t .................... ok
t/dump-code.t ...................... ok
t/dump-tests-512.t ................. skipped: test only for perls before v5.13.5-11-gfb85c04
t/dump-opts.t ...................... ok
t/dump-synopsis.t .................. ok
t/dump-stringy-numbers.t ........... ok
t/dump-tests-514.t ................. ok
t/dump-perl-types.t ................ ok
t/dump-works.t ..................... ok
t/export.t ......................... ok
t/dump-tests.t ..................... ok
t/errors.t ......................... ok
t/freeze-thaw.t .................... ok
t/inbox.t .......................... ok
t/global-api.t ..................... ok
t/issue-149.t ...................... ok
t/io-handle.t ...................... ok
t/issue-69.t ....................... ok
t/load-passes.t .................... ok
t/load-fails.t ..................... ok
t/load-code.t ...................... ok
t/load-slides.t .................... ok
t/load-works.t ..................... ok
t/load-spec.t ...................... ok
t/numify.t ......................... ok
t/marshall.t ....................... ok
t/load-tests.t ..................... ok
t/preserve.t ....................... ok
t/node-info.t ...................... ok
t/pugs-objects.t ................... ok
t/no-load-blessed.t ................ ok
t/rt-90593.t ....................... ok
t/regexp.t ......................... ok
t/references.t ..................... ok
t/roundtrip.t ...................... ok
t/trailing-comments-content.t ...... ok
t/test.t ........................... ok
t/trailing-comments-non-content.t .. ok
t/svk.t ............................ ok
t/2-scalars.t ...................... ok
All tests successful.
Files=54, Tests=541, 16 wallclock secs ( 0.30 usr  0.04 sys + 14.07 cusr  0.81 csys = 15.22 CPU)
Result: PASS

------------------------------
PREREQUISITES
------------------------------

Prerequisite modules loaded:

    No requirements found

------------------------------
ENVIRONMENT AND OTHER CONTEXT
------------------------------

Environment variables:

    LANG = en_US.UTF-8
    LC_ADDRESS = ro_RO.UTF-8
    LC_IDENTIFICATION = ro_RO.UTF-8
    LC_MEASUREMENT = ro_RO.UTF-8
    LC_MONETARY = ro_RO.UTF-8
    LC_NAME = ro_RO.UTF-8
    LC_NUMERIC = ro_RO.UTF-8
    LC_PAPER = ro_RO.UTF-8
    LC_TELEPHONE = ro_RO.UTF-8
    LC_TIME = ro_RO.UTF-8
    PATH = /home/arpi/.nvm/versions/node/v6.9.5/bin:/home/arpi/opt/perl5/bin:/home/arpi/opt/perl5/perls/stable/bin:/home/arpi/.local/share/umake/bin:/home/arpi/.rakudobrew/bin:/home/arpi/bin:/usr/local/sbin:/usr/local/bin:/usr/sbin:/usr/bin:/sbin:/bin:/usr/games:/usr/local/games:/snap/bin:/usr/lib/jvm/java-8-oracle/bin:/usr/lib/jvm/java-8-oracle/db/bin:/usr/lib/jvm/java-8-oracle/jre/bin:/home/arpi/.fzf/bin
    PERLBREW_HOME = /home/arpi/.perlbrew
    PERLBREW_MANPATH = /home/arpi/opt/perl5/perls/stable/man
    PERLBREW_PATH = /home/arpi/opt/perl5/bin:/home/arpi/opt/perl5/perls/stable/bin
    PERLBREW_PERL = stable
    PERLBREW_ROOT = /home/arpi/opt/perl5
    PERLBREW_SHELLRC_VERSION = 0.84
    PERLBREW_VERSION = 0.84
    SHELL = /bin/bash
    TERM = xterm-256color

Perl special variables (and OS-specific diagnostics, for MSWin32):

    EGID = 1000 4 20 24 27 29 30 46 108 115 131 132 998 1000
    EUID = 1000
    EXECUTABLE_NAME = /home/arpi/opt/perl5/perls/perl-5.28.0/bin/perl
    GID = 1000 4 20 24 27 29 30 46 108 115 131 132 998 1000
    UID = 1000

Perl module toolchain versions installed:

    Module              Have    
    ------------------- --------
    CPAN                2.20    
    CPAN::Meta          2.150010
    Cwd                 3.75    
    ExtUtils::CBuilder  0.280230
    ExtUtils::Command   7.34    
    ExtUtils::Install   2.14    
    ExtUtils::MakeMaker 7.34    
    ExtUtils::Manifest  1.71    
    ExtUtils::ParseXS   3.39    
    File::Spec          3.75    
    JSON                2.97001 
    JSON::PP            2.97001 
    Module::Build       0.4224  
    Module::Signature   n/a     
    Parse::CPAN::Meta   2.150010
    Test::Harness       3.42    
    Test::More          1.302140
    YAML                1.27    
    YAML::Syck          n/a     
    version             0.9924  


--

Summary of my perl5 (revision 5 version 28 subversion 0) configuration:
   
  Platform:
    osname=linux
    osvers=4.15.0-24-generic
    archname=x86_64-linux-thread-multi
    uname='linux guppy 4.15.0-24-generic #26-ubuntu smp wed jun 13 08:44:47 utc 2018 x86_64 x86_64 x86_64 gnulinux '
    config_args='-de -Dprefix=/home/arpi/opt/perl5/perls/perl-5.28.0 -Dusethreads -Duselargefiles -Duse64bitall -Dusesitecustomize -Duseshrplib -Dinc_version_list=none -Dpager=/bin/less -Doptimize=-O2 -Dcf_by=Plenum.ro -Dcf_email=arpad.szasz@plenum.ro -Uuserelocatableinc -UDEBUGGING -Aeval:scriptdir=/home/arpi/opt/perl5/perls/perl-5.28.0/bin'
    hint=recommended
    useposix=true
    d_sigaction=define
    useithreads=define
    usemultiplicity=define
    use64bitint=define
    use64bitall=define
    uselongdouble=undef
    usemymalloc=n
    default_inc_excludes_dot=define
    bincompat5005=undef
  Compiler:
    cc='cc'
    ccflags ='-D_REENTRANT -D_GNU_SOURCE -fwrapv -fno-strict-aliasing -pipe -fstack-protector-strong -I/usr/local/include -D_LARGEFILE_SOURCE -D_FILE_OFFSET_BITS=64'
    optimize='-O2'
    cppflags='-D_REENTRANT -D_GNU_SOURCE -fwrapv -fno-strict-aliasing -pipe -fstack-protector-strong -I/usr/local/include'
    ccversion=''
    gccversion='7.3.0'
    gccosandvers=''
    intsize=4
    longsize=8
    ptrsize=8
    doublesize=8
    byteorder=12345678
    doublekind=3
    d_longlong=define
    longlongsize=8
    d_longdbl=define
    longdblsize=16
    longdblkind=3
    ivtype='long'
    ivsize=8
    nvtype='double'
    nvsize=8
    Off_t='off_t'
    lseeksize=8
    alignbytes=8
    prototype=define
  Linker and Libraries:
    ld='cc'
    ldflags =' -fstack-protector-strong -L/usr/local/lib'
    libpth=/usr/local/lib /usr/lib/gcc/x86_64-linux-gnu/7/include-fixed /usr/include/x86_64-linux-gnu /usr/lib /lib/x86_64-linux-gnu /lib/../lib /usr/lib/x86_64-linux-gnu /usr/lib/../lib /lib
    libs=-lpthread -lnsl -ldl -lm -lcrypt -lutil -lc
    perllibs=-lpthread -lnsl -ldl -lm -lcrypt -lutil -lc
    libc=libc-2.27.so
    so=so
    useshrplib=true
    libperl=libperl.so
    gnulibc_version='2.27'
  Dynamic Linking:
    dlsrc=dl_dlopen.xs
    dlext=so
    d_dlsymun=undef
    ccdlflags='-Wl,-E -Wl,-rpath,/home/arpi/opt/perl5/perls/perl-5.28.0/lib/5.28.0/x86_64-linux-thread-multi/CORE'
    cccdlflags='-fPIC'
    lddlflags='-shared -O2 -L/usr/local/lib -fstack-protector-strong'


Characteristics of this binary (from libperl): 
  Compile-time options:
    HAS_TIMES
    MULTIPLICITY
    PERLIO_LAYERS
    PERL_COPY_ON_WRITE
    PERL_DONT_CREATE_GVSV
    PERL_IMPLICIT_CONTEXT
    PERL_MALLOC_WRAP
    PERL_OP_PARENT
    PERL_PRESERVE_IVUV
    USE_64_BIT_ALL
    USE_64_BIT_INT
    USE_ITHREADS
    USE_LARGE_FILES
    USE_LOCALE
    USE_LOCALE_COLLATE
    USE_LOCALE_CTYPE
    USE_LOCALE_NUMERIC
    USE_LOCALE_TIME
    USE_PERLIO
    USE_PERL_ATOF
    USE_REENTRANT_API
    USE_SITECUSTOMIZE
  Locally applied patches:
    Devel::PatchPerl 1.48
  Built under linux
  Compiled at Jul 14 2018 02:03:20
  %ENV:
    PERLBREW_HOME="/home/arpi/.perlbrew"
    PERLBREW_MANPATH="/home/arpi/opt/perl5/perls/stable/man"
    PERLBREW_PATH="/home/arpi/opt/perl5/bin:/home/arpi/opt/perl5/perls/stable/bin"
    PERLBREW_PERL="stable"
    PERLBREW_ROOT="/home/arpi/opt/perl5"
    PERLBREW_SHELLRC_VERSION="0.84"
    PERLBREW_VERSION="0.84"
  @INC:
    /home/arpi/opt/perl5/perls/perl-5.28.0/lib/site_perl/5.28.0/x86_64-linux-thread-multi
    /home/arpi/opt/perl5/perls/perl-5.28.0/lib/site_perl/5.28.0
    /home/arpi/opt/perl5/perls/perl-5.28.0/lib/5.28.0/x86_64-linux-thread-multi
    /home/arpi/opt/perl5/perls/perl-5.28.0/lib/5.28.0