Plack-Test-Agent v1.5 Perl 5 v5.14.0 darwin-2level

Status
Pass
From
Neil Bowers
Dist
Plack-Test-Agent v1.5
Platform
Perl 5 v5.14.0 darwin-2level
Date
2021-06-08 11:12:32
ID
6b681d32-c84a-11eb-90bb-a035ed01cbbc
This distribution has been tested as part of the CPAN Testers
project, supporting the Perl programming language.  See
http://wiki.cpantesters.org/ for more information or email
questions to cpan-testers-discuss@perl.org


--
Dear Olaf Alders,

This is a computer-generated report for Plack-Test-Agent-1.5
on perl 5.14.0, created by CPAN-Reporter-1.2018.

Thank you for uploading your work to CPAN.  Congratulations!
All tests were successful.

Sections of this report:

    * Tester comments
    * Program output
    * Prerequisites
    * Environment and other context

------------------------------
TESTER COMMENTS
------------------------------

Additional comments from tester:

none provided

------------------------------
PROGRAM OUTPUT
------------------------------

Output from '/usr/bin/make test':

PERL_DL_NONLAZY=1 /usr/local/perl/5140/bin/perl "-MExtUtils::Command::MM" "-MTest::Harness" "-e" "undef *Test::Harness::Switches; test_harness(0, 'blib/lib', 'blib/arch')" t/*.t
# 
# Versions for all modules listed in MYMETA.json (including optional ones):
# 
# === Configure Requires ===
# 
#     Module              Want Have
#     ------------------- ---- ----
#     ExtUtils::MakeMaker  any 6.98
# 
# === Build Requires ===
# 
#     Module              Want Have
#     ------------------- ---- ----
#     ExtUtils::MakeMaker  any 6.98
# 
# === Test Requires ===
# 
#     Module                     Want       Have
#     -------------------------- ---- ----------
#     ExtUtils::MakeMaker         any       6.98
#     File::Spec                  any       3.47
#     HTTP::Server::Simple::PSGI  any       0.16
#     Modern::Perl                any 1.20200211
#     Plack::Request              any     1.0030
#     Test::Memory::Cycle         any       1.06
#     Test::More                  any   1.302177
#     Test::Requires              any       0.07
#     open                        any       1.08
#     utf8                        any       1.09
# 
# === Test Recommends ===
# 
#     Module         Want     Have
#     ---------- -------- --------
#     CPAN::Meta 2.120900 2.150010
# 
# === Runtime Requires ===
# 
#     Module                Want  Have
#     --------------------- ---- -----
#     HTTP::Cookies          any  6.01
#     HTTP::Message::PSGI    any undef
#     HTTP::Request::Common  any  6.32
#     HTTP::Response         any  6.32
#     Plack::Loader          any undef
#     Plack::Util::Accessor  any undef
#     Test::TCP              any  2.02
#     Test::WWW::Mechanize   any  1.54
#     parent                 any 0.228
#     strict                 any  1.04
#     warnings               any  1.12
# 
t/00-report-prereqs.t .. ok
t/2args.t .............. ok
t/cookie.t ............. ok
t/cycle.t .............. ok
t/extra_get_args.t ..... ok
t/hello.t .............. ok
t/hello_server.t ....... ok
t/mech.t ............... ok
t/okay.t ............... ok
All tests successful.
Files=9, Tests=57, 182 wallclock secs ( 0.04 usr  0.02 sys +  1.60 cusr  0.47 csys =  2.13 CPU)
Result: PASS

------------------------------
PREREQUISITES
------------------------------

Prerequisite modules loaded:

requires:

    Module                     Need  Have      
    -------------------------- ----- ----------
    HTTP::Cookies              0     6.01      
    HTTP::Message::PSGI        0     0         
    HTTP::Request::Common      0     6.32      
    HTTP::Response             0     6.32      
    parent                     0     0.228     
    perl                       5.008 5.014000  
    Plack::Loader              0     0         
    Plack::Util::Accessor      0     0         
    strict                     0     1.04      
    Test::TCP                  0     2.02      
    Test::WWW::Mechanize       0     1.54      
    warnings                   0     1.12      

build_requires:

    Module                     Need  Have      
    -------------------------- ----- ----------
    ExtUtils::MakeMaker        0     6.98      
    File::Spec                 0     3.47      
    HTTP::Server::Simple::PSGI 0     0.16      
    Modern::Perl               0     1.20200211
    open                       0     1.08      
    Plack::Request             0     1.0030    
    Test::Memory::Cycle        0     1.06      
    Test::More                 0     1.302177  
    Test::Requires             0     0.07      
    utf8                       0     1.09      

configure_requires:

    Module                     Need  Have      
    -------------------------- ----- ----------
    ExtUtils::MakeMaker        0     6.98      
    perl                       5.006 5.014000  


------------------------------
ENVIRONMENT AND OTHER CONTEXT
------------------------------

Environment variables:

    PATH = /usr/local/apache/bin:/usr/local/bin:/usr/local/bin:/usr/bin:/bin:/usr/sbin:/sbin:/Applications/VMware Fusion.app/Contents/Public:/usr/local/go/bin:/opt/X11/bin:/usr/local/git/bin
    PERL5LIB = 
    PERL5OPT = 
    PERL5_CPANPLUS_IS_RUNNING = 47790
    PERL5_CPAN_IS_RUNNING = 47790
    SHELL = /bin/sh
    TERM = xterm

Perl special variables (and OS-specific diagnostics, for MSWin32):

    $^X = /usr/local/perl/5140/bin/perl
    $UID/$EUID = 0 / 0
    $GID = 0 0 1 2 3 4 5 8 9 12 20 29 61 80 701 702 33
    $EGID = 0 0 1 2 3 4 5 8 9 12 20 29 61 80 701 702 33

Perl module toolchain versions installed:

    Module              Have    
    ------------------- --------
    CPAN                1.9600  
    CPAN::Meta          2.150010
    Cwd                 3.47    
    ExtUtils::CBuilder  0.280203
    ExtUtils::Command   1.17    
    ExtUtils::Install   1.56    
    ExtUtils::MakeMaker 6.98    
    ExtUtils::Manifest  1.60    
    ExtUtils::ParseXS   3.35    
    File::Spec          3.47    
    JSON                2.90    
    JSON::PP            4.06    
    Module::Build       0.4231  
    Module::Signature   n/a     
    Parse::CPAN::Meta   2.150010
    Test::Harness       3.32    
    Test::More          1.302177
    YAML                1.30    
    YAML::Syck          1.27    
    version             0.9929  


--

Summary of my perl5 (revision 5 version 14 subversion 0) configuration:
   
  Platform:
    osname=darwin, osvers=12.5.0, archname=darwin-2level
    uname='darwin tucumcari.home 12.5.0 darwin kernel version 12.5.0: sun sep 29 13:33:47 pdt 2013; root:xnu-2050.48.12~1release_x86_64 x86_64 '
    config_args='-Dprefix=/usr/local/perl/5140'
    hint=recommended, useposix=true, d_sigaction=define
    useithreads=undef, usemultiplicity=undef
    useperlio=define, d_sfio=undef, uselargefiles=define, usesocks=undef
    use64bitint=define, use64bitall=define, uselongdouble=undef
    usemymalloc=n, bincompat5005=undef
  Compiler:
    cc='gcc', ccflags ='-fno-common -DPERL_DARWIN -fno-strict-aliasing -pipe -fstack-protector -I/usr/local/include -I/opt/local/include',
    optimize='-O3',
    cppflags='-fno-common -DPERL_DARWIN -fno-strict-aliasing -pipe -fstack-protector -I/usr/local/include -I/opt/local/include'
    ccversion='', gccversion='4.2.1 (Based on Apple Inc. build 5658) (LLVM build 2336.11.00)', gccosandvers=''
    intsize=4, longsize=8, ptrsize=8, doublesize=8, byteorder=12345678
    d_longlong=define, longlongsize=8, d_longdbl=define, longdblsize=16
    ivtype='long', ivsize=8, nvtype='double', nvsize=8, Off_t='off_t', lseeksize=8
    alignbytes=8, prototype=define
  Linker and Libraries:
    ld='env MACOSX_DEPLOYMENT_TARGET=10.3 gcc', ldflags =' -fstack-protector -L/usr/local/lib -L/opt/local/lib'
    libpth=/usr/local/lib /opt/local/lib /usr/lib
    libs=-lgdbm -ldbm -ldl -lm -lutil -lc
    perllibs=-ldl -lm -lutil -lc
    libc=, so=dylib, useshrplib=false, libperl=libperl.a
    gnulibc_version=''
  Dynamic Linking:
    dlsrc=dl_dlopen.xs, dlext=bundle, d_dlsymun=undef, ccdlflags=' '
    cccdlflags=' ', lddlflags=' -bundle -undefined dynamic_lookup -L/usr/local/lib -L/opt/local/lib -fstack-protector'


Characteristics of this binary (from libperl): 
  Compile-time options: PERL_DONT_CREATE_GVSV PERL_MALLOC_WRAP
                        PERL_PRESERVE_IVUV USE_64_BIT_ALL USE_64_BIT_INT
                        USE_LARGE_FILES USE_PERLIO USE_PERL_ATOF
  Built under darwin
  Compiled at Jun 19 2014 17:23:41
  %ENV:
    PERL5LIB=""
    PERL5OPT=""
    PERL5_CPANPLUS_IS_RUNNING="47790"
    PERL5_CPAN_IS_RUNNING="47790"
  @INC:
    /usr/local/perl/5140/lib/site_perl/5.14.0/darwin-2level
    /usr/local/perl/5140/lib/site_perl/5.14.0
    /usr/local/perl/5140/lib/5.14.0/darwin-2level
    /usr/local/perl/5140/lib/5.14.0
    .