Net-DBus v1.2.0 Perl 5 v5.32.0 x86_64-linux

Status
Pass
From
Ioan Rogers
Dist
Net-DBus v1.2.0
Platform
Perl 5 v5.32.0 x86_64-linux
Date
2020-12-30 05:03:56
ID
6b6422ca-4a5c-11eb-be4f-114729fbb72d
This distribution has been tested as part of the CPAN Testers
project, supporting the Perl programming language.  See
http://wiki.cpantesters.org/ for more information or email
questions to cpan-testers-discuss@perl.org


--
Dear DANBERR,

This is a computer-generated report for Net-DBus-1.2.0
on perl 5.32.0, created by App::cpanminus::reporter 0.17 (1.7044).

Thank you for uploading your work to CPAN.  Congratulations!
All tests were successful.

Sections of this report:

    * Tester comments
    * Program output
    * Prerequisites
    * Environment and other context

------------------------------
TESTER COMMENTS
------------------------------

Additional comments from tester:

none provided

------------------------------
PROGRAM OUTPUT
------------------------------

Output from '':

Building and testing Net-DBus-1.2.0
Running Mkbootstrap for DBus ()
"/home/ioan/.plenv/versions/5.32.0/bin/perl5.32.0" "/home/ioan/.plenv/versions/5.32.0/lib/perl5/5.32.0/ExtUtils/xsubpp"  -typemap '/home/ioan/.plenv/versions/5.32.0/lib/perl5/5.32.0/ExtUtils/typemap' -typemap '/home/ioan/.cpanm/work/1609304615.19742/Net-DBus-1.2.0/typemap'  DBus.xs > DBus.xsc
chmod 644 "DBus.bs"
"/home/ioan/.plenv/versions/5.32.0/bin/perl5.32.0" -MExtUtils::Command::MM -e 'cp_nonempty' -- DBus.bs blib/arch/auto/Net/DBus/DBus.bs 644
cp lib/Net/DBus/Test/MockMessage.pm blib/lib/Net/DBus/Test/MockMessage.pm
cp lib/Net/DBus/Object.pm blib/lib/Net/DBus/Object.pm
cp lib/Net/DBus/Binding/Message/MethodReturn.pm blib/lib/Net/DBus/Binding/Message/MethodReturn.pm
cp lib/Net/DBus/Binding/Message/Signal.pm blib/lib/Net/DBus/Binding/Message/Signal.pm
cp lib/Net/DBus/Binding/Connection.pm blib/lib/Net/DBus/Binding/Connection.pm
cp lib/Net/DBus/Binding/Value.pm blib/lib/Net/DBus/Binding/Value.pm
cp lib/Net/DBus/Tutorial/ExportingObjects.pod blib/lib/Net/DBus/Tutorial/ExportingObjects.pod
cp lib/Net/DBus/Binding/Message.pm blib/lib/Net/DBus/Binding/Message.pm
cp lib/Net/DBus/Binding/Server.pm blib/lib/Net/DBus/Binding/Server.pm
cp lib/Net/DBus/Tutorial/UsingObjects.pod blib/lib/Net/DBus/Tutorial/UsingObjects.pod
cp lib/Net/DBus/Error.pm blib/lib/Net/DBus/Error.pm
cp lib/Net/DBus/ProxyObject.pm blib/lib/Net/DBus/ProxyObject.pm
cp lib/Net/DBus/Test/MockIterator.pm blib/lib/Net/DBus/Test/MockIterator.pm
cp lib/Net/DBus/Test/MockObject.pm blib/lib/Net/DBus/Test/MockObject.pm
cp lib/Net/DBus/Binding/PendingCall.pm blib/lib/Net/DBus/Binding/PendingCall.pm
cp lib/Net/DBus/ASyncReply.pm blib/lib/Net/DBus/ASyncReply.pm
cp lib/Net/DBus.pm blib/lib/Net/DBus.pm
cp lib/Net/DBus/Binding/Watch.pm blib/lib/Net/DBus/Binding/Watch.pm
cp lib/Net/DBus/Binding/Message/MethodCall.pm blib/lib/Net/DBus/Binding/Message/MethodCall.pm
cp lib/Net/DBus/BaseObject.pm blib/lib/Net/DBus/BaseObject.pm
cp lib/Net/DBus/Binding/Iterator.pm blib/lib/Net/DBus/Binding/Iterator.pm
cp lib/Net/DBus/Reactor.pm blib/lib/Net/DBus/Reactor.pm
cp lib/Net/DBus/Test/MockConnection.pm blib/lib/Net/DBus/Test/MockConnection.pm
cp lib/Net/DBus/Annotation.pm blib/lib/Net/DBus/Annotation.pm
cp lib/Net/DBus/Binding/Introspector.pm blib/lib/Net/DBus/Binding/Introspector.pm
cp lib/Net/DBus/Dumper.pm blib/lib/Net/DBus/Dumper.pm
cp lib/Net/DBus/Binding/Bus.pm blib/lib/Net/DBus/Binding/Bus.pm
cp lib/Net/DBus/Service.pm blib/lib/Net/DBus/Service.pm
cp lib/Net/DBus/Tutorial.pod blib/lib/Net/DBus/Tutorial.pod
cp lib/Net/DBus/RemoteObject.pm blib/lib/Net/DBus/RemoteObject.pm
cp lib/Net/DBus/Exporter.pm blib/lib/Net/DBus/Exporter.pm
cp lib/Net/DBus/Binding/Message/Error.pm blib/lib/Net/DBus/Binding/Message/Error.pm
cp lib/Net/DBus/Callback.pm blib/lib/Net/DBus/Callback.pm
cp lib/Net/DBus/RemoteService.pm blib/lib/Net/DBus/RemoteService.pm
mv DBus.xsc DBus.c
clang -c  -Wall -I/usr/include/dbus-1.0 -I/usr/lib64/dbus-1.0/include  -fno-strict-aliasing -pipe -fstack-protector-strong -I/usr/local/include -D_LARGEFILE_SOURCE -D_FILE_OFFSET_BITS=64 -O3   -DVERSION=\"1.2.0\" -DXS_VERSION=\"1.2.0\" -fPIC "-I/home/ioan/.plenv/versions/5.32.0/lib/perl5/5.32.0/x86_64-linux/CORE"  -DNET_DBUS_DEBUG=1 DBus.c
rm -f blib/arch/auto/Net/DBus/DBus.so
LD_RUN_PATH="/usr/lib" clang  -shared -O3 -L/usr/local/lib -fstack-protector-strong  DBus.o  -o blib/arch/auto/Net/DBus/DBus.so  \
   -ldbus-1   \
  
chmod 755 blib/arch/auto/Net/DBus/DBus.so
"/home/ioan/.plenv/versions/5.32.0/bin/perl5.32.0" "-Iblib/arch" "-Iblib/lib" META.yml.PL META.yml 
"/home/ioan/.plenv/versions/5.32.0/bin/perl5.32.0" "-Iblib/arch" "-Iblib/lib" perl-Net-DBus.spec.PL perl-Net-DBus.spec 
"/home/ioan/.plenv/versions/5.32.0/bin/perl5.32.0" -MExtUtils::Command::MM -e 'cp_nonempty' -- DBus.bs blib/arch/auto/Net/DBus/DBus.bs 644
PERL_DL_NONLAZY=1 "/home/ioan/.plenv/versions/5.32.0/bin/perl5.32.0" "-MExtUtils::Command::MM" "-MTest::Harness" "-e" "undef *Test::Harness::Switches; test_harness(0, 'blib/lib', 'blib/arch')" t/*.t
t/20-callback.t ................. ok
t/12-changes.t .................. ok
t/00-constants.t ................ ok
t/26-reactor-time-adjusted.t .... ok
t/30-server.t ................... ok
t/42-object-introspect-avahi.t .. ok
t/15-message.t .................. ok
t/40-introspector.t ............. ok
t/50-object-introspect.t ........ ok
t/60-object-props.t ............. ok
t/45-exporter.t ................. ok
t/55-method-calls.t ............. ok
t/65-object-magic.t ............. ok
t/05-pod.t ...................... ok
t/66-child-objects.t ............ ok
t/10-pod-coverage.t ............. ok
t/56-scalar-param-typing.t ...... ok
t/67-child-objects.t ............ ok
t/70-errors.t ................... ok
t/75-notifications.t ............ ok
t/25-reactor.t .................. ok
All tests successful.
Files=21, Tests=755,  3 wallclock secs ( 0.12 usr  0.02 sys +  3.50 cusr  0.41 csys =  4.05 CPU)
Result: PASS

------------------------------
PREREQUISITES
------------------------------

Prerequisite modules loaded:

    No requirements found

------------------------------
ENVIRONMENT AND OTHER CONTEXT
------------------------------

Environment variables:

    HARNESS_OPTIONS = j16
    LANG = en_GB.UTF-8
    PATH = /home/ioan/.plenv/versions/5.32.0/bin:/home/ioan/.plenv/libexec:/home/ioan/.plenv/plugins/perl-build/bin:/home/ioan/.raku/bin:/opt/rakudo-pkg/bin:/home/ioan/.plenv/shims::/home/ioan/.local/bin:/usr/local/bin:/usr/bin:/bin:/usr/local/sbin:/sbin:/usr/sbin:/usr/games
    PERL_CPANM_OPT = --prompt --no-man-pages --verify --mirror https://cpan.metacpan.org
    SHELL = /bin/bash
    TERM = xterm-256color

Perl special variables (and OS-specific diagnostics, for MSWin32):

    EGID = 1001 10 1001
    EUID = 1001
    EXECUTABLE_NAME = /home/ioan/.plenv/versions/5.32.0/bin/perl5.32.0
    GID = 1001 10 1001
    UID = 1001

Perl module toolchain versions installed:

    Module              Have    
    ------------------- --------
    CPAN                2.27    
    CPAN::Meta          2.150010
    Cwd                 3.78    
    ExtUtils::CBuilder  0.280234
    ExtUtils::Command   7.44    
    ExtUtils::Install   2.14    
    ExtUtils::MakeMaker 7.44    
    ExtUtils::Manifest  1.72    
    ExtUtils::ParseXS   3.40    
    File::Spec          3.78    
    JSON                n/a     
    JSON::PP            4.04    
    Module::Build       0.4231  
    Module::Signature   0.87    
    Parse::CPAN::Meta   2.150010
    Test::Harness       3.42    
    Test::More          1.302177
    YAML                n/a     
    YAML::Syck          n/a     
    version             0.9924  


--

Summary of my perl5 (revision 5 version 32 subversion 0) configuration:
   
  Platform:
    osname=linux
    osvers=5.7.14-200.fc32.x86_64
    archname=x86_64-linux
    uname='linux surprise.home.rgrs.ca 5.7.14-200.fc32.x86_64 #1 smp fri aug 7 23:16:37 utc 2020 x86_64 x86_64 x86_64 gnulinux '
    config_args='-Dprefix=/home/ioan/.plenv/versions/5.32.0 -de -Dversiononly -Dcc=clang -Doptimize=-O3 -Dccflags-march=native  -Dman1dir=none -Dman3dir=none -A'eval:scriptdir=/home/ioan/.plenv/versions/5.32.0/bin''
    hint=recommended
    useposix=true
    d_sigaction=define
    useithreads=undef
    usemultiplicity=undef
    use64bitint=define
    use64bitall=define
    uselongdouble=undef
    usemymalloc=n
    default_inc_excludes_dot=define
    bincompat5005=undef
  Compiler:
    cc='clang'
    ccflags ='-fno-strict-aliasing -pipe -fstack-protector-strong -I/usr/local/include -D_LARGEFILE_SOURCE -D_FILE_OFFSET_BITS=64'
    optimize='-O3'
    cppflags='-fno-strict-aliasing -pipe -fstack-protector-strong -I/usr/local/include'
    ccversion=''
    gccversion='Clang 10.0.0 (Fedora 10.0.0-2.fc32)'
    gccosandvers=''
    intsize=4
    longsize=8
    ptrsize=8
    doublesize=8
    byteorder=12345678
    doublekind=3
    d_longlong=define
    longlongsize=8
    d_longdbl=define
    longdblsize=16
    longdblkind=3
    ivtype='long'
    ivsize=8
    nvtype='double'
    nvsize=8
    Off_t='off_t'
    lseeksize=8
    alignbytes=8
    prototype=define
  Linker and Libraries:
    ld='clang'
    ldflags =' -fstack-protector-strong -L/usr/local/lib'
    libpth=/usr/local/lib /usr/lib64/clang/10.0.0/lib /usr/lib /lib/../lib64 /usr/lib/../lib64 /lib /lib64 /usr/lib64 /usr/local/lib64
    libs=-lpthread -ldl -lm -lcrypt -lutil -lc
    perllibs=-lpthread -ldl -lm -lcrypt -lutil -lc
    libc=libc-2.31.so
    so=so
    useshrplib=false
    libperl=libperl.a
    gnulibc_version='2.31'
  Dynamic Linking:
    dlsrc=dl_dlopen.xs
    dlext=so
    d_dlsymun=undef
    ccdlflags='-Wl,-E'
    cccdlflags='-fPIC'
    lddlflags='-shared -O3 -L/usr/local/lib -fstack-protector-strong'


Characteristics of this binary (from libperl): 
  Compile-time options:
    HAS_TIMES
    PERLIO_LAYERS
    PERL_COPY_ON_WRITE
    PERL_DONT_CREATE_GVSV
    PERL_MALLOC_WRAP
    PERL_OP_PARENT
    PERL_PRESERVE_IVUV
    USE_64_BIT_ALL
    USE_64_BIT_INT
    USE_LARGE_FILES
    USE_LOCALE
    USE_LOCALE_COLLATE
    USE_LOCALE_CTYPE
    USE_LOCALE_NUMERIC
    USE_LOCALE_TIME
    USE_PERLIO
    USE_PERL_ATOF
  Built under linux
  Compiled at Aug 19 2020 10:57:13
  %ENV:
    PERL_CPANM_OPT="--prompt --no-man-pages --verify --mirror https://cpan.metacpan.org"
  @INC:
    /home/ioan/.plenv/versions/5.32.0/lib/perl5/site_perl/5.32.0/x86_64-linux
    /home/ioan/.plenv/versions/5.32.0/lib/perl5/site_perl/5.32.0
    /home/ioan/.plenv/versions/5.32.0/lib/perl5/5.32.0/x86_64-linux
    /home/ioan/.plenv/versions/5.32.0/lib/perl5/5.32.0