HiD v1.992 Perl 5 v5.42.0 RC2 x86_64-linux

Status
Pass
From
Slaven Rezić
Dist
HiD v1.992
Platform
Perl 5 v5.42.0 RC2 x86_64-linux
Date
2025-07-01 03:21:03
ID
6afa4f06-562a-11f0-ada9-234b6e8775ea
This distribution has been tested as part of the CPAN Testers
project, supporting the Perl programming language.  See
http://wiki.cpantesters.org/ for more information or email
questions to cpan-testers-discuss@perl.org


--
Dear John SJ Anderson,

This is a computer-generated report for HiD-1.992
on perl 5.42.0, created by CPAN-Reporter-1.2020.

Thank you for uploading your work to CPAN.  Congratulations!
All tests were successful.

Sections of this report:

    * Tester comments
    * Program output
    * Prerequisites
    * Environment and other context

------------------------------
TESTER COMMENTS
------------------------------

Additional comments from tester:

none provided

------------------------------
PROGRAM OUTPUT
------------------------------

Output from '/usr/bin/make test':

PERL_DL_NONLAZY=1 "/opt/perl-5.42.0-RC2/bin/perl" "-MExtUtils::Command::MM" "-MTest::Harness" "-e" "undef *Test::Harness::Switches; test_harness(0, 'blib/lib', 'blib/arch')" t/*.t
t/00-compile.t ........... ok
t/author-eol.t ........... skipped: these tests are for testing by the author
t/author-pod-coverage.t .. skipped: these tests are for testing by the author
t/author-pod-syntax.t .... skipped: these tests are for testing by the author
t/cmd-config.t ........... ok
t/cmd-help.t ............. ok
t/cmd-init.t ............. ok
# Testing in /var/tmp/cpansmoker-1023/2025063020/MMFChuKMYH
t/cmd-publish.t .......... ok
t/config.t ............... ok
t/file.t ................. ok
t/hid-server.t ........... ok
[2025/07/01 03:19:35]  WARN Skipping _posts/2008-02-02-not-published.textile because 'published' flag is false
[2025/07/01 03:19:35] ERROR ERROR: Post failed to build: Can't locate PatternLayout.pm in @INC (you may need to install the PatternLayout module) (@INC entries checked: /home/cpansand/.cpan/build/2025070103/HiD-1.992-0/blib/lib /home/cpansand/.cpan/build/2025070103/HiD-1.992-0/blib/arch /opt/perl-5.42.0-RC2/lib/site_perl/5.42.0/x86_64-linux /opt/perl-5.42.0-RC2/lib/site_perl/5.42.0 /opt/perl-5.42.0-RC2/lib/5.42.0/x86_64-linux /opt/perl-5.42.0-RC2/lib/5.42.0 .) at /opt/perl-5.42.0-RC2/lib/site_perl/5.42.0/Log/Log4perl/Util.pm line 51.
	...propagated at /home/cpansand/.cpan/build/2025070103/HiD-1.992-0/blib/lib/HiD/Post.pm line 36.
t/hid.t .................. ok
t/layout.t ............... ok
t/page.t ................. ok
t/post-twitter.t ......... ok
t/post.t ................. ok
All tests successful.

Test Summary Report
-------------------
t/cmd-publish.t        (Wstat: 0 Tests: 76 Failed: 0)
  TODO passed:   72-73
Files=16, Tests=209, 24 wallclock secs ( 0.10 usr  0.03 sys + 20.94 cusr  2.07 csys = 23.14 CPU)
Result: PASS

------------------------------
PREREQUISITES
------------------------------

Prerequisite modules loaded:

requires:

    Module                       Need  Have    
    ---------------------------- ----- --------
    autodie                      0     2.37    
    Carp                         0     1.54    
    charnames                    0     1.50    
    Class::Load                  0     0.25    
    Data::Page                   0     2.03    
    Data::Printer                0.35  1.002001
    Date::Parse                  0     2.33    
    DateTime                     0     1.66    
    feature                      0     1.97    
    File::Copy                   0     2.41    
    File::Find::Rule             0     0.35    
    Log::Log4perl                0     1.57    
    Moose                        0     2.2207  
    Moose::Role                  0     2.2207  
    Moose::Util::TypeConstraints 0     2.2207  
    MooseX::App::Cmd             0     0.34    
    MooseX::App::Cmd::Command    0     0.34    
    MooseX::Getopt               0     0.78    
    namespace::autoclean         0     0.31    
    open                         0     1.13    
    parent                       0     0.244   
    Path::Tiny                   0.054 0.148   
    perl                         5.014 5.042000
    Plack::App::File             0     0       
    Plack::Builder               0     0       
    Plack::Handler::Standalone   0     0       
    Plack::Loader::Restarter     0     0       
    Plack::Runner                0     0       
    strict                       0     1.14    
    String::Errf                 0     0.009   
    Template                     0     3.102   
    Text::Handlebars             0     0.05    
    Text::Markdown               0     1.000031
    Text::MultiMarkdown          0     1.005   
    Text::Textile                0     2.13    
    Text::Xslate                 0     v3.5.9  
    Try::Tiny                    0     0.32    
    utf8                         0     1.27    
    warnings                     0     1.74    
    XML::Feed                    0     0.65    
    XML::Feed::Entry             0     0.65    
    YAML::Tiny                   0     1.76    
    YAML::XS                     0     v0.904.0

build_requires:

    Module                       Need  Have    
    ---------------------------- ----- --------
    App::Cmd::Tester             0     0.337   
    Exporter                     0     5.79    
    ExtUtils::MakeMaker          0     7.76    
    File::Spec                   0     3.94    
    FindBin                      0     1.54    
    HTTP::Request::Common        0     7.00    
    IO::Handle                   0     1.55    
    IPC::Open3                   0     1.24    
    lib                          0     0.65    
    Plack::Test                  0     0       
    Test::File                   0     1.995   
    Test::File::Contents         0     0.242   
    Test::More                   0     1.302214
    Test::Routine                0     0.031   
    Test::Routine::Util          0     0.031   
    Test::Warn                   0     0.37    

configure_requires:

    Module                       Need  Have    
    ---------------------------- ----- --------
    ExtUtils::MakeMaker          0     7.76    
    perl                         5.014 5.042000


------------------------------
ENVIRONMENT AND OTHER CONTEXT
------------------------------

Environment variables:

    LANG = C
    LC_ALL = de_DE.UTF-8
    PATH = /usr/local/bin:/usr/bin:/bin:/usr/local/sbin:/usr/sbin:/sbin:/home/cpansand/bin/linux-gnu:/home/cpansand/bin/sh:/home/cpansand/bin:/usr/games:/home/cpansand/devel:/home/eserte/src/srezic-misc/scripts
    PERL5LIB = 
    PERL5OPT = 
    PERL5_CPANPLUS_IS_RUNNING = 258655
    PERL5_CPAN_IS_RUNNING = 258655
    PERL5_CPAN_IS_RUNNING_IN_RECURSION = 3905053,258655
    PERLDOC = -MPod::Perldoc::ToTextOverstrike
    PERL_BATCH = yes
    PERL_CANARY_STABILITY_NOPROMPT = 1
    PERL_CPAN_REPORTER_CONFIG = /var/tmp/cpansmoker-1023/2025063020/cpanreporter_001_config.ini
    PERL_EXTUTILS_AUTOINSTALL = --defaultdeps
    PERL_PARALLEL_SMOKER = yes
    PERL_USE_UNSAFE_INC = 1
    SHELL = /usr/bin/zsh
    TERM = screen
    TMPDIR = /var/tmp/cpansmoker-1023/2025063020

Perl special variables (and OS-specific diagnostics, for MSWin32):

    $^X = /opt/perl-5.42.0-RC2/bin/perl
    $UID/$EUID = 1023 / 1023
    $GID = 1023 1023
    $EGID = 1023 1023

Perl module toolchain versions installed:

    Module              Have    
    ------------------- --------
    CPAN                2.38    
    CPAN::Meta          2.150010
    Cwd                 3.94    
    ExtUtils::CBuilder  0.280242
    ExtUtils::Command   7.76    
    ExtUtils::Install   2.22    
    ExtUtils::MakeMaker 7.76    
    ExtUtils::Manifest  1.75    
    ExtUtils::ParseXS   3.57    
    File::Spec          3.94    
    JSON                4.10    
    JSON::PP            4.16    
    Module::Build       0.4234  
    Module::Signature   n/a     
    Parse::CPAN::Meta   2.150010
    Test2               1.302214
    Test::Harness       3.52    
    Test::More          1.302214
    YAML                1.31    
    YAML::Syck          1.34    
    version             0.9933  


--

Summary of my perl5 (revision 5 version 42 subversion 0) configuration:
   
  Platform:
    osname=linux
    osvers=6.1.0-37-amd64
    archname=x86_64-linux
    uname='linux cloud5.bbbike.org 6.1.0-37-amd64 #1 smp preempt_dynamic debian 6.1.140-1 (2025-05-22) x86_64 gnulinux '
    config_args='-ds -e -Dprefix=/opt/perl-5.42.0-RC2 -Uinstallusrbinperl -Dcf_email=srezic@cpan.org'
    hint=recommended
    useposix=true
    d_sigaction=define
    useithreads=undef
    usemultiplicity=undef
    use64bitint=define
    use64bitall=define
    uselongdouble=undef
    usemymalloc=n
    default_inc_excludes_dot=define
  Compiler:
    cc='cc'
    ccflags ='-fwrapv -fno-strict-aliasing -pipe -fstack-protector-strong -I/usr/local/include -D_LARGEFILE_SOURCE -D_FILE_OFFSET_BITS=64 -D_FORTIFY_SOURCE=2'
    optimize='-O2'
    cppflags='-fwrapv -fno-strict-aliasing -pipe -fstack-protector-strong -I/usr/local/include'
    ccversion=''
    gccversion='12.2.0'
    gccosandvers=''
    intsize=4
    longsize=8
    ptrsize=8
    doublesize=8
    byteorder=12345678
    doublekind=3
    d_longlong=define
    longlongsize=8
    d_longdbl=define
    longdblsize=16
    longdblkind=3
    ivtype='long'
    ivsize=8
    nvtype='double'
    nvsize=8
    Off_t='off_t'
    lseeksize=8
    alignbytes=8
    prototype=define
  Linker and Libraries:
    ld='cc'
    ldflags =' -fstack-protector-strong -L/usr/local/lib'
    libpth=/usr/local/lib /usr/lib/x86_64-linux-gnu /usr/lib /usr/lib64
    libs=-lpthread -lgdbm -ldb -ldl -lm -lcrypt -lutil -lc
    perllibs=-lpthread -ldl -lm -lcrypt -lutil -lc
    libc=/lib/x86_64-linux-gnu/libc.so.6
    so=so
    useshrplib=false
    libperl=libperl.a
    gnulibc_version='2.36'
  Dynamic Linking:
    dlsrc=dl_dlopen.xs
    dlext=so
    d_dlsymun=undef
    ccdlflags='-Wl,-E'
    cccdlflags='-fPIC'
    lddlflags='-shared -O2 -L/usr/local/lib -fstack-protector-strong'


Characteristics of this binary (from libperl): 
  Compile-time options:
    HAS_LONG_DOUBLE
    HAS_STRTOLD
    HAS_TIMES
    PERLIO_LAYERS
    PERL_COPY_ON_WRITE
    PERL_DONT_CREATE_GVSV
    PERL_HASH_FUNC_SIPHASH13
    PERL_HASH_USE_SBOX32
    PERL_MALLOC_WRAP
    PERL_OP_PARENT
    PERL_PRESERVE_IVUV
    PERL_USE_SAFE_PUTENV
    USE_64_BIT_ALL
    USE_64_BIT_INT
    USE_LARGE_FILES
    USE_LOCALE
    USE_LOCALE_COLLATE
    USE_LOCALE_CTYPE
    USE_LOCALE_NUMERIC
    USE_LOCALE_TIME
    USE_PERLIO
    USE_PERL_ATOF
  Locally applied patches:
    RC2
  Built under linux
  Compiled at Jun 28 2025 11:24:33
  %ENV:
    PERL5LIB=""
    PERL5OPT=""
    PERL5_CPANPLUS_IS_RUNNING="258655"
    PERL5_CPAN_IS_RUNNING="258655"
    PERL5_CPAN_IS_RUNNING_IN_RECURSION="3905053,258655"
    PERLDOC="-MPod::Perldoc::ToTextOverstrike"
    PERL_BATCH="yes"
    PERL_CANARY_STABILITY_NOPROMPT="1"
    PERL_CPAN_REPORTER_CONFIG="/var/tmp/cpansmoker-1023/2025063020/cpanreporter_001_config.ini"
    PERL_EXTUTILS_AUTOINSTALL="--defaultdeps"
    PERL_PARALLEL_SMOKER="yes"
    PERL_USE_UNSAFE_INC="1"
  @INC:
    /opt/perl-5.42.0-RC2/lib/site_perl/5.42.0/x86_64-linux
    /opt/perl-5.42.0-RC2/lib/site_perl/5.42.0
    /opt/perl-5.42.0-RC2/lib/5.42.0/x86_64-linux
    /opt/perl-5.42.0-RC2/lib/5.42.0
    .