Report for Dist-Zilla-Plugin-CheckExtraTests-0.022

Back
From: metabase:user:320bfe00-2aae-11df-837a-5e0a49663a4f
Subject: PASS Dist-Zilla-Plugin-CheckExtraTests-0.022 v5.14.4 GNU/Linux
Date: 2014-08-02T07:34:20Z

This distribution has been tested as part of the CPAN Testers
project, supporting the Perl programming language.  See
http://wiki.cpantesters.org/ for more information or email
questions to cpan-testers-discuss@perl.org


--
Dear David Golden,

This is a computer-generated report for Dist-Zilla-Plugin-CheckExtraTests-0.022
on perl 5.14.4, created by CPAN-Reporter-1.2011.

Thank you for uploading your work to CPAN.  Congratulations!
All tests were successful.

Sections of this report:

    * Tester comments
    * Program output
    * Prerequisites
    * Environment and other context

------------------------------
TESTER COMMENTS
------------------------------

Additional comments from tester:

this report is from an automated smoke testing program
and was not reviewed by a human for accuracy

------------------------------
PROGRAM OUTPUT
------------------------------

Output from '/usr/bin/make test':

PERL_DL_NONLAZY=1 /home/sand/src/perl/repoperls/installed-perls/perl/v5.14.4/127e/bin/perl "-MExtUtils::Command::MM" "-MTest::Harness" "-e" "undef *Test::Harness::Switches; test_harness(0, 'blib/lib', 'blib/arch')" t/*.t

# Versions for all modules listed in MYMETA.json (including optional ones):
#        Version Module                          
#   ------------ --------------------------------
#           3.32 App::Prove                      
#           2.00 Archive::Tar                    
#       2.142060 CPAN::Meta                      
#          2.126 CPAN::Meta::Requirements        
#           0.24 Capture::Tiny                   
#          5.020 Dist::Zilla                     
#          5.020 Dist::Zilla::App                
#          5.020 Dist::Zilla::App::Tester        
#          5.020 Dist::Zilla::Role::BeforeRelease
#          5.020 Dist::Zilla::Role::TestRunner   
#          5.020 Dist::Zilla::Tester             
#           6.98 ExtUtils::MakeMaker             
#           3.47 File::Spec::Functions           
#          1.009 File::pushd                     
#           1.39 List::Util                      
#         2.1210 Moose                           
#           0.15 Moose::Autobox                  
#           1.07 Params::Util                    
#          1.008 Path::Iterator::Rule            
#          0.055 Path::Tiny                      
#          0.987 Sub::Exporter                   
#   1.301001_018 Test::More                      
#           0.08 Test::Requires                  
#           0.22 Try::Tiny                       
#           0.63 lib                             
#           0.19 namespace::autoclean            
#           1.04 strict                          
#         0.9908 version                         
#           1.12 warnings                        
t/00-report-prereqs.t .. ok
t/checkxt.t ............ ok
t/runxt.t .............. ok
t/withblib.t ........... ok
All tests successful.
Files=4, Tests=16, 18 wallclock secs ( 0.03 usr  0.00 sys +  7.39 cusr  0.76 csys =  8.18 CPU)
Result: PASS

------------------------------
PREREQUISITES
------------------------------

Prerequisite modules loaded:

requires:

    Module                           Need  Have        
    -------------------------------- ----- ------------
    App::Prove                       3.00  3.32        
    Archive::Tar                     0     2.00        
    Dist::Zilla                      4.3   5.020       
    Dist::Zilla::App                 0     5.020       
    Dist::Zilla::Role::BeforeRelease 0     5.020       
    Dist::Zilla::Role::TestRunner    0     5.020       
    File::pushd                      0     1.009       
    Moose                            2     2.1210      
    Moose::Autobox                   0     0.15        
    namespace::autoclean             0.09  0.19        
    Path::Iterator::Rule             0     1.008       
    Path::Tiny                       0.013 0.055       
    strict                           0     1.04        
    warnings                         0     1.12        

build_requires:

    Module                           Need  Have        
    -------------------------------- ----- ------------
    Capture::Tiny                    0     0.24        
    Dist::Zilla::App::Tester         0     5.020       
    Dist::Zilla::Tester              0     5.020       
    ExtUtils::MakeMaker              0     6.98        
    File::Spec::Functions            0     3.47        
    lib                              0     0.63        
    List::Util                       0     1.39        
    Params::Util                     0     1.07        
    Sub::Exporter                    0     0.987       
    Test::More                       0.88  1.301001_018
    Test::Requires                   0     0.08        
    Try::Tiny                        0     0.22        
    version                          0     0.9908      

configure_requires:

    Module                           Need  Have        
    -------------------------------- ----- ------------
    ExtUtils::MakeMaker              6.17  6.98        


------------------------------
ENVIRONMENT AND OTHER CONTEXT
------------------------------

Environment variables:

    AUTOMATED_TESTING = 1
    LANG = en_US.UTF-8
    LANGUAGE = en_US:en
    PATH = /usr/lib/ccache:/home/sand/bin:/usr/local/bin:/usr/bin:/bin:/usr/games:/usr/local/perl/bin:/usr/X11/bin:/sbin:/usr/sbin
    PERL5LIB = 
    PERL5OPT = 
    PERL5_CPANPLUS_IS_RUNNING = 2810
    PERL5_CPAN_IS_RUNNING = 2810
    PERL_MM_USE_DEFAULT = 1
    SHELL = /usr/bin/zsh
    TERM = screen

Perl special variables (and OS-specific diagnostics, for MSWin32):

    $^X = /home/sand/src/perl/repoperls/installed-perls/perl/v5.14.4/127e/bin/perl
    $UID/$EUID = 1005 / 1005
    $GID = 1005 1005
    $EGID = 1005 1005

Perl module toolchain versions installed:

    Module              Have        
    ------------------- ------------
    CPAN                2.05        
    CPAN::Meta          2.142060    
    Cwd                 3.47        
    ExtUtils::CBuilder  0.280216    
    ExtUtils::Command   1.17        
    ExtUtils::Install   1.56        
    ExtUtils::MakeMaker 6.98        
    ExtUtils::Manifest  1.60        
    ExtUtils::ParseXS   3.24        
    File::Spec          3.47        
    JSON                2.90        
    JSON::PP            2.27203     
    Module::Build       0.4206      
    Module::Signature   0.73        
    Parse::CPAN::Meta   1.4414      
    Test::Harness       3.32        
    Test::More          1.301001_018
    YAML                0.98        
    YAML::Syck          1.27        
    version             0.9908      


--

Summary of my perl5 (revision 5 version 14 subversion 4) configuration:
  Commit id: 26c5c13a4ece9084f310610bb17fb2f24c72a73e
  Platform:
    osname=linux, osvers=3.14-2-amd64, archname=x86_64-linux-ld
    uname='linux k83 3.14-2-amd64 #1 smp debian 3.14.13-2 (2014-07-24) x86_64 gnulinux '
    config_args='-Dprefix=/home/sand/src/perl/repoperls/installed-perls/perl/v5.14.4/127e -Dmyhostname=k83 -Dinstallusrbinperl=n -Uversiononly -Dusedevel -des -Ui_db -Uuseithreads -Duselongdouble -DDEBUGGING=-g'
    hint=recommended, useposix=true, d_sigaction=define
    useithreads=undef, usemultiplicity=undef
    useperlio=define, d_sfio=undef, uselargefiles=define, usesocks=undef
    use64bitint=define, use64bitall=define, uselongdouble=define
    usemymalloc=n, bincompat5005=undef
  Compiler:
    cc='cc', ccflags ='-fno-strict-aliasing -pipe -fstack-protector -I/usr/local/include -D_LARGEFILE_SOURCE -D_FILE_OFFSET_BITS=64',
    optimize='-O2 -g',
    cppflags='-fno-strict-aliasing -pipe -fstack-protector -I/usr/local/include'
    ccversion='', gccversion='4.9.1', gccosandvers=''
    intsize=4, longsize=8, ptrsize=8, doublesize=8, byteorder=12345678
    d_longlong=define, longlongsize=8, d_longdbl=define, longdblsize=16
    ivtype='long', ivsize=8, nvtype='long double', nvsize=16, Off_t='off_t', lseeksize=8
    alignbytes=16, prototype=define
  Linker and Libraries:
    ld='cc', ldflags =' -fstack-protector -L/usr/local/lib'
    libpth=/usr/local/lib /lib/x86_64-linux-gnu /lib/../lib /usr/lib/x86_64-linux-gnu /usr/lib/../lib /lib /usr/lib
    libs=-lnsl -lgdbm -ldb -ldl -lm -lcrypt -lutil -lc -lgdbm_compat
    perllibs=-lnsl -ldl -lm -lcrypt -lutil -lc
    libc=, so=so, useshrplib=false, libperl=libperl.a
    gnulibc_version='2.19'
  Dynamic Linking:
    dlsrc=dl_dlopen.xs, dlext=so, d_dlsymun=undef, ccdlflags='-Wl,-E'
    cccdlflags='-fPIC', lddlflags='-shared -O2 -g -L/usr/local/lib -fstack-protector'


Characteristics of this binary (from libperl): 
  Compile-time options: PERL_DONT_CREATE_GVSV PERL_MALLOC_WRAP
                        PERL_PRESERVE_IVUV PERL_USE_DEVEL USE_64_BIT_ALL
                        USE_64_BIT_INT USE_LARGE_FILES USE_LONG_DOUBLE
                        USE_PERLIO USE_PERL_ATOF
  Built under linux
  Compiled at Aug  1 2014 11:19:07
  %ENV:
    PERL5LIB=""
    PERL5OPT=""
    PERL5_CPANPLUS_IS_RUNNING="2810"
    PERL5_CPAN_IS_RUNNING="2810"
    PERL_MM_USE_DEFAULT="1"
  @INC:
    /home/sand/src/perl/repoperls/installed-perls/perl/v5.14.4/127e/lib/site_perl/5.14.4/x86_64-linux-ld
    /home/sand/src/perl/repoperls/installed-perls/perl/v5.14.4/127e/lib/site_perl/5.14.4
    /home/sand/src/perl/repoperls/installed-perls/perl/v5.14.4/127e/lib/5.14.4/x86_64-linux-ld
    /home/sand/src/perl/repoperls/installed-perls/perl/v5.14.4/127e/lib/5.14.4
    .