App-perlbrew v1.01 Perl 5 v5.32.0 i686-linux-ld

Status
Pass
From
David Cantrell (DCANTRELL)
Dist
App-perlbrew v1.01
Platform
Perl 5 v5.32.0 i686-linux-ld
Date
2024-11-20 00:57:27
ID
69a35d64-a6da-11ef-b19b-12ca25cd0af8
This distribution has been tested as part of the CPAN Testers
project, supporting the Perl programming language.  See
http://wiki.cpantesters.org/ for more information or email
questions to cpan-testers-discuss@perl.org


--
Dear Liu Kang Min,

This is a computer-generated report for App-perlbrew-1.01
on perl 5.32.0, created by CPAN-Reporter-1.2018.

Thank you for uploading your work to CPAN.  Congratulations!
All tests were successful.

Sections of this report:

    * Tester comments
    * Program output
    * Prerequisites
    * Environment and other context

------------------------------
TESTER COMMENTS
------------------------------

Additional comments from tester:

this report is from an automated smoke testing program
and was not reviewed by a human for accuracy

------------------------------
PROGRAM OUTPUT
------------------------------

Output from './Build test':

t/00.load.t ............................... ok
t/01.options.t ............................ ok
t/02.format_perl_version.t ................ ok
t/03.test_get_available_versions.t ........ ok
t/04.find_available_perls.t ............... ok
t/05.get_current_perl.t ................... ok
t/06.installed_perls.t .................... ok
t/07.argv.t ............................... ok
t/08.error_available.t .................... ok
t/08.error_install.t ...................... ok
t/08.error_install_blead.t ................ ok
t/08.error_install_cpanm.t ................ ok
t/08.error_install_cpm.t .................. ok
t/09.exit_status.t ........................ ok
t/10.resolve.t ............................ ok
t/11.editdist.t ........................... ok
t/11.root_from_arg.t ...................... ok
t/12.destdir.t ............................ ok
t/12.sitecustomize.t ...................... ok
# Workflow build 'when the given versionis not found is CPAN::Perl::Releases' is empty at t/13.perl_release.t around lines 27 -> 44.
t/13.perl_release.t ....................... ok
t/14.perl_version_parsing.t ............... ok
# /tmp/RcbSyEkUjO/build/test/test
t/15.no-reuse-build-dir.t ................. ok
t/16.release-detail.t ..................... ok
t/18.release-detail-perl-local.t .......... ok
t/18.release-detail-perl-remote.t ......... skipped: These tests send HTTP requests. Set env TEST_LIVE=1 to really run them.
# alias, available, clean, clone-modules, compgen, display-bashrc, display-cshrc, display-installation-failure-message, display-pristine-manpath, display-pristine-path, display-system-perl-executable, display-system-perl-shebang, download, env, exec, help, info, init, init-in-bash, install, install-cpanm, install-cpm, install-multiple, install-patchperl, lib, lib-create, lib-delete, lib-list, list, list-modules, make-pp, make-shim, off, self-install, self-upgrade, switch, switch-off, symlink-executables, uninstall, upgrade-perl, use, version
t/19.find_similar_commands.t .............. ok
t/app-perlbrew-path-installation.t ........ ok
t/app-perlbrew-path.t ..................... ok
t/bashrc_content.t ........................ ok
t/bashrc_executes.t ....................... ok
t/builddir.t .............................. ok
t/command-alias.t ......................... ok
t/command-available.t ..................... ok
t/command-clone-modules.t ................. ok
t/command-compgen.t ....................... ok
t/command-display-rc.t .................... ok
t/command-env.t ........................... ok
sort (...) interpreted as function at t/command-exec.t line 386.
sort (...) interpreted as function at t/command-exec.t line 410.
            # Command [perl -E 'say 42'] terminated with exit code 255 ($? = -1) under the following perl environment:
            # Command [perl -E 'say 42'] terminated with exit code 7 ($? = 1792) under the following perl environment:
            # Command [perl -E 'say 42'] terminated with exit code 3 ($? = 768) under the following perl environment:
            # Command [perl -E 'say 42'] terminated with exit code 3 ($? = 768) under the following perl environment:
            # Command [perl -E 'say 42'] terminated with exit code 3 ($? = 768) under the following perl environment:
            # Command [perl -E 'somesub 42'] terminated with exit code 7 ($? = 1792) under the following perl environment:
            # format_info_output_value
t/command-exec.t .......................... ok
t/command-help.t .......................... ok
t/command-info.t .......................... ok
t/command-install-cpanm.t ................. ok
t/command-install-cpm.t ................... ok
t/command-install-from-archive.t .......... ok
t/command-install-patchperl.t ............. ok
t/command-install.t ....................... ok
t/command-lib.t ........................... ok
# Workflow build 'when `--no-decoration` is given' is empty at t/command-list.t around lines 90 -> 98.
t/command-list.t .......................... ok
        # 
        # The content of shim:
        # ----
        # #!/bin/bash
        # export PERL5LIB="/home/david/cpantesting/perl-5.32.0-longdouble/.cpan/build/App-perlbrew-1.01-0/blib/arch:/home/david/cpantesting/perl-5.32.0-longdouble/.cpan/build/App-perlbrew-1.01-0/blib/lib"
        # unset PERLBREW_LIB
        # export PERLBREW_MANPATH="/tmp/rHHGKZC0Tq/perls/perl-5.36.1/man"
        # export PERLBREW_PATH="/tmp/rHHGKZC0Tq/bin:/tmp/rHHGKZC0Tq/perls/perl-5.36.1/bin"
        # export PERLBREW_PERL="perl-5.36.1"
        # export PERLBREW_ROOT="/tmp/rHHGKZC0Tq"
        # export PERLBREW_VERSION="1.01"
        # unset PERL_LOCAL_LIB_ROOT
        # 
        # export PATH="/tmp/rHHGKZC0Tq/bin:/tmp/rHHGKZC0Tq/perls/perl-5.36.1/bin:/home/david/.cargo/bin:/home/david/perl5/perlbrew/bin:/home/david/perl5/perlbrew/perls/perl-5.32.0/bin:/home/david/bin:/usr/local/bin:/usr/bin:/bin:/usr/local/games:/usr/games"
        # 
        # exec bar "$@"
        # 
        # 
        # ----
        # 
        # The content of shim:
        # ----
        # #!/bin/bash
        # export PERL5LIB="/home/david/cpantesting/perl-5.32.0-longdouble/.cpan/build/App-perlbrew-1.01-0/blib/arch:/home/david/cpantesting/perl-5.32.0-longdouble/.cpan/build/App-perlbrew-1.01-0/blib/lib"
        # unset PERLBREW_LIB
        # export PERLBREW_MANPATH="/tmp/rHHGKZC0Tq/perls/perl-5.36.1/man"
        # export PERLBREW_PATH="/tmp/rHHGKZC0Tq/bin:/tmp/rHHGKZC0Tq/perls/perl-5.36.1/bin"
        # export PERLBREW_PERL="perl-5.36.1"
        # export PERLBREW_ROOT="/tmp/rHHGKZC0Tq"
        # export PERLBREW_VERSION="1.01"
        # unset PERL_LOCAL_LIB_ROOT
        # 
        # export PATH="/tmp/rHHGKZC0Tq/bin:/tmp/rHHGKZC0Tq/perls/perl-5.36.1/bin:/home/david/.cargo/bin:/home/david/perl5/perlbrew/bin:/home/david/perl5/perlbrew/perls/perl-5.32.0/bin:/home/david/bin:/usr/local/bin:/usr/bin:/bin:/usr/local/games:/usr/games"
        # 
        # exec foo "$@"
        # 
        # 
        # ----
t/command-make-shim.t ..................... ok
t/current_perl.t .......................... ok
t/current_shell.t ......................... ok
t/do_system.t ............................. ok
t/error-http_download-exec-error.t ........ ok
t/error-http_download-exit-nonzero.t ...... ok
t/error-http_download-param-validation.t .. ok
t/error-install-before-init.t ............. ok
t/failure-command-install-cpanm.t ......... ok
t/failure-command-install-cpm.t ........... ok
t/failure-command-install-patchperl.t ..... ok
t/home.t .................................. ok
t/http-program-control.t .................. ok
# PATH=/home/david/cpantesting/perl-5.32.0-longdouble/.cpan/build/App-perlbrew-1.01-0/t/fake-bin:/home/david/.cargo/bin:/home/david/perl5/perlbrew/bin:/home/david/perl5/perlbrew/perls/perl-5.32.0/bin:/home/david/bin:/usr/local/bin:/usr/bin:/bin:/usr/local/games:/usr/games
# curl = /home/david/cpantesting/perl-5.32.0-longdouble/.cpan/build/App-perlbrew-1.01-0/t/fake-bin/curl
t/http-ua-detect-non-curl.t ............... ok
t/http-ua-detect.t ........................ ok
t/http.t .................................. skipped: (no reason given)
t/installation-perlbrew.t ................. ok
t/installation.t .......................... ok
t/installation2.t ......................... ok
t/installation3.t ......................... ok
t/list_modules.t .......................... ok
t/sys.t ................................... ok
t/unit-files-are-the-same.t ............... ok
t/util-find-similar-tokens.t .............. ok
t/util-looks-like.t ....................... ok
All tests successful.
Files=72, Tests=249, 126 wallclock secs ( 0.57 usr  0.25 sys + 33.32 cusr  6.03 csys = 40.17 CPU)
Result: PASS

------------------------------
PREREQUISITES
------------------------------

Prerequisite modules loaded:

requires:

    Module                    Need       Have      
    ------------------------- ---------- ----------
    Capture::Tiny             0.48       0.48      
    CPAN::Perl::Releases      5.20240920 5.20241020
    Devel::PatchPerl          2.08       2.08      
    ExtUtils::MakeMaker       7.22       7.70      
    File::Copy                0          2.34      
    File::Temp                0.2304     0.2311    
    JSON::PP                  0          4.16      
    local::lib                2.000014   2.000029  
    Pod::Usage                1.69       2.03      

build_requires:

    Module                    Need       Have      
    ------------------------- ---------- ----------
    File::Which               1.21       1.27      
    Path::Class               0.33       0.37      
    Test2::Plugin::IOEvents   0.001001   0.001001  
    Test2::Plugin::NoWarnings 0.10       0.10      
    Test2::V0                 0.000163   1.302204  

configure_requires:

    Module                    Need       Have      
    ------------------------- ---------- ----------
    Module::Build::Tiny       0.039      0.047     


------------------------------
ENVIRONMENT AND OTHER CONTEXT
------------------------------

Environment variables:

    AUTOMATED_TESTING = 1
    LANG = en_GB.UTF-8
    LANGUAGE = en_GB:en
    LC_TERMINAL = iTerm2
    LC_TERMINAL_VERSION = 3.5.9
    NONINTERACTIVE_TESTING = 1
    PATH = /home/david/.cargo/bin:/home/david/perl5/perlbrew/bin:/home/david/perl5/perlbrew/perls/perl-5.32.0/bin:/home/david/bin:/usr/local/bin:/usr/bin:/bin:/usr/local/games:/usr/games
    PERL = 5.32.0-longdouble
    PERL5LIB = 
    PERL5OPT = 
    PERL5_CPANPLUS_IS_RUNNING = 7431
    PERL5_CPAN_IS_RUNNING = 7431
    PERLBREW_HOME = /home/david/.perlbrew
    PERLBREW_MANPATH = /home/david/perl5/perlbrew/perls/perl-5.32.0/man
    PERLBREW_PATH = /home/david/perl5/perlbrew/bin:/home/david/perl5/perlbrew/perls/perl-5.32.0/bin
    PERLBREW_PERL = perl-5.32.0
    PERLBREW_ROOT = /home/david/perl5/perlbrew
    PERLBREW_SHELLRC_VERSION = 0.89
    PERLBREW_VERSION = 0.89
    PERLVER = 5.32.0-longdouble
    PERL_INLINE_DIRECTORY = /home/david/.Inline-5.32.0-longdouble
    PERL_MM_USE_DEFAULT = 1
    PERL_USE_UNSAFE_INC = 0
    SHELL = /bin/bash
    TERM = screen

Perl special variables (and OS-specific diagnostics, for MSWin32):

    $^X = /home/david/cpantesting/perl-5.32.0-longdouble/bin/perl
    $UID/$EUID = 1000 / 1000
    $GID = 1000 24 25 27 29 30 44 46 109 1000
    $EGID = 1000 24 25 27 29 30 44 46 109 1000

Perl module toolchain versions installed:

    Module              Have    
    ------------------- --------
    CPAN                2.27    
    CPAN::Meta          2.150010
    Cwd                 3.75    
    ExtUtils::CBuilder  0.280236
    ExtUtils::Command   7.70    
    ExtUtils::Install   2.22    
    ExtUtils::MakeMaker 7.70    
    ExtUtils::Manifest  1.75    
    ExtUtils::ParseXS   3.51    
    File::Spec          3.75    
    JSON                4.10    
    JSON::PP            4.16    
    Module::Build       0.4234  
    Module::Signature   n/a     
    Parse::CPAN::Meta   2.150010
    Test::Harness       3.48    
    Test::More          1.302204
    YAML                1.30    
    YAML::Syck          n/a     
    version             0.9930  


--

Summary of my perl5 (revision 5 version 32 subversion 0) configuration:
   
  Platform:
    osname=linux
    osvers=5.10.0-11-686-pae
    archname=i686-linux-ld
    uname='linux cpantesting-linux-32bit-utm 5.10.0-11-686-pae #1 smp debian 5.10.92-1 (2022-01-18) i686 gnulinux '
    config_args='-de -Dprefix=/home/david/cpantesting/perl-5.32.0-longdouble -Duselongdouble'
    hint=recommended
    useposix=true
    d_sigaction=define
    useithreads=undef
    usemultiplicity=undef
    use64bitint=undef
    use64bitall=undef
    uselongdouble=define
    usemymalloc=n
    default_inc_excludes_dot=define
    bincompat5005=undef
  Compiler:
    cc='cc'
    ccflags ='-fwrapv -fno-strict-aliasing -pipe -fstack-protector-strong -I/usr/local/include -D_LARGEFILE_SOURCE -D_FILE_OFFSET_BITS=64 -D_FORTIFY_SOURCE=2'
    optimize='-O2'
    cppflags='-fwrapv -fno-strict-aliasing -pipe -fstack-protector-strong -I/usr/local/include'
    ccversion=''
    gccversion='10.2.1 20210110'
    gccosandvers=''
    intsize=4
    longsize=4
    ptrsize=4
    doublesize=8
    byteorder=1234
    doublekind=3
    d_longlong=define
    longlongsize=8
    d_longdbl=define
    longdblsize=12
    longdblkind=3
    ivtype='long'
    ivsize=4
    nvtype='long double'
    nvsize=12
    Off_t='off_t'
    lseeksize=8
    alignbytes=4
    prototype=define
  Linker and Libraries:
    ld='cc'
    ldflags =' -fstack-protector-strong -L/usr/local/lib'
    libpth=/usr/local/lib /usr/include/i386-linux-gnu /usr/lib /lib/i386-linux-gnu /lib/../lib /usr/lib/i386-linux-gnu /usr/lib/../lib /lib /lib64 /usr/lib64
    libs=-lpthread -lnsl -ldl -lm -lcrypt -lutil -lc
    perllibs=-lpthread -lnsl -ldl -lm -lcrypt -lutil -lc
    libc=libc-2.31.so
    so=so
    useshrplib=false
    libperl=libperl.a
    gnulibc_version='2.31'
  Dynamic Linking:
    dlsrc=dl_dlopen.xs
    dlext=so
    d_dlsymun=undef
    ccdlflags='-Wl,-E'
    cccdlflags='-fPIC'
    lddlflags='-shared -O2 -L/usr/local/lib -fstack-protector-strong'


Characteristics of this binary (from libperl): 
  Compile-time options:
    HAS_TIMES
    PERLIO_LAYERS
    PERL_COPY_ON_WRITE
    PERL_DONT_CREATE_GVSV
    PERL_MALLOC_WRAP
    PERL_OP_PARENT
    PERL_PRESERVE_IVUV
    USE_LARGE_FILES
    USE_LOCALE
    USE_LOCALE_COLLATE
    USE_LOCALE_CTYPE
    USE_LOCALE_NUMERIC
    USE_LOCALE_TIME
    USE_LONG_DOUBLE
    USE_PERLIO
    USE_PERL_ATOF
  Built under linux
  Compiled at Feb  7 2022 23:46:16
  %ENV:
    PERL="5.32.0-longdouble"
    PERL5LIB=""
    PERL5OPT=""
    PERL5_CPANPLUS_IS_RUNNING="7431"
    PERL5_CPAN_IS_RUNNING="7431"
    PERLBREW_HOME="/home/david/.perlbrew"
    PERLBREW_MANPATH="/home/david/perl5/perlbrew/perls/perl-5.32.0/man"
    PERLBREW_PATH="/home/david/perl5/perlbrew/bin:/home/david/perl5/perlbrew/perls/perl-5.32.0/bin"
    PERLBREW_PERL="perl-5.32.0"
    PERLBREW_ROOT="/home/david/perl5/perlbrew"
    PERLBREW_SHELLRC_VERSION="0.89"
    PERLBREW_VERSION="0.89"
    PERLVER="5.32.0-longdouble"
    PERL_INLINE_DIRECTORY="/home/david/.Inline-5.32.0-longdouble"
    PERL_MM_USE_DEFAULT="1"
    PERL_USE_UNSAFE_INC="0"
  @INC:
    /home/david/cpantesting/perl-5.32.0-longdouble/lib/site_perl/5.32.0/i686-linux-ld
    /home/david/cpantesting/perl-5.32.0-longdouble/lib/site_perl/5.32.0
    /home/david/cpantesting/perl-5.32.0-longdouble/lib/5.32.0/i686-linux-ld
    /home/david/cpantesting/perl-5.32.0-longdouble/lib/5.32.0