App-Oozie v0.016 Perl 5 v5.38.0 darwin-thread-multi-2level

Status
Pass
From
Burak Gursoy
Dist
App-Oozie v0.016
Platform
Perl 5 v5.38.0 darwin-thread-multi-2level
Date
2023-12-12T15:37:51
ID
68b91892-9904-11ee-8684-e0726a4d2e60
This distribution has been tested as part of the CPAN Testers
project, supporting the Perl programming language.  See
http://wiki.cpantesters.org/ for more information or email
questions to cpan-testers-discuss@perl.org


--
Dear Burak Gursoy,

This is a computer-generated report for App-Oozie-0.016
on perl 5.38.0, created by CPAN-Reporter-1.2019.

Thank you for uploading your work to CPAN.  Congratulations!
All tests were successful.

Sections of this report:

    * Tester comments
    * Program output
    * Prerequisites
    * Environment and other context

------------------------------
TESTER COMMENTS
------------------------------

Additional comments from tester:

none provided

------------------------------
PROGRAM OUTPUT
------------------------------

Output from '/usr/bin/make test':

PERL_DL_NONLAZY=1 "/Users/burak/.plenv/versions/5.38.0/bin/perl5.38.0" "-MExtUtils::Command::MM" "-MTest::Harness" "-e" "undef *Test::Harness::Switches; test_harness(0, 'blib/lib', 'blib/arch')" t/*.t
t/00-compile.t ........... ok
# 
# Versions for all modules listed in MYMETA.json (including optional ones):
# 
# === Configure Requires ===
# 
#     Module              Want Have
#     ------------------- ---- ----
#     ExtUtils::MakeMaker  any 7.70
# 
# === Build Requires ===
# 
#     Module              Want Have
#     ------------------- ---- ----
#     ExtUtils::MakeMaker  any 7.70
# 
# === Test Requires ===
# 
#     Module              Want     Have
#     ------------------- ---- --------
#     ExtUtils::MakeMaker  any     7.70
#     File::Spec           any     3.88
#     IO::Handle           any     1.52
#     IPC::Open3           any     1.22
#     Test::More           any 1.302196
# 
# === Test Recommends ===
# 
#     Module         Want     Have
#     ---------- -------- --------
#     CPAN::Meta 2.120900 2.150010
# 
# === Runtime Requires ===
# 
#     Module                            Want     Have
#     -------------------------------- ----- --------
#     AppConfig                          any     1.71
#     Archive::Zip                       any     1.68
#     Carp                               any     1.54
#     Carp::Always                       any     0.16
#     Clone                              any     0.46
#     Config::General                    any     2.65
#     Config::Properties                 any     1.80
#     Cwd                                any     3.89
#     Data::Dumper                       any    2.188
#     Date::Format                       any     2.24
#     Date::Parse                        any     2.33
#     DateTime                           any     1.65
#     DateTime::Format::Duration         any     1.04
#     DateTime::Format::Strptime         any     1.79
#     Email::Valid                       any    1.203
#     Exporter                           any     5.77
#     Fcntl                              any     1.15
#     File::Basename                     any     2.86
#     File::Copy                         any     2.41
#     File::Find                         any     1.43
#     File::Find::Rule                   any     0.34
#     File::Path                         any     2.18
#     File::Spec                         any     3.88
#     File::Spec::Functions              any     3.88
#     File::Temp                         any   0.2311
#     Getopt::Long                       any     2.57
#     Git::Repository                    any    1.325
#     Graph::Directed                    any    undef
#     Hash::Flatten                      any     1.19
#     IO::Interactive                    any    1.025
#     IPC::Cmd                           any     1.04
#     JSON                               any     4.10
#     List::MoreUtils                    any    0.430
#     List::Util                         any     1.63
#     Log::Log4perl                      any     1.57
#     Moo                                any 2.005005
#     Moo::Role                          any 2.005005
#     MooX::Options                    4.103    4.103
#     Net::Hadoop::Oozie                 any    0.116
#     Net::Hadoop::WebHDFS::LWP        0.011    0.011
#     Net::Hadoop::YARN::NameNode::JMX   any    0.203
#     Path::Tiny                         any    0.144
#     Ref::Util                          any    0.204
#     Scalar::Util                       any     1.63
#     Sub::Quote                         any 2.006008
#     Sys::Hostname                      any     1.25
#     Template                           any    3.101
#     Template::Base                     any    3.100
#     Text::Glob                         any     0.11
#     Text::ParseWords                   any     3.31
#     Text::Trim                         any     1.04
#     Time::Duration                     any     1.21
#     Time::HiRes                        any   1.9775
#     Type::Library                      any 2.004000
#     Type::Tiny                         any 2.004000
#     Type::Utils                        any 2.004000
#     Types::Standard                    any 2.004000
#     XML::Compile::Cache                any     1.06
#     XML::Compile::Util                 any     1.63
#     XML::LibXML                        any   2.0209
#     XML::LibXML::Simple                any     1.01
#     XML::Twig                          any     3.52
#     YAML::XS                           any     0.88
#     base                               any     2.27
#     constant                           any     1.33
#     namespace::autoclean               any     0.29
#     overload                           any     1.37
#     parent                             any    0.241
#     perl                             5.014 5.038000
#     strict                             any     1.12
#     warnings                           any     1.65
# 
t/00-report-prereqs.t .... ok
t/author-critic.t ........ skipped: these tests are for testing by the author
t/author-distmeta.t ...... skipped: these tests are for testing by the author
t/author-pod-coverage.t .. skipped: these tests are for testing by the author
t/author-pod-syntax.t .... skipped: these tests are for testing by the author
t/use.t .................. ok
All tests successful.
Files=7, Tests=47, 30 wallclock secs ( 0.07 usr  0.02 sys + 25.01 cusr  3.99 csys = 29.09 CPU)
Result: PASS

------------------------------
PREREQUISITES
------------------------------

Prerequisite modules loaded:

requires:

    Module                           Need     Have    
    -------------------------------- -------- --------
    AppConfig                        0        1.71    
    Archive::Zip                     0        1.68    
    base                             0        2.27    
    Carp                             0        1.54    
    Carp::Always                     0        0.16    
    Clone                            0        0.46    
    Config::General                  0        2.65    
    Config::Properties               0        1.80    
    constant                         0        1.33    
    Cwd                              0        3.89    
    Data::Dumper                     0        2.188   
    Date::Format                     0        2.24    
    Date::Parse                      0        2.33    
    DateTime                         0        1.65    
    DateTime::Format::Duration       0        1.04    
    DateTime::Format::Strptime       0        1.79    
    Email::Valid                     0        1.203   
    Exporter                         0        5.77    
    Fcntl                            0        1.15    
    File::Basename                   0        2.86    
    File::Copy                       0        2.41    
    File::Find                       0        1.43    
    File::Find::Rule                 0        0.34    
    File::Path                       0        2.18    
    File::Spec                       0        3.88    
    File::Spec::Functions            0        3.88    
    File::Temp                       0        0.2311  
    Getopt::Long                     0        2.57    
    Git::Repository                  0        1.325   
    Graph::Directed                  0        0       
    Hash::Flatten                    0        1.19    
    IO::Interactive                  0        1.025   
    IPC::Cmd                         0        1.04    
    JSON                             0        4.10    
    List::MoreUtils                  0        0.430   
    List::Util                       0        1.63    
    Log::Log4perl                    0        1.57    
    Moo                              0        2.005005
    Moo::Role                        0        2.005005
    MooX::Options                    4.103    4.103   
    namespace::autoclean             0        0.29    
    Net::Hadoop::Oozie               0        0.116   
    Net::Hadoop::WebHDFS::LWP        0.011    0.011   
    Net::Hadoop::YARN::NameNode::JMX 0        0.203   
    overload                         0        1.37    
    parent                           0        0.241   
    Path::Tiny                       0        0.144   
    perl                             5.014    5.038000
    Ref::Util                        0        0.204   
    Scalar::Util                     0        1.63    
    strict                           0        1.12    
    Sub::Quote                       0        2.006008
    Sys::Hostname                    0        1.25    
    Template                         0        3.101   
    Template::Base                   0        3.100   
    Text::Glob                       0        0.11    
    Text::ParseWords                 0        3.31    
    Text::Trim                       0        1.04    
    Time::Duration                   0        1.21    
    Time::HiRes                      0        1.9775  
    Type::Library                    0        2.004000
    Type::Tiny                       0        2.004000
    Type::Utils                      0        2.004000
    Types::Standard                  0        2.004000
    warnings                         0        1.65    
    XML::Compile::Cache              0        1.06    
    XML::Compile::Util               0        1.63    
    XML::LibXML                      0        2.0209  
    XML::LibXML::Simple              0        1.01    
    XML::Twig                        0        3.52    
    YAML::XS                         0        0.88    

build_requires:

    Module                           Need     Have    
    -------------------------------- -------- --------
    ExtUtils::MakeMaker              0        7.70    
    File::Spec                       0        3.88    
    IO::Handle                       0        1.52    
    IPC::Open3                       0        1.22    
    Test::More                       0        1.302196

configure_requires:

    Module                           Need     Have    
    -------------------------------- -------- --------
    ExtUtils::MakeMaker              0        7.70    

opt_build_requires:

    Module                           Need     Have    
    -------------------------------- -------- --------
    CPAN::Meta                       2.120900 2.150010


------------------------------
ENVIRONMENT AND OTHER CONTEXT
------------------------------

Environment variables:

    LC_CTYPE = UTF-8
    PATH = /Users/burak/.plenv/versions/5.38.0/bin:/Users/burak/.plenv/libexec:/Users/burak/.plenv/plugins/perl-build/bin:/usr/local/sbin:/usr/local/sbin:/Users/burak/.plenv/shims:/Users/burak/.plenv/bin:/usr/local/bin:/usr/local/opt/sqlite/bin:/Users/burak/adb-fastboot/platform-tools:/opt/local/bin:/opt/local/sbin:/Users/burak/bin:/usr/local/bin:/usr/bin:/bin:/usr/sbin:/sbin:/Library/Apple/usr/bin:/opt/local/bin:/opt/local/sbin:/opt/local/bin:/opt/local/sbin
    PERL5LIB = 
    PERL5OPT = 
    PERL5_CPANPLUS_IS_RUNNING = 62391
    PERL5_CPAN_IS_RUNNING = 62391
    PERL_USE_UNSAFE_INC = 1
    SHELL = /bin/sh
    TERM = xterm-256color

Perl special variables (and OS-specific diagnostics, for MSWin32):

    $^X = /Users/burak/.plenv/versions/5.38.0/bin/perl5.38.0
    $UID/$EUID = 0 / 0
    $GID = 0 0 1 2 3 4 5 8 9 12 20 29 61 80 33 98 100
    $EGID = 0 0 1 2 3 4 5 8 9 12 20 29 61 80 33 98 100

Perl module toolchain versions installed:

    Module              Have    
    ------------------- --------
    CPAN                2.36    
    CPAN::Meta          2.150010
    Cwd                 3.89    
    ExtUtils::CBuilder  0.280238
    ExtUtils::Command   7.70    
    ExtUtils::Install   2.22    
    ExtUtils::MakeMaker 7.70    
    ExtUtils::Manifest  1.75    
    ExtUtils::ParseXS   3.51    
    File::Spec          3.88    
    JSON                4.10    
    JSON::PP            4.16    
    Module::Build       0.4234  
    Module::Signature   n/a     
    Parse::CPAN::Meta   2.150010
    Test2               1.302196
    Test::Harness       3.48    
    Test::More          1.302196
    YAML                1.30    
    YAML::Syck          n/a     
    version             0.9930  


--

Summary of my perl5 (revision 5 version 38 subversion 0) configuration:
   
  Platform:
    osname=darwin
    osvers=19.6.0
    archname=darwin-thread-multi-2level
    uname='darwin tonyukuk.local 19.6.0 darwin kernel version 19.6.0: tue jun 21 21:18:39 pdt 2022; root:xnu-6153.141.66~1release_x86_64 x86_64 '
    config_args='-Dprefix=/Users/burak/.plenv/versions/5.38.0 -de -Dversiononly -Dusethreads -A'eval:scriptdir=/Users/burak/.plenv/versions/5.38.0/bin''
    hint=recommended
    useposix=true
    d_sigaction=define
    useithreads=define
    usemultiplicity=define
    use64bitint=define
    use64bitall=define
    uselongdouble=undef
    usemymalloc=n
    default_inc_excludes_dot=define
  Compiler:
    cc='cc'
    ccflags ='-fno-common -DPERL_DARWIN -mmacosx-version-min=10.15 -DNO_POSIX_2008_LOCALE -fno-strict-aliasing -pipe -fstack-protector-strong -I/usr/local/include -I/opt/local/include'
    optimize='-O3'
    cppflags='-fno-common -DPERL_DARWIN -mmacosx-version-min=10.15 -DNO_POSIX_2008_LOCALE -fno-strict-aliasing -pipe -fstack-protector-strong -I/usr/local/include -I/opt/local/include'
    ccversion=''
    gccversion='Apple LLVM 12.0.0 (clang-1200.0.32.29)'
    gccosandvers=''
    intsize=4
    longsize=8
    ptrsize=8
    doublesize=8
    byteorder=12345678
    doublekind=3
    d_longlong=define
    longlongsize=8
    d_longdbl=define
    longdblsize=16
    longdblkind=3
    ivtype='long'
    ivsize=8
    nvtype='double'
    nvsize=8
    Off_t='off_t'
    lseeksize=8
    alignbytes=8
    prototype=define
  Linker and Libraries:
    ld='cc'
    ldflags =' -mmacosx-version-min=10.15 -fstack-protector-strong -L/usr/local/lib -L/opt/local/lib'
    libpth=/usr/local/lib /Library/Developer/CommandLineTools/usr/lib/clang/12.0.0/lib /Library/Developer/CommandLineTools/SDKs/MacOSX10.15.sdk/usr/lib /Library/Developer/CommandLineTools/usr/lib /opt/local/lib /usr/lib
    libs=-lpthread -lgdbm -ldbm -ldl -lm -lutil -lc
    perllibs=-lpthread -ldl -lm -lutil -lc
    libc=
    so=dylib
    useshrplib=false
    libperl=libperl.a
    gnulibc_version=''
  Dynamic Linking:
    dlsrc=dl_dlopen.xs
    dlext=bundle
    d_dlsymun=undef
    ccdlflags=' '
    cccdlflags=' '
    lddlflags=' -mmacosx-version-min=10.15 -bundle -undefined dynamic_lookup -L/usr/local/lib -L/opt/local/lib -fstack-protector-strong'


Characteristics of this binary (from libperl): 
  Compile-time options:
    HAS_LONG_DOUBLE
    HAS_STRTOLD
    HAS_TIMES
    MULTIPLICITY
    PERLIO_LAYERS
    PERL_COPY_ON_WRITE
    PERL_DONT_CREATE_GVSV
    PERL_HASH_FUNC_SIPHASH13
    PERL_HASH_USE_SBOX32
    PERL_MALLOC_WRAP
    PERL_OP_PARENT
    PERL_PRESERVE_IVUV
    PERL_USE_SAFE_PUTENV
    USE_64_BIT_ALL
    USE_64_BIT_INT
    USE_ITHREADS
    USE_LARGE_FILES
    USE_LOCALE
    USE_LOCALE_COLLATE
    USE_LOCALE_CTYPE
    USE_LOCALE_NUMERIC
    USE_LOCALE_TIME
    USE_PERLIO
    USE_PERL_ATOF
    USE_REENTRANT_API
  Built under darwin
  Compiled at Oct 15 2023 08:20:31
  %ENV:
    PERL5LIB=""
    PERL5OPT=""
    PERL5_CPANPLUS_IS_RUNNING="62391"
    PERL5_CPAN_IS_RUNNING="62391"
    PERL_USE_UNSAFE_INC="1"
  @INC:
    /Users/burak/.plenv/versions/5.38.0/lib/perl5/site_perl/5.38.0/darwin-thread-multi-2level
    /Users/burak/.plenv/versions/5.38.0/lib/perl5/site_perl/5.38.0
    /Users/burak/.plenv/versions/5.38.0/lib/perl5/5.38.0/darwin-thread-multi-2level
    /Users/burak/.plenv/versions/5.38.0/lib/perl5/5.38.0
    .