Archive-Tar-Wrapper v0.33 Perl 5 v5.29.3 x86_64-linux-thread-multi-ld
- Status
- Pass
- From
- Andreas J. König (ANDK)
- Dist
-
Archive-Tar-Wrapper v0.33
- Platform
- Perl 5 v5.29.3 x86_64-linux-thread-multi-ld
- Date
- 2019-01-07 13:09:04
- ID
- 687238f4-127d-11e9-a974-df1cad28f527
This distribution has been tested as part of the CPAN Testers
project, supporting the Perl programming language. See
http://wiki.cpantesters.org/ for more information or email
questions to cpan-testers-discuss@perl.org
--
Dear Alceu Rodrigues de Freitas Junior,
This is a computer-generated report for Archive-Tar-Wrapper-0.33
on perl 5.29.3, created by CPAN-Reporter-1.2018.
Thank you for uploading your work to CPAN. Congratulations!
All tests were successful.
Sections of this report:
* Tester comments
* Program output
* Prerequisites
* Environment and other context
------------------------------
TESTER COMMENTS
------------------------------
Additional comments from tester:
this report is from an automated smoke testing program
and was not reviewed by a human for accuracy
------------------------------
PROGRAM OUTPUT
------------------------------
Output from '/usr/bin/make test':
PERL_DL_NONLAZY=1 "/home/sand/src/perl/repoperls/installed-perls/host/k93msid/v5.29.3/ac75/bin/perl" "-MExtUtils::Command::MM" "-MTest::Harness" "-e" "undef *Test::Harness::Switches; test_harness(0, 'blib/lib', 'blib/arch')" t/*.t
t/001Basic.t .............. ok
t/002Mult.t ............... ok
t/003Dirs.t ............... ok
t/004Utf8.t ............... ok
t/005Cwd.t ................ ok
t/006DirPerms.t ........... ok
t/007bzip.t ............... ok
# with grep: Ran 1337 iterations (306 outliers).
# with grep: Rounded run time per iteration: 0.000603 +/- 0.000000 (0.1%)
# with grep and compiled regex: Ran 1274 iterations (263 outliers).
# with grep and compiled regex: Rounded run time per iteration: 0.000747 +/- 0.000000 (0.0%)
# with eq: Ran 1102 iterations (85 outliers).
# with eq: Rounded run time per iteration: 0.000421 +/- 0.000000 (0.1%)
# with enhanced eq: Ran 1337 iterations (324 outliers).
# with enhanced eq: Rounded run time per iteration: 0.000396 +/- 0.000000 (0.0%)
# with enhanced eq mark2: Ran 1274 iterations (249 outliers).
# with enhanced eq mark2: Rounded run time per iteration: 0.000294 +/- 0.000000 (0.0%)
# with enhanced eq mark3: Ran 1337 iterations (311 outliers).
# with enhanced eq mark3: Rounded run time per iteration: 0.000226 +/- 0.000000 (0.0%)
# sort and shift: Ran 1214 iterations (165 outliers).
# sort and shift: Rounded run time per iteration: 0.000498 +/- 0.000000 (0.0%)
t/008performance.t ........ ok
# with grep: Ran 1157 iterations (143 outliers).
# with grep: Rounded run time per iteration: 0.000015 +/- 0.000000 (0.0%)
# with grep and compiled regex: Ran 1102 iterations (97 outliers).
# with grep and compiled regex: Rounded run time per iteration: 0.000017 +/- 0.000000 (0.0%)
# with eq: Ran 1546 iterations (482 outliers).
# with eq: Rounded run time per iteration: 0.000012 +/- 0.000000 (0.0%)
# with enhanced eq: Ran 1157 iterations (129 outliers).
# with enhanced eq: Rounded run time per iteration: 0.000012 +/- 0.000000 (0.0%)
# with enhanced eq mark2: Ran 1102 iterations (96 outliers).
# with enhanced eq mark2: Rounded run time per iteration: 0.000011 +/- 0.000000 (0.0%)
# with enhanced eq mark3: Ran 1157 iterations (116 outliers).
# with enhanced eq mark3: Rounded run time per iteration: 0.000010 +/- 0.000000 (0.0%)
# sort and shift: Ran 1214 iterations (172 outliers).
# sort and shift: Rounded run time per iteration: 0.000010 +/- 0.000000 (0.0%)
t/009performance-small.t .. ok
All tests successful.
Test Summary Report
-------------------
t/008performance.t (Wstat: 0 Tests: 1 Failed: 0)
TODO passed: 1
t/009performance-small.t (Wstat: 0 Tests: 1 Failed: 0)
TODO passed: 1
Files=9, Tests=54, 23 wallclock secs ( 0.05 usr 0.04 sys + 20.78 cusr 2.08 csys = 22.95 CPU)
Result: PASS
------------------------------
PREREQUISITES
------------------------------
Prerequisite modules loaded:
requires:
Module Need Have
------------------- -------- ----------
Cwd 0 3.75
File::Temp 0 0.2308
File::Which 0 1.22
IPC::Run 0 20180523.0
Log::Log4perl 0 1.49
perl 5.008001 5.029003
build_requires:
Module Need Have
------------------- -------- ----------
Dumbbench 0.111 0.111
ExtUtils::MakeMaker 0 7.35_07
Test::Simple 1.302073 1.302153
configure_requires:
Module Need Have
------------------- -------- ----------
ExtUtils::MakeMaker 0 7.35_07
File::Which 0 1.22
------------------------------
ENVIRONMENT AND OTHER CONTEXT
------------------------------
Environment variables:
AUTOMATED_TESTING = 1
LANG = en_US.UTF-8
PATH = /home/sand/bin:/usr/local/bin:/usr/bin:/bin:/usr/games:/usr/local/perl/bin:/usr/X11/bin:/sbin:/usr/sbin
PERL5LIB =
PERL5OPT =
PERL5_CPANPLUS_IS_RUNNING = 4579
PERL5_CPAN_IS_RUNNING = 4579
PERL_CANARY_STABILITY_NOPROMPT = 1
PERL_MM_USE_DEFAULT = 1
PERL_USE_UNSAFE_INC = 1
SHELL = /usr/bin/zsh
TERM = screen
Perl special variables (and OS-specific diagnostics, for MSWin32):
$^X = /home/sand/src/perl/repoperls/installed-perls/host/k93msid/v5.29.3/ac75/bin/perl
$UID/$EUID = 1005 / 1005
$GID = 1005 1005
$EGID = 1005 1005
Perl module toolchain versions installed:
Module Have
------------------- --------
CPAN 2.21
CPAN::Meta 2.150010
Cwd 3.75
ExtUtils::CBuilder 0.280230
ExtUtils::Command 7.35_07
ExtUtils::Install 2.14
ExtUtils::MakeMaker 7.35_07
ExtUtils::Manifest 1.71
ExtUtils::ParseXS 3.39
File::Spec 3.75
JSON 4.00
JSON::PP 2.97001
Module::Build 0.4224
Module::Signature 0.83
Parse::CPAN::Meta 2.150010
Test::Harness 3.42
Test::More 1.302153
YAML 1.26
YAML::Syck 1.31
version 0.9924
--
Summary of my perl5 (revision 5 version 29 subversion 3) configuration:
Commit id: dfabf1f580c99fbfb8a30341a60bf4a86f5b06ee
Platform:
osname=linux
osvers=4.18.0-2-amd64
archname=x86_64-linux-thread-multi-ld
uname='linux k93msid 4.18.0-2-amd64 #1 smp debian 4.18.10-2 (2018-10-07) x86_64 gnulinux '
config_args='-Dprefix=/home/sand/src/perl/repoperls/installed-perls/host/k93msid/v5.29.3/ac75 -Dmyhostname=k93msid -Dinstallusrbinperl=n -Uversiononly -Dusedevel -des -Ui_db -Dlibswanted=cl pthread socket inet nsl gdbm dbm malloc dl ld sun m crypt sec util c cposix posix ucb BSD gdbm_compat -Duseithreads -Duselongdouble -DEBUGGING=both'
hint=recommended
useposix=true
d_sigaction=define
useithreads=define
usemultiplicity=define
use64bitint=define
use64bitall=define
uselongdouble=define
usemymalloc=n
default_inc_excludes_dot=define
bincompat5005=undef
Compiler:
cc='cc'
ccflags ='-D_REENTRANT -D_GNU_SOURCE -fwrapv -DDEBUGGING -fno-strict-aliasing -pipe -fstack-protector-strong -I/usr/local/include -D_LARGEFILE_SOURCE -D_FILE_OFFSET_BITS=64 -D_FORTIFY_SOURCE=2'
optimize='-O2 -g'
cppflags='-D_REENTRANT -D_GNU_SOURCE -fwrapv -DDEBUGGING -fno-strict-aliasing -pipe -fstack-protector-strong -I/usr/local/include'
ccversion=''
gccversion='8.2.0'
gccosandvers=''
intsize=4
longsize=8
ptrsize=8
doublesize=8
byteorder=12345678
doublekind=3
d_longlong=define
longlongsize=8
d_longdbl=define
longdblsize=16
longdblkind=3
ivtype='long'
ivsize=8
nvtype='long double'
nvsize=16
Off_t='off_t'
lseeksize=8
alignbytes=16
prototype=define
Linker and Libraries:
ld='cc'
ldflags =' -fstack-protector-strong -L/usr/local/lib'
libpth=/usr/local/lib /usr/lib/gcc/x86_64-linux-gnu/8/include-fixed /usr/include/x86_64-linux-gnu /usr/lib /lib/x86_64-linux-gnu /lib/../lib /usr/lib/x86_64-linux-gnu /usr/lib/../lib /lib
libs=-lpthread -lnsl -ldl -lm -lcrypt -lutil -lc
perllibs=-lpthread -lnsl -ldl -lm -lcrypt -lutil -lc
libc=libc-2.27.so
so=so
useshrplib=false
libperl=libperl.a
gnulibc_version='2.27'
Dynamic Linking:
dlsrc=dl_dlopen.xs
dlext=so
d_dlsymun=undef
ccdlflags='-Wl,-E'
cccdlflags='-fPIC'
lddlflags='-shared -O2 -g -L/usr/local/lib -fstack-protector-strong'
Characteristics of this binary (from libperl):
Compile-time options:
DEBUGGING
HAS_TIMES
MULTIPLICITY
PERLIO_LAYERS
PERL_COPY_ON_WRITE
PERL_DONT_CREATE_GVSV
PERL_IMPLICIT_CONTEXT
PERL_MALLOC_WRAP
PERL_OP_PARENT
PERL_PRESERVE_IVUV
PERL_TRACK_MEMPOOL
PERL_USE_DEVEL
USE_64_BIT_ALL
USE_64_BIT_INT
USE_ITHREADS
USE_LARGE_FILES
USE_LOCALE
USE_LOCALE_COLLATE
USE_LOCALE_CTYPE
USE_LOCALE_NUMERIC
USE_LOCALE_TIME
USE_LONG_DOUBLE
USE_PERLIO
USE_PERL_ATOF
USE_REENTRANT_API
Built under linux
Compiled at Oct 28 2018 00:10:39
%ENV:
PERL5LIB=""
PERL5OPT=""
PERL5_CPANPLUS_IS_RUNNING="4579"
PERL5_CPAN_IS_RUNNING="4579"
PERL_CANARY_STABILITY_NOPROMPT="1"
PERL_MM_USE_DEFAULT="1"
PERL_USE_UNSAFE_INC="1"
@INC:
/home/sand/src/perl/repoperls/installed-perls/host/k93msid/v5.29.3/ac75/lib/site_perl/5.29.3/x86_64-linux-thread-multi-ld
/home/sand/src/perl/repoperls/installed-perls/host/k93msid/v5.29.3/ac75/lib/site_perl/5.29.3
/home/sand/src/perl/repoperls/installed-perls/host/k93msid/v5.29.3/ac75/lib/5.29.3/x86_64-linux-thread-multi-ld
/home/sand/src/perl/repoperls/installed-perls/host/k93msid/v5.29.3/ac75/lib/5.29.3
.