Back
From: metabase:user:1eed3a18-483e-11e2-a87b-a3931c712682
Subject: PASS MouseX-NativeTraits-1.09 v5.22.1 Mac OS X
Date: 2015-12-18T15:31:29Z
This distribution has been tested as part of the CPAN Testers
project, supporting the Perl programming language. See
http://wiki.cpantesters.org/ for more information or email
questions to cpan-testers-discuss@perl.org
--
Dear Goro Fuji,
This is a computer-generated report for MouseX-NativeTraits-1.09
on perl 5.22.1, created by CPAN-Reporter-1.2015.
Thank you for uploading your work to CPAN. Congratulations!
All tests were successful.
Sections of this report:
* Tester comments
* Program output
* Prerequisites
* Environment and other context
------------------------------
TESTER COMMENTS
------------------------------
Additional comments from tester:
none provided
------------------------------
PROGRAM OUTPUT
------------------------------
Output from '/usr/bin/make test':
PERL_DL_NONLAZY=1 "/Users/stas/perl5/perlbrew/perls/perl-5.22.1/bin/perl" "-MExtUtils::Command::MM" "-MTest::Harness" "-e" "\$ENV{q{ANY_MOOSE}} = q{Mouse}; undef *Test::Harness::Switches; test_harness(0, 'inc', 'blib/lib', 'blib/arch'); " t/*.t t/070_native_traits/*.t
# Testing MouseX::NativeTraits/1.09
# Dependencies:
# Mouse/v2.4.5
t/00_load.t ...................................... ok
t/01_basic.t ..................................... ok
t/02_meta.t ...................................... ok
t/03_extra.t ..................................... ok
t/04_counter.t ................................... ok
t/05_remain_tied.t ............................... ok
t/070_native_traits/010_trait_array.t ............ ok
t/070_native_traits/011_array_subtypes.t ......... ok
t/070_native_traits/012_array_trigger.t .......... ok
t/070_native_traits/013_array_coerce.t ........... skipped: Not supported by MouseX::NativeTraits
t/070_native_traits/020_trait_bool.t ............. ok
t/070_native_traits/030_trait_code.t ............. ok
t/070_native_traits/040_trait_counter.t .......... ok
t/070_native_traits/050_trait_hash.t ............. ok
t/070_native_traits/051_hash_subtypes.t .......... ok
t/070_native_traits/052_hash_trigger.t ........... ok
t/070_native_traits/053_hash_coerce.t ............ skipped: Not supported by MouseX::NativeTraits
t/070_native_traits/060_trait_number.t ........... ok
t/070_native_traits/070_trait_string.t ........... ok
t/070_native_traits/100_array_from_role.t ........ ok
t/070_native_traits/101_remove_attribute.t ....... skipped: Not supported by MouseX::NativeTraits
t/070_native_traits/102_collection_with_roles.t .. ok
t/070_native_traits/103_custom_instance.t ........ skipped: not supproted by MouseX::NativeTraits
All tests successful.
Files=23, Tests=3482, 3 wallclock secs ( 0.41 usr 0.08 sys + 2.07 cusr 0.19 csys = 2.75 CPU)
Result: PASS
------------------------------
PREREQUISITES
------------------------------
Prerequisite modules loaded:
requires:
Module Need Have
------------------- -------- --------
Mouse 0.82 v2.4.5
perl 5.006002 5.022001
build_requires:
Module Need Have
------------------- -------- --------
Any::Moose 0.13 0.26
ExtUtils::MakeMaker 6.59 7.10
Test::Fatal 0.003 0.014
Test::More 0.88 1.001014
configure_requires:
Module Need Have
------------------- -------- --------
ExtUtils::MakeMaker 6.59 7.10
------------------------------
ENVIRONMENT AND OTHER CONTEXT
------------------------------
Environment variables:
LANG = en_US.UTF-8
LC_ALL = en_US.UTF-8
LC_CTYPE = UTF-8
NONINTERACTIVE_TESTING = 1
PATH = /Users/stas/perl5/perlbrew/bin:/Users/stas/perl5/perlbrew/perls/perl-5.22.1/bin:/Users/stas/.vim/bin:/Users/stas/bin:/Users/stas/node_modules/.bin:/opt/local/Library/Frameworks/Python.framework/Versions/2.7/bin:/opt/local/lib/postgresql92/bin:/opt/local/bin:/opt/local/sbin:/opt/local/libexec/ccache:/usr/local/bin:/usr/bin:/bin:/usr/sbin:/sbin:/opt/X11/bin:/Users/stas/.vim/bin:/Users/stas/bin:/Users/stas/node_modules/.bin:/opt/local/Library/Frameworks/Python.framework/Versions/2.7/bin:/opt/local/lib/postgresql92/bin:/opt/local/bin:/opt/local/sbin:/opt/local/libexec/ccache
PERL5LIB =
PERL5OPT =
PERL5_CPANPLUS_IS_RUNNING = 92066
PERL5_CPAN_IS_RUNNING = 92066
PERLBREW_BASHRC_VERSION = 0.74
PERLBREW_HOME = /Users/stas/.perlbrew
PERLBREW_MANPATH = /Users/stas/perl5/perlbrew/perls/perl-5.22.1/man
PERLBREW_PATH = /Users/stas/perl5/perlbrew/bin:/Users/stas/perl5/perlbrew/perls/perl-5.22.1/bin
PERLBREW_PERL = perl-5.22.1
PERLBREW_ROOT = /Users/stas/perl5/perlbrew
PERLBREW_VERSION = 0.74
PERL_MM_USE_DEFAULT = 1
SHELL = /opt/local/bin/zsh
TERM = screen
TMPDIR = /var/folders/k7/cj2hxbn162362g2150r7t9480000gn/T/
Perl special variables (and OS-specific diagnostics, for MSWin32):
$^X = /Users/stas/perl5/perlbrew/perls/perl-5.22.1/bin/perl
$UID/$EUID = 501 / 501
$GID = 20 20 508 12 61 79 80 81 98 398 399 33 100 204 395
$EGID = 20 20 508 12 61 79 80 81 98 398 399 33 100 204 395
Perl module toolchain versions installed:
Module Have
------------------- --------
CPAN 2.10
CPAN::Meta 2.150005
Cwd 3.60
ExtUtils::CBuilder 0.280224
ExtUtils::Command 7.10
ExtUtils::Install 2.04
ExtUtils::MakeMaker 7.10
ExtUtils::Manifest 1.70
ExtUtils::ParseXS 3.30
File::Spec 3.60
JSON 2.90
JSON::PP 2.27300
Module::Build 0.4214
Module::Signature 0.79
Parse::CPAN::Meta 1.4414
Test::Harness 3.35
Test::More 1.001014
YAML 1.15
YAML::Syck 1.29
version 0.9909
--
Summary of my perl5 (revision 5 version 22 subversion 1) configuration:
Platform:
osname=darwin, osvers=14.5.0, archname=darwin-2level
uname='darwin stas-macbook.local 14.5.0 darwin kernel version 14.5.0: tue sep 1 21:23:09 pdt 2015; root:xnu-2782.50.1~1release_x86_64 x86_64 '
config_args='-de -Dprefix=/Users/stas/perl5/perlbrew/perls/perl-5.22.1 -Aeval:scriptdir=/Users/stas/perl5/perlbrew/perls/perl-5.22.1/bin'
hint=recommended, useposix=true, d_sigaction=define
useithreads=undef, usemultiplicity=undef
use64bitint=define, use64bitall=define, uselongdouble=undef
usemymalloc=n, bincompat5005=undef
Compiler:
cc='cc', ccflags ='-fno-common -DPERL_DARWIN -fno-strict-aliasing -pipe -fstack-protector-strong -I/opt/local/include',
optimize='-O3',
cppflags='-fno-common -DPERL_DARWIN -fno-strict-aliasing -pipe -fstack-protector-strong -I/opt/local/include'
ccversion='', gccversion='4.2.1 Compatible Apple LLVM 7.0.2 (clang-700.1.81)', gccosandvers=''
intsize=4, longsize=8, ptrsize=8, doublesize=8, byteorder=12345678, doublekind=3
d_longlong=define, longlongsize=8, d_longdbl=define, longdblsize=16, longdblkind=3
ivtype='long', ivsize=8, nvtype='double', nvsize=8, Off_t='off_t', lseeksize=8
alignbytes=8, prototype=define
Linker and Libraries:
ld='env MACOSX_DEPLOYMENT_TARGET=10.3 cc', ldflags =' -fstack-protector-strong -L/usr/local/lib -L/opt/local/lib'
libpth=/Applications/Xcode.app/Contents/Developer/Toolchains/XcodeDefault.xctoolchain/usr/bin/../lib/clang/7.0.2/lib /Applications/Xcode.app/Contents/Developer/Toolchains/XcodeDefault.xctoolchain/usr/lib /usr/lib /usr/local/lib /opt/local/lib
libs=-lpthread -lgdbm -ldbm -ldl -lm -lutil -lc
perllibs=-lpthread -ldl -lm -lutil -lc
libc=, so=dylib, useshrplib=false, libperl=libperl.a
gnulibc_version=''
Dynamic Linking:
dlsrc=dl_dlopen.xs, dlext=bundle, d_dlsymun=undef, ccdlflags=' '
cccdlflags=' ', lddlflags=' -bundle -undefined dynamic_lookup -L/usr/local/lib -L/opt/local/lib -fstack-protector-strong'
Characteristics of this binary (from libperl):
Compile-time options: HAS_TIMES PERLIO_LAYERS PERL_DONT_CREATE_GVSV
PERL_HASH_FUNC_ONE_AT_A_TIME_HARD PERL_MALLOC_WRAP
PERL_NEW_COPY_ON_WRITE PERL_PRESERVE_IVUV
USE_64_BIT_ALL USE_64_BIT_INT USE_LARGE_FILES
USE_LOCALE USE_LOCALE_COLLATE USE_LOCALE_CTYPE
USE_LOCALE_NUMERIC USE_LOCALE_TIME USE_PERLIO
USE_PERL_ATOF
Built under darwin
Compiled at Dec 18 2015 12:59:14
%ENV:
PERL5LIB=""
PERL5OPT=""
PERL5_CPANPLUS_IS_RUNNING="92066"
PERL5_CPAN_IS_RUNNING="92066"
PERLBREW_BASHRC_VERSION="0.74"
PERLBREW_HOME="/Users/stas/.perlbrew"
PERLBREW_MANPATH="/Users/stas/perl5/perlbrew/perls/perl-5.22.1/man"
PERLBREW_PATH="/Users/stas/perl5/perlbrew/bin:/Users/stas/perl5/perlbrew/perls/perl-5.22.1/bin"
PERLBREW_PERL="perl-5.22.1"
PERLBREW_ROOT="/Users/stas/perl5/perlbrew"
PERLBREW_VERSION="0.74"
PERL_MM_USE_DEFAULT="1"
@INC:
/Users/stas/perl5/perlbrew/perls/perl-5.22.1/lib/site_perl/5.22.1/darwin-2level
/Users/stas/perl5/perlbrew/perls/perl-5.22.1/lib/site_perl/5.22.1
/Users/stas/perl5/perlbrew/perls/perl-5.22.1/lib/5.22.1/darwin-2level
/Users/stas/perl5/perlbrew/perls/perl-5.22.1/lib/5.22.1
.