Back
From: metabase:user:30f4dfbe-2aae-11df-837a-5e0a49663a4f
Subject: PASS HTML-TreeBuilder-LibXML-0.25 v5.16.2 GNU/Linux
Date: 2016-07-03T14:42:45Z
This distribution has been tested as part of the CPAN Testers
project, supporting the Perl programming language. See
http://wiki.cpantesters.org/ for more information or email
questions to cpan-testers-discuss@perl.org
--
Dear Tokuhiro Matsuno'',
This is a computer-generated report for HTML-TreeBuilder-LibXML-0.25
on perl 5.16.2, created by CPAN-Reporter-1.2017.
Thank you for uploading your work to CPAN. Congratulations!
All tests were successful.
Sections of this report:
* Tester comments
* Program output
* Prerequisites
* Environment and other context
------------------------------
TESTER COMMENTS
------------------------------
Additional comments from tester:
this report is from an automated smoke testing program
and was not reviewed by a human for accuracy
------------------------------
PROGRAM OUTPUT
------------------------------
Output from './Build test':
t/04_new_methods.t .......... ok
t/05_empty.t ................ ok
# soft dependencies
# HTML::TreeBuilder::XPath: 0.14
t/00_compile.t .............. ok
t/02_web_scraper.t .......... skipped: this test requires Web::Scraper
t/clone_list.t .............. ok
t/06_web_query.t ............ skipped: this test requires Web::Query
t/delete_content.t .......... ok
t/guts.t .................... ok
t/postinsert.t .............. ok
t/03_destructor.t ........... ok
t/disembowel.t .............. ok
t/HTML-TreeBuilder-XPath.t .. ok
t/preinsert.t ............... ok
t/content_list.t ............ ok
t/detach.t .................. ok
# HTML::TreeBuilder::XPath
t/matches.t ................. ok
t/replace_with.t ............ ok
t/unshift_content.t ......... ok
# HTML::TreeBuilder::LibXML
t/parent.t .................. ok
t/push_content.t ............ ok
t/01_simple.t ............... ok
All tests successful.
Test Summary Report
-------------------
t/HTML-TreeBuilder-XPath.t (Wstat: 0 Tests: 31 Failed: 0)
TODO passed: 10-13
Files=21, Tests=160, 0 wallclock secs ( 0.05 usr 0.02 sys + 1.39 cusr 0.26 csys = 1.72 CPU)
Result: PASS
------------------------------
PREREQUISITES
------------------------------
Prerequisite modules loaded:
requires:
Module Need Have
------------------------ -------- --------
HTML::TreeBuilder::XPath 0.14 0.14
LWP::UserAgent 6 6.15
perl 5.008001 5.016002
URI 0 1.71
XML::LibXML 1.7 2.0126
build_requires:
Module Need Have
------------------------ -------- --------
Test::Exception 0 0.43
Test::More 0.98 1.001014
configure_requires:
Module Need Have
------------------------ -------- --------
Module::Build 0.38 0.4216
------------------------------
ENVIRONMENT AND OTHER CONTEXT
------------------------------
Environment variables:
AUTOMATED_TESTING = 1
HARNESS_OPTIONS = j20
LANG = en_US.UTF-8
PATH = /home/njh/perl5/perlbrew/bin:/home/njh/perl5/perlbrew/perls/perl-5.16.2/bin:/home/njh/perl5/perlbrew/bin:/usr/bin:/bin
PERL5LIB = /home/njh/.cpan/build/XML-LibXML-2.0126-maguJ4/blib/arch:/home/njh/.cpan/build/XML-LibXML-2.0126-maguJ4/blib/lib:/home/njh/.cpan/build/XML-SAX-0.99-F6eYdH/blib/arch:/home/njh/.cpan/build/XML-SAX-0.99-F6eYdH/blib/lib:/home/njh/.cpan/build/XML-SAX-Base-1.08-vYmwcK/blib/arch:/home/njh/.cpan/build/XML-SAX-Base-1.08-vYmwcK/blib/lib:/home/njh/.cpan/build/XML-NamespaceSupport-1.11-jLNRUB/blib/arch:/home/njh/.cpan/build/XML-NamespaceSupport-1.11-jLNRUB/blib/lib:/home/njh/.cpan/build/HTML-TreeBuilder-XPath-0.14-Oyp3TH/blib/arch:/home/njh/.cpan/build/HTML-TreeBuilder-XPath-0.14-Oyp3TH/blib/lib:/home/njh/.cpan/build/XML-XPathEngine-0.14-5gRlQE/blib/arch:/home/njh/.cpan/build/XML-XPathEngine-0.14-5gRlQE/blib/lib
PERL5OPT =
PERL5_CPANPLUS_IS_RUNNING = 20633
PERL5_CPAN_IS_RUNNING = 20633
PERLBREW_BASHRC_VERSION = 0.76
PERLBREW_HOME = /home/njh/.perlbrew
PERLBREW_LIB =
PERLBREW_MANPATH = /home/njh/perl5/perlbrew/perls/perl-5.16.2/man
PERLBREW_PATH = /home/njh/perl5/perlbrew/bin:/home/njh/perl5/perlbrew/perls/perl-5.16.2/bin
PERLBREW_PERL = perl-5.16.2
PERLBREW_ROOT = /home/njh/perl5/perlbrew
PERLBREW_VERSION = 0.76
PERL_LOCAL_LIB_ROOT =
SHELL = /bin/sh
Perl special variables (and OS-specific diagnostics, for MSWin32):
$^X = /home/njh/perl5/perlbrew/perls/perl-5.16.2/bin/perl
$UID/$EUID = 1000 / 1000
$GID = 1000 4 24 25 29 30 44 46 107 112 118 1000
$EGID = 1000 4 24 25 29 30 44 46 107 112 118 1000
Perl module toolchain versions installed:
Module Have
------------------- --------
CPAN 2.10
CPAN::Meta 2.150005
Cwd 3.62
ExtUtils::CBuilder 0.280224
ExtUtils::Command 7.18
ExtUtils::Install 2.04
ExtUtils::MakeMaker 7.18
ExtUtils::Manifest 1.70
ExtUtils::ParseXS 3.30
File::Spec 3.62
JSON 2.90
JSON::PP 2.27300
Module::Build 0.4216
Module::Signature n/a
Parse::CPAN::Meta 1.4417
Test::Harness 3.36
Test::More 1.001014
YAML 1.15
YAML::Syck 1.29
version 0.9916
--
Summary of my perl5 (revision 5 version 16 subversion 2) configuration:
Platform:
osname=linux, osvers=3.16-2-amd64, archname=x86_64-linux-thread-multi
uname='linux cyberpower2 3.16-2-amd64 #1 smp debian 3.16.3-2 (2014-09-20) x86_64 gnulinux '
config_args='-de -Dprefix=/home/njh/perl5/perlbrew/perls/perl-5.16.2 -Duseithreads -Dusemultiplicity -Dusedevel -Accflags=-O2 -W -Wformat=2 -Wswitch -Wshadow -Wwrite-strings -Wuninitialized -Wall -pipe -mtune=native -march=native -fomit-frame-pointer -msse2 -msse -mmmx -mfpmath=sse -pedantic -D_FORTIFY_SOURCE=2 -Wpointer-arith -Wstrict-prototypes -fstack-protector -Wstack-protector -Wextra -Wbad-function-cast -Wcast-align -Wcast-qual -Wdisabled-optimization -Wendif-labels -Wfloat-equal -Wformat-nonliteral -Winline -Wmissing-declarations -Wmissing-prototypes -Wnested-externs -Wpointer-arith -Wundef -Wformat-security -ftree-vectorize -fdiagnostics-color=auto -Aeval:scriptdir=/home/njh/perl5/perlbrew/perls/perl-5.16.2/bin'
hint=recommended, useposix=true, d_sigaction=define
useithreads=define, usemultiplicity=define
useperlio=define, d_sfio=undef, uselargefiles=define, usesocks=undef
use64bitint=define, use64bitall=define, uselongdouble=undef
usemymalloc=n, bincompat5005=undef
Compiler:
cc='cc', ccflags ='-D_REENTRANT -D_GNU_SOURCE -O2 -W -Wformat=2 -Wswitch -Wshadow -Wwrite-strings -Wuninitialized -Wall -pipe -mtune=native -march=native -fomit-frame-pointer -msse2 -msse -mmmx -mfpmath=sse -pedantic -D_FORTIFY_SOURCE=2 -Wpointer-arith -Wstrict-prototypes -fstack-protector -Wstack-protector -Wextra -Wbad-function-cast -Wcast-align -Wcast-qual -Wdisabled-optimization -Wendif-labels -Wfloat-equal -Wformat-nonliteral -Winline -Wmissing-declarations -Wmissing-prototypes -Wnested-externs -Wpointer-arith -Wundef -Wformat-security -ftree-vectorize -fdiagnostics-color=auto -fno-strict-aliasing -I/usr/local/include -D_LARGEFILE_SOURCE -D_FILE_OFFSET_BITS=64',
optimize='-O2',
cppflags='-D_REENTRANT -D_GNU_SOURCE -O2 -W -Wformat=2 -Wswitch -Wshadow -Wwrite-strings -Wuninitialized -Wall -pipe -mtune=native -march=native -fomit-frame-pointer -msse2 -msse -mmmx -mfpmath=sse -pedantic -D_FORTIFY_SOURCE=2 -Wpointer-arith -Wstrict-prototypes -fstack-protector -Wstack-protector -Wextra -Wbad-function-cast -Wcast-align -Wcast-qual -Wdisabled-optimization -Wendif-labels -Wfloat-equal -Wformat-nonliteral -Winline -Wmissing-declarations -Wmissing-prototypes -Wnested-externs -Wpointer-arith -Wundef -Wformat-security -ftree-vectorize -fdiagnostics-color=auto -fno-strict-aliasing -I/usr/local/include'
ccversion='', gccversion='4.9.1', gccosandvers=''
intsize=4, longsize=8, ptrsize=8, doublesize=8, byteorder=12345678
d_longlong=define, longlongsize=8, d_longdbl=define, longdblsize=16
ivtype='long', ivsize=8, nvtype='double', nvsize=8, Off_t='off_t', lseeksize=8
alignbytes=8, prototype=define
Linker and Libraries:
ld='cc', ldflags =' -fstack-protector -L/usr/local/lib'
libpth=/usr/local/lib /lib/x86_64-linux-gnu /lib/../lib /usr/lib/x86_64-linux-gnu /usr/lib/../lib /lib /usr/lib
libs=-lnsl -lgdbm -ldb -ldl -lm -lcrypt -lutil -lpthread -lc -lgdbm_compat
perllibs=-lnsl -ldl -lm -lcrypt -lutil -lpthread -lc
libc=libc-2.19.so, so=so, useshrplib=false, libperl=libperl.a
gnulibc_version='2.19'
Dynamic Linking:
dlsrc=dl_dlopen.xs, dlext=so, d_dlsymun=undef, ccdlflags='-Wl,-E'
cccdlflags='-fPIC', lddlflags='-shared -O2 -L/usr/local/lib -fstack-protector'
Characteristics of this binary (from libperl):
Compile-time options: HAS_TIMES MULTIPLICITY PERLIO_LAYERS
PERL_DONT_CREATE_GVSV PERL_IMPLICIT_CONTEXT
PERL_MALLOC_WRAP PERL_PRESERVE_IVUV PERL_USE_DEVEL
USE_64_BIT_ALL USE_64_BIT_INT USE_ITHREADS
USE_LARGE_FILES USE_LOCALE USE_LOCALE_COLLATE
USE_LOCALE_CTYPE USE_LOCALE_NUMERIC USE_PERLIO
USE_PERL_ATOF USE_REENTRANT_API
Built under linux
Compiled at Oct 15 2014 10:35:55
%ENV:
PERL5LIB="/home/njh/.cpan/build/XML-LibXML-2.0126-maguJ4/blib/arch:/home/njh/.cpan/build/XML-LibXML-2.0126-maguJ4/blib/lib:/home/njh/.cpan/build/XML-SAX-0.99-F6eYdH/blib/arch:/home/njh/.cpan/build/XML-SAX-0.99-F6eYdH/blib/lib:/home/njh/.cpan/build/XML-SAX-Base-1.08-vYmwcK/blib/arch:/home/njh/.cpan/build/XML-SAX-Base-1.08-vYmwcK/blib/lib:/home/njh/.cpan/build/XML-NamespaceSupport-1.11-jLNRUB/blib/arch:/home/njh/.cpan/build/XML-NamespaceSupport-1.11-jLNRUB/blib/lib:/home/njh/.cpan/build/HTML-TreeBuilder-XPath-0.14-Oyp3TH/blib/arch:/home/njh/.cpan/build/HTML-TreeBuilder-XPath-0.14-Oyp3TH/blib/lib:/home/njh/.cpan/build/XML-XPathEngine-0.14-5gRlQE/blib/arch:/home/njh/.cpan/build/XML-XPathEngine-0.14-5gRlQE/blib/lib"
PERL5OPT=""
PERL5_CPANPLUS_IS_RUNNING="20633"
PERL5_CPAN_IS_RUNNING="20633"
PERLBREW_BASHRC_VERSION="0.76"
PERLBREW_HOME="/home/njh/.perlbrew"
PERLBREW_LIB=""
PERLBREW_MANPATH="/home/njh/perl5/perlbrew/perls/perl-5.16.2/man"
PERLBREW_PATH="/home/njh/perl5/perlbrew/bin:/home/njh/perl5/perlbrew/perls/perl-5.16.2/bin"
PERLBREW_PERL="perl-5.16.2"
PERLBREW_ROOT="/home/njh/perl5/perlbrew"
PERLBREW_VERSION="0.76"
PERL_LOCAL_LIB_ROOT=""
@INC:
/home/njh/.cpan/build/XML-LibXML-2.0126-maguJ4/blib/arch
/home/njh/.cpan/build/XML-LibXML-2.0126-maguJ4/blib/lib
/home/njh/.cpan/build/XML-SAX-0.99-F6eYdH/blib/arch
/home/njh/.cpan/build/XML-SAX-0.99-F6eYdH/blib/lib
/home/njh/.cpan/build/XML-SAX-Base-1.08-vYmwcK/blib/arch
/home/njh/.cpan/build/XML-SAX-Base-1.08-vYmwcK/blib/lib
/home/njh/.cpan/build/XML-NamespaceSupport-1.11-jLNRUB/blib/arch
/home/njh/.cpan/build/XML-NamespaceSupport-1.11-jLNRUB/blib/lib
/home/njh/.cpan/build/HTML-TreeBuilder-XPath-0.14-Oyp3TH/blib/arch
/home/njh/.cpan/build/HTML-TreeBuilder-XPath-0.14-Oyp3TH/blib/lib
/home/njh/.cpan/build/XML-XPathEngine-0.14-5gRlQE/blib/arch
/home/njh/.cpan/build/XML-XPathEngine-0.14-5gRlQE/blib/lib
/home/njh/perl5/perlbrew/perls/perl-5.16.2/lib/site_perl/5.16.2/x86_64-linux-thread-multi
/home/njh/perl5/perlbrew/perls/perl-5.16.2/lib/site_perl/5.16.2
/home/njh/perl5/perlbrew/perls/perl-5.16.2/lib/5.16.2/x86_64-linux-thread-multi
/home/njh/perl5/perlbrew/perls/perl-5.16.2/lib/5.16.2
.