Moo v2.005005 Perl 5 v5.43.2 x86_64-linux-thread-multi-quadmath
        
            - Status
 
            - Pass
 
            - From
 
            - Andreas J. König (ANDK)
 
            - Dist
 
            - 
                Moo v2.005005
            
 
            - Platform
 
            - Perl 5 v5.43.2 x86_64-linux-thread-multi-quadmath
 
            - Date
 
            - 2025-08-23 07:18:44
 
            - ID
 
            - 67687ad4-7ff1-11f0-b665-f7d862a6a36c
 
        
        This distribution has been tested as part of the CPAN Testers
project, supporting the Perl programming language.  See
http://wiki.cpantesters.org/ for more information or email
questions to cpan-testers-discuss@perl.org
--
Dear Graham Knop,
This is a computer-generated report for Moo-2.005005
on perl 5.43.2, created by CPAN-Reporter-1.2020.
Thank you for uploading your work to CPAN.  Congratulations!
All tests were successful.
Sections of this report:
    * Tester comments
    * Program output
    * Prerequisites
    * Environment and other context
------------------------------
TESTER COMMENTS
------------------------------
Additional comments from tester:
this report is from an automated smoke testing program
and was not reviewed by a human for accuracy
------------------------------
PROGRAM OUTPUT
------------------------------
Output from '/usr/bin/make test':
PERL_DL_NONLAZY=1 "/home/sand/src/perl/repoperls/installed-perls/host/k93msid/v5.43.2/db45/bin/perl" -It/lib "-MTestEnv=" "-MExtUtils::Command::MM" "-MTest::Harness" "-e" "undef *Test::Harness::Switches; test_harness(0, 'blib/lib', 'blib/arch')" t/*.t
Possible attempt to escape whitespace in qw() list at /home/sand/src/perl/repoperls/installed-perls/host/k93msid/v5.43.2/db45/lib/site_perl/5.43.2/Sub/Quote.pm line 64.
t/accessor-coerce.t ................ ok
Possible attempt to escape whitespace in qw() list at /home/sand/src/perl/repoperls/installed-perls/host/k93msid/v5.43.2/db45/lib/site_perl/5.43.2/Sub/Quote.pm line 64.
t/accessor-default.t ............... ok
Possible attempt to escape whitespace in qw() list at /home/sand/src/perl/repoperls/installed-perls/host/k93msid/v5.43.2/db45/lib/site_perl/5.43.2/Sub/Quote.pm line 64.
t/accessor-generator-extension.t ... ok
Possible attempt to escape whitespace in qw() list at /home/sand/src/perl/repoperls/installed-perls/host/k93msid/v5.43.2/db45/lib/site_perl/5.43.2/Sub/Quote.pm line 64.
t/accessor-handles.t ............... ok
Possible attempt to escape whitespace in qw() list at /home/sand/src/perl/repoperls/installed-perls/host/k93msid/v5.43.2/db45/lib/site_perl/5.43.2/Sub/Quote.pm line 64.
t/accessor-isa.t ................... ok
Possible attempt to escape whitespace in qw() list at /home/sand/src/perl/repoperls/installed-perls/host/k93msid/v5.43.2/db45/lib/site_perl/5.43.2/Sub/Quote.pm line 64.
t/accessor-mixed.t ................. ok
Possible attempt to escape whitespace in qw() list at /home/sand/src/perl/repoperls/installed-perls/host/k93msid/v5.43.2/db45/lib/site_perl/5.43.2/Sub/Quote.pm line 64.
t/accessor-pred-clear.t ............ ok
Possible attempt to escape whitespace in qw() list at /home/sand/src/perl/repoperls/installed-perls/host/k93msid/v5.43.2/db45/lib/site_perl/5.43.2/Sub/Quote.pm line 64.
t/accessor-reader-writer.t ......... ok
Possible attempt to escape whitespace in qw() list at /home/sand/src/perl/repoperls/installed-perls/host/k93msid/v5.43.2/db45/lib/site_perl/5.43.2/Sub/Quote.pm line 64.
t/accessor-roles.t ................. ok
Possible attempt to escape whitespace in qw() list at /home/sand/src/perl/repoperls/installed-perls/host/k93msid/v5.43.2/db45/lib/site_perl/5.43.2/Sub/Quote.pm line 64.
t/accessor-shortcuts.t ............. ok
Possible attempt to escape whitespace in qw() list at /home/sand/src/perl/repoperls/installed-perls/host/k93msid/v5.43.2/db45/lib/site_perl/5.43.2/Sub/Quote.pm line 64.
t/accessor-trigger.t ............... ok
Possible attempt to escape whitespace in qw() list at /home/sand/src/perl/repoperls/installed-perls/host/k93msid/v5.43.2/db45/lib/site_perl/5.43.2/Sub/Quote.pm line 64.
t/accessor-weaken-pre-5_8_3.t ...... ok
Possible attempt to escape whitespace in qw() list at /home/sand/src/perl/repoperls/installed-perls/host/k93msid/v5.43.2/db45/lib/site_perl/5.43.2/Sub/Quote.pm line 64.
t/accessor-weaken.t ................ ok
Possible attempt to escape whitespace in qw() list at /home/sand/src/perl/repoperls/installed-perls/host/k93msid/v5.43.2/db45/lib/site_perl/5.43.2/Sub/Quote.pm line 64.
t/buildall-subconstructor.t ........ ok
Possible attempt to escape whitespace in qw() list at /home/sand/src/perl/repoperls/installed-perls/host/k93msid/v5.43.2/db45/lib/site_perl/5.43.2/Sub/Quote.pm line 64.
t/buildall.t ....................... ok
Possible attempt to escape whitespace in qw() list at /home/sand/src/perl/repoperls/installed-perls/host/k93msid/v5.43.2/db45/lib/site_perl/5.43.2/Sub/Quote.pm line 64.
t/buildargs-error.t ................ ok
Possible attempt to escape whitespace in qw() list at /home/sand/src/perl/repoperls/installed-perls/host/k93msid/v5.43.2/db45/lib/site_perl/5.43.2/Sub/Quote.pm line 64.
t/buildargs.t ...................... ok
Possible attempt to escape whitespace in qw() list at /home/sand/src/perl/repoperls/installed-perls/host/k93msid/v5.43.2/db45/lib/site_perl/5.43.2/Sub/Quote.pm line 64.
t/coerce-1.t ....................... ok
Possible attempt to escape whitespace in qw() list at /home/sand/src/perl/repoperls/installed-perls/host/k93msid/v5.43.2/db45/lib/site_perl/5.43.2/Sub/Quote.pm line 64.
t/compose-conflicts.t .............. ok
t/compose-non-role.t ............... ok
Possible attempt to escape whitespace in qw() list at /home/sand/src/perl/repoperls/installed-perls/host/k93msid/v5.43.2/db45/lib/site_perl/5.43.2/Sub/Quote.pm line 64.
t/compose-roles.t .................. ok
Possible attempt to escape whitespace in qw() list at /home/sand/src/perl/repoperls/installed-perls/host/k93msid/v5.43.2/db45/lib/site_perl/5.43.2/Sub/Quote.pm line 64.
t/constructor-modify.t ............. ok
Possible attempt to escape whitespace in qw() list at /home/sand/src/perl/repoperls/installed-perls/host/k93msid/v5.43.2/db45/lib/site_perl/5.43.2/Sub/Quote.pm line 64.
t/croak-locations.t ................ ok
Possible attempt to escape whitespace in qw() list at /home/sand/src/perl/repoperls/installed-perls/host/k93msid/v5.43.2/db45/lib/site_perl/5.43.2/Sub/Quote.pm line 64.
t/demolish-basics.t ................ ok
Possible attempt to escape whitespace in qw() list at /home/sand/src/perl/repoperls/installed-perls/host/k93msid/v5.43.2/db45/lib/site_perl/5.43.2/Sub/Quote.pm line 64.
t/demolish-bugs-eats_exceptions.t .. ok
Possible attempt to escape whitespace in qw() list at /home/sand/src/perl/repoperls/installed-perls/host/k93msid/v5.43.2/db45/lib/site_perl/5.43.2/Sub/Quote.pm line 64.
t/demolish-bugs-eats_mini.t ........ ok
Possible attempt to escape whitespace in qw() list at /home/sand/src/perl/repoperls/installed-perls/host/k93msid/v5.43.2/db45/lib/site_perl/5.43.2/Sub/Quote.pm line 64.
Possible attempt to escape whitespace in qw() list at /home/sand/src/perl/repoperls/installed-perls/host/k93msid/v5.43.2/db45/lib/site_perl/5.43.2/Sub/Quote.pm line 64.
t/demolish-global_destruction.t .... ok
Possible attempt to escape whitespace in qw() list at /home/sand/src/perl/repoperls/installed-perls/host/k93msid/v5.43.2/db45/lib/site_perl/5.43.2/Sub/Quote.pm line 64.
t/demolish-throw.t ................. ok
Possible attempt to escape whitespace in qw() list at /home/sand/src/perl/repoperls/installed-perls/host/k93msid/v5.43.2/db45/lib/site_perl/5.43.2/Sub/Quote.pm line 64.
t/does.t ........................... ok
Possible attempt to escape whitespace in qw() list at /home/sand/src/perl/repoperls/installed-perls/host/k93msid/v5.43.2/db45/lib/site_perl/5.43.2/Sub/Quote.pm line 64.
t/extend-constructor.t ............. ok
Possible attempt to escape whitespace in qw() list at /home/sand/src/perl/repoperls/installed-perls/host/k93msid/v5.43.2/db45/lib/site_perl/5.43.2/Sub/Quote.pm line 64.
t/extends-non-moo.t ................ ok
t/extends-role.t ................... ok
Possible attempt to escape whitespace in qw() list at /home/sand/src/perl/repoperls/installed-perls/host/k93msid/v5.43.2/db45/lib/site_perl/5.43.2/Sub/Quote.pm line 64.
t/foreignbuildargs.t ............... ok
Possible attempt to escape whitespace in qw() list at /home/sand/src/perl/repoperls/installed-perls/host/k93msid/v5.43.2/db45/lib/site_perl/5.43.2/Sub/Quote.pm line 64.
t/global_underscore.t .............. ok
Possible attempt to escape whitespace in qw() list at /home/sand/src/perl/repoperls/installed-perls/host/k93msid/v5.43.2/db45/lib/site_perl/5.43.2/Sub/Quote.pm line 64.
t/has-array.t ...................... ok
Possible attempt to escape whitespace in qw() list at /home/sand/src/perl/repoperls/installed-perls/host/k93msid/v5.43.2/db45/lib/site_perl/5.43.2/Sub/Quote.pm line 64.
t/has-before-extends.t ............. ok
Possible attempt to escape whitespace in qw() list at /home/sand/src/perl/repoperls/installed-perls/host/k93msid/v5.43.2/db45/lib/site_perl/5.43.2/Sub/Quote.pm line 64.
t/has-plus.t ....................... ok
Possible attempt to escape whitespace in qw() list at /home/sand/src/perl/repoperls/installed-perls/host/k93msid/v5.43.2/db45/lib/site_perl/5.43.2/Sub/Quote.pm line 64.
t/init-arg.t ....................... ok
Possible attempt to escape whitespace in qw() list at /home/sand/src/perl/repoperls/installed-perls/host/k93msid/v5.43.2/db45/lib/site_perl/5.43.2/Sub/Quote.pm line 64.
t/isa-interfere.t .................. ok
Possible attempt to escape whitespace in qw() list at /home/sand/src/perl/repoperls/installed-perls/host/k93msid/v5.43.2/db45/lib/site_perl/5.43.2/Sub/Quote.pm line 64.
t/lazy_isa.t ....................... ok
t/load_module.t .................... ok
t/load_module_error.t .............. ok
t/load_module_role_tiny.t .......... ok
Possible attempt to escape whitespace in qw() list at /home/sand/src/perl/repoperls/installed-perls/host/k93msid/v5.43.2/db45/lib/site_perl/5.43.2/Sub/Quote.pm line 64.
t/long-package-name.t .............. ok
Possible attempt to escape whitespace in qw() list at /home/sand/src/perl/repoperls/installed-perls/host/k93msid/v5.43.2/db45/lib/site_perl/5.43.2/Sub/Quote.pm line 64.
t/method-generate-accessor.t ....... ok
Possible attempt to escape whitespace in qw() list at /home/sand/src/perl/repoperls/installed-perls/host/k93msid/v5.43.2/db45/lib/site_perl/5.43.2/Sub/Quote.pm line 64.
t/method-generate-constructor.t .... ok
t/modifiers.t ...................... ok
Possible attempt to escape whitespace in qw() list at /home/sand/src/perl/repoperls/installed-perls/host/k93msid/v5.43.2/db45/lib/site_perl/5.43.2/Sub/Quote.pm line 64.
t/modify_lazy_handlers.t ........... ok
Possible attempt to escape whitespace in qw() list at /home/sand/src/perl/repoperls/installed-perls/host/k93msid/v5.43.2/db45/lib/site_perl/5.43.2/Sub/Quote.pm line 64.
t/moo-accessors.t .................. ok
Possible attempt to escape whitespace in qw() list at /home/sand/src/perl/repoperls/installed-perls/host/k93msid/v5.43.2/db45/lib/site_perl/5.43.2/Sub/Quote.pm line 64.
t/moo-c3.t ......................... ok
Possible attempt to escape whitespace in qw() list at /home/sand/src/perl/repoperls/installed-perls/host/k93msid/v5.43.2/db45/lib/site_perl/5.43.2/Sub/Quote.pm line 64.
t/moo-object.t ..................... ok
t/moo-utils-_name_coderef.t ........ ok
t/moo-utils-_subname-Sub-Name.t .... ok
t/moo-utils-_subname.t ............. ok
t/moo-utils.t ...................... ok
Possible attempt to escape whitespace in qw() list at /home/sand/src/perl/repoperls/installed-perls/host/k93msid/v5.43.2/db45/lib/site_perl/5.43.2/Sub/Quote.pm line 64.
t/moo.t ............................ ok
Possible attempt to escape whitespace in qw() list at /home/sand/src/perl/repoperls/installed-perls/host/k93msid/v5.43.2/db45/lib/site_perl/5.43.2/Sub/Quote.pm line 64.
t/mutual-requires.t ................ ok
Possible attempt to escape whitespace in qw() list at /home/sand/src/perl/repoperls/installed-perls/host/k93msid/v5.43.2/db45/lib/site_perl/5.43.2/Sub/Quote.pm line 64.
t/no-build.t ....................... ok
Possible attempt to escape whitespace in qw() list at /home/sand/src/perl/repoperls/installed-perls/host/k93msid/v5.43.2/db45/lib/site_perl/5.43.2/Sub/Quote.pm line 64.
t/no-moo.t ......................... ok
Possible attempt to escape whitespace in qw() list at /home/sand/src/perl/repoperls/installed-perls/host/k93msid/v5.43.2/db45/lib/site_perl/5.43.2/Sub/Quote.pm line 64.
t/non-moo-extends-c3.t ............. ok
Possible attempt to escape whitespace in qw() list at /home/sand/src/perl/repoperls/installed-perls/host/k93msid/v5.43.2/db45/lib/site_perl/5.43.2/Sub/Quote.pm line 64.
t/non-moo-extends.t ................ ok
t/not-both.t ....................... ok
t/not-methods.t .................... ok
Possible attempt to escape whitespace in qw() list at /home/sand/src/perl/repoperls/installed-perls/host/k93msid/v5.43.2/db45/lib/site_perl/5.43.2/Sub/Quote.pm line 64.
t/overloaded-coderefs.t ............ ok
Possible attempt to escape whitespace in qw() list at /home/sand/src/perl/repoperls/installed-perls/host/k93msid/v5.43.2/db45/lib/site_perl/5.43.2/Sub/Quote.pm line 64.
t/overridden-core-funcs.t .......... ok
Possible attempt to escape whitespace in qw() list at /home/sand/src/perl/repoperls/installed-perls/host/k93msid/v5.43.2/db45/lib/site_perl/5.43.2/Sub/Quote.pm line 64.
t/role-conflicts-moox.t ............ ok
Possible attempt to escape whitespace in qw() list at /home/sand/src/perl/repoperls/installed-perls/host/k93msid/v5.43.2/db45/lib/site_perl/5.43.2/Sub/Quote.pm line 64.
t/sub-and-handles.t ................ ok
Possible attempt to escape whitespace in qw() list at /home/sand/src/perl/repoperls/installed-perls/host/k93msid/v5.43.2/db45/lib/site_perl/5.43.2/Sub/Quote.pm line 64.
t/subconstructor.t ................. ok
Possible attempt to escape whitespace in qw() list at /home/sand/src/perl/repoperls/installed-perls/host/k93msid/v5.43.2/db45/lib/site_perl/5.43.2/Sub/Quote.pm line 64.
t/undef-bug.t ...................... ok
Possible attempt to escape whitespace in qw() list at /home/sand/src/perl/repoperls/installed-perls/host/k93msid/v5.43.2/db45/lib/site_perl/5.43.2/Sub/Quote.pm line 64.
t/use-after-no.t ................... ok
t/zzz-check-breaks.t ............... ok
All tests successful.
Files=71, Tests=841, 15 wallclock secs ( 0.23 usr  0.15 sys +  6.20 cusr  1.55 csys =  8.13 CPU)
Result: PASS
------------------------------
PREREQUISITES
------------------------------
Prerequisite modules loaded:
requires:
    Module                   Need     Have    
    ------------------------ -------- --------
    Carp                     0        1.54    
    Class::Method::Modifiers 1.10     2.15    
    Exporter                 0        5.79    
    perl                     5.006    5.043002
    Role::Tiny               2.002003 2.002004
    Scalar::Util             1.00     1.70    
    Sub::Defer               2.006006 2.006009
    Sub::Quote               2.006006 2.006009
build_requires:
    Module                   Need     Have    
    ------------------------ -------- --------
    Test::More               0.94     1.302214
configure_requires:
    Module                   Need     Have    
    ------------------------ -------- --------
    ExtUtils::MakeMaker      0        7.76    
opt_requires:
    Module                   Need     Have    
    ------------------------ -------- --------
  ! Class::XSAccessor        1.18     n/a     
    Sub::Util                0        1.70    
------------------------------
ENVIRONMENT AND OTHER CONTEXT
------------------------------
Environment variables:
    AUTOMATED_TESTING = 1
    LANG = en_US.UTF-8
    LANGUAGE = en_US:en
    PATH = /home/sand/bin:/usr/local/bin:/usr/bin:/bin:/usr/games:/usr/local/perl/bin:/usr/X11/bin:/sbin:/usr/sbin
    PERL5LIB = 
    PERL5OPT = 
    PERL5_CPANPLUS_IS_RUNNING = 2670269
    PERL5_CPAN_IS_RUNNING = 2670269
    PERL_CANARY_STABILITY_NOPROMPT = 1
    PERL_MM_USE_DEFAULT = 1
    PERL_USE_UNSAFE_INC = 1
    SHELL = /usr/bin/zsh
    TERM = screen
Perl special variables (and OS-specific diagnostics, for MSWin32):
    $^X = /home/sand/src/perl/repoperls/installed-perls/host/k93msid/v5.43.2/db45/bin/perl
    $UID/$EUID = 1005 / 1005
    $GID = 1005 1005
    $EGID = 1005 1005
Perl module toolchain versions installed:
    Module              Have    
    ------------------- --------
    CPAN                2.38    
    CPAN::Meta          2.150010
    Cwd                 3.94    
    ExtUtils::CBuilder  0.280242
    ExtUtils::Command   7.76    
    ExtUtils::Install   2.22    
    ExtUtils::MakeMaker 7.76    
    ExtUtils::Manifest  1.75    
    ExtUtils::ParseXS   3.59    
    File::Spec          3.94    
    JSON                n/a     
    JSON::PP            4.16    
    Module::Build       0.4234  
    Module::Signature   0.93    
    Parse::CPAN::Meta   2.150010
    Test2               1.302214
    Test::Harness       3.52    
    Test::More          1.302214
    YAML                1.31    
    YAML::Syck          1.34    
    version             0.9933  
--
Summary of my perl5 (revision 5 version 43 subversion 2) configuration:
  Commit id: 7afd3f158f75d5730469889406f8f98c681d58c1
  Platform:
    osname=linux
    osvers=6.12.22-amd64
    archname=x86_64-linux-thread-multi-quadmath
    uname='linux k93msid 6.12.22-amd64 #1 smp preempt_dynamic debian 6.12.22-1 (2025-04-10) x86_64 gnulinux '
    config_args='-Dprefix=/home/sand/src/perl/repoperls/installed-perls/host/k93msid/v5.43.2/db45 -Dmyhostname=k93msid -Dinstallusrbinperl=n -Uversiononly -Dusedevel -des -Ui_db -Dlibswanted=cl pthread socket inet nsl gdbm dbm malloc dl ld sun m crypt sec util c cposix posix ucb BSD gdbm_compat -Duseithreads -Uuselongdouble -DEBUGGING=both -Dusequadmath'
    hint=recommended
    useposix=true
    d_sigaction=define
    useithreads=define
    usemultiplicity=define
    use64bitint=define
    use64bitall=define
    uselongdouble=undef
    usemymalloc=n
    default_inc_excludes_dot=define
  Compiler:
    cc='cc'
    ccflags ='-D_REENTRANT -D_GNU_SOURCE -fwrapv -DDEBUGGING -fno-strict-aliasing -pipe -fstack-protector-strong -I/usr/local/include -D_LARGEFILE_SOURCE -D_FILE_OFFSET_BITS=64 -D_FORTIFY_SOURCE=2'
    optimize='-O2 -g'
    cppflags='-D_REENTRANT -D_GNU_SOURCE -fwrapv -DDEBUGGING -fno-strict-aliasing -pipe -fstack-protector-strong -I/usr/local/include'
    ccversion=''
    gccversion='14.2.0'
    gccosandvers=''
    intsize=4
    longsize=8
    ptrsize=8
    doublesize=8
    byteorder=12345678
    doublekind=3
    d_longlong=define
    longlongsize=8
    d_longdbl=define
    longdblsize=16
    longdblkind=3
    ivtype='long'
    ivsize=8
    nvtype='__float128'
    nvsize=16
    Off_t='off_t'
    lseeksize=8
    alignbytes=16
    prototype=define
  Linker and Libraries:
    ld='cc'
    ldflags =' -fstack-protector-strong -L/usr/local/lib'
    libpth=/usr/local/lib /usr/lib/x86_64-linux-gnu /usr/lib /usr/lib64
    libs=-lpthread -ldl -lm -lcrypt -lutil -lc -lquadmath
    perllibs=-lpthread -ldl -lm -lcrypt -lutil -lc -lquadmath
    libc=/lib/x86_64-linux-gnu/libc.so.6
    so=so
    useshrplib=false
    libperl=libperl.a
    gnulibc_version='2.41'
  Dynamic Linking:
    dlsrc=dl_dlopen.xs
    dlext=so
    d_dlsymun=undef
    ccdlflags='-Wl,-E'
    cccdlflags='-fPIC'
    lddlflags='-shared -O2 -g -L/usr/local/lib -fstack-protector-strong'
Characteristics of this binary (from libperl): 
  Compile-time options:
    DEBUGGING
    HAS_LONG_DOUBLE
    HAS_STRTOLD
    HAS_TIMES
    MULTIPLICITY
    PERLIO_LAYERS
    PERL_COPY_ON_WRITE
    PERL_DONT_CREATE_GVSV
    PERL_HASH_FUNC_SIPHASH13
    PERL_HASH_USE_SBOX32
    PERL_MALLOC_WRAP
    PERL_OP_PARENT
    PERL_PRESERVE_IVUV
    PERL_TRACK_MEMPOOL
    PERL_USE_DEVEL
    PERL_USE_SAFE_PUTENV
    USE_64_BIT_ALL
    USE_64_BIT_INT
    USE_ITHREADS
    USE_LARGE_FILES
    USE_LOCALE
    USE_LOCALE_COLLATE
    USE_LOCALE_CTYPE
    USE_LOCALE_NUMERIC
    USE_LOCALE_TIME
    USE_PERLIO
    USE_PERL_ATOF
    USE_QUADMATH
    USE_REENTRANT_API
    USE_THREAD_SAFE_LOCALE
  Built under linux
  Compiled at Aug 22 2025 11:46:43
  %ENV:
    PERL5LIB=""
    PERL5OPT=""
    PERL5_CPANPLUS_IS_RUNNING="2670269"
    PERL5_CPAN_IS_RUNNING="2670269"
    PERL_CANARY_STABILITY_NOPROMPT="1"
    PERL_MM_USE_DEFAULT="1"
    PERL_USE_UNSAFE_INC="1"
  @INC:
    /home/sand/src/perl/repoperls/installed-perls/host/k93msid/v5.43.2/db45/lib/site_perl/5.43.2/x86_64-linux-thread-multi-quadmath
    /home/sand/src/perl/repoperls/installed-perls/host/k93msid/v5.43.2/db45/lib/site_perl/5.43.2
    /home/sand/src/perl/repoperls/installed-perls/host/k93msid/v5.43.2/db45/lib/5.43.2/x86_64-linux-thread-multi-quadmath
    /home/sand/src/perl/repoperls/installed-perls/host/k93msid/v5.43.2/db45/lib/5.43.2
    .