Orochi v0.00010 Perl 5 v5.8.3 x86_64-linux

Status
Pass
From
Andreas J. König (ANDK)
Dist
Orochi v0.00010
Platform
Perl 5 v5.8.3 x86_64-linux
Date
2017-08-22 17:36:17
ID
66f2dc3a-8760-11e7-aae4-623b7b9c3273
This distribution has been tested as part of the CPAN Testers
project, supporting the Perl programming language.  See
http://wiki.cpantesters.org/ for more information or email
questions to cpan-testers-discuss@perl.org


--
Dear Daisuke Maki,

This is a computer-generated report for Orochi-0.00010
on perl 5.8.3, created by CPAN-Reporter-1.2018.

Thank you for uploading your work to CPAN.  Congratulations!
All tests were successful.

Sections of this report:

    * Tester comments
    * Program output
    * Prerequisites
    * Environment and other context

------------------------------
TESTER COMMENTS
------------------------------

Additional comments from tester:

this report is from an automated smoke testing program
and was not reviewed by a human for accuracy

------------------------------
PROGRAM OUTPUT
------------------------------

Output from '/usr/bin/make test':

PERL_DL_NONLAZY=1 "/home/sand/src/perl/repoperls/installed-perls/host/k93msid/perl-5.8.3/89ad/bin/perl" "-MExtUtils::Command::MM" "-MTest::Harness" "-e" "undef *Test::Harness::Switches; test_harness(0, 'inc', 'blib/lib', 'blib/arch')" t/*.t
Class::MOP::is_class_loaded is deprecated at /home/sand/src/perl/repoperls/installed-perls/host/k93msid/perl-5.8.3/89ad/lib/site_perl/5.8.3/x86_64-linux/Class/MOP.pm line 87.
	Class::MOP::is_class_loaded("Test::MockObject") called at /tmp/loop_over_bdir-15241-TKyAqr/Orochi-0.00010-0/blib/lib/Orochi/Injection/Constructor.pm line 58
	Orochi::Injection::Constructor::construct_object(Orochi::Injection::Constructor=HASH(0x5624beac73a0), Orochi=HASH(0x5624c045d1b0), ARRAY(0x5624bfdec520)) called at /tmp/loop_over_bdir-15241-TKyAqr/Orochi-0.00010-0/blib/lib/Orochi/Injection/Constructor.pm line 50
	Orochi::Injection::Constructor::expand(Orochi::Injection::Constructor=HASH(0x5624beac73a0), Orochi=HASH(0x5624c045d1b0)) called at /tmp/loop_over_bdir-15241-TKyAqr/Orochi-0.00010-0/blib/lib/Orochi.pm line 88
	eval {...} called at /tmp/loop_over_bdir-15241-TKyAqr/Orochi-0.00010-0/blib/lib/Orochi.pm line 87
	Orochi::get(Orochi=HASH(0x5624c045d1b0), "/myapp/foo") called at t/001_constructor.t line 13
t/001_constructor.t ... ok
t/002_declare.t ....... ok
Class::MOP::is_class_loaded is deprecated at /home/sand/src/perl/repoperls/installed-perls/host/k93msid/perl-5.8.3/89ad/lib/site_perl/5.8.3/x86_64-linux/Class/MOP.pm line 87.
	Class::MOP::is_class_loaded("Orochi::Test::MooseBased1") called at /tmp/loop_over_bdir-15241-TKyAqr/Orochi-0.00010-0/blib/lib/Orochi.pm line 213
	Orochi::inject_class(Orochi=HASH(0x55b94d03b540), "Orochi::Test::MooseBased1") called at t/300_moosex.t line 10
Class::MOP::load_class is deprecated at /home/sand/src/perl/repoperls/installed-perls/host/k93msid/perl-5.8.3/89ad/lib/site_perl/5.8.3/x86_64-linux/Class/MOP.pm line 69.
	Class::MOP::load_class("Orochi::Test::MooseBased1") called at /tmp/loop_over_bdir-15241-TKyAqr/Orochi-0.00010-0/blib/lib/Orochi.pm line 213
	Orochi::inject_class(Orochi=HASH(0x55b94d03b540), "Orochi::Test::MooseBased1") called at t/300_moosex.t line 10
Class::MOP::is_class_loaded is deprecated at /home/sand/src/perl/repoperls/installed-perls/host/k93msid/perl-5.8.3/89ad/lib/site_perl/5.8.3/x86_64-linux/Class/MOP.pm line 87.
	Class::MOP::is_class_loaded("Orochi::Injection::Constructor") called at /tmp/loop_over_bdir-15241-TKyAqr/Orochi-0.00010-0/blib/lib/MooseX/Orochi.pm line 42
	MooseX::Orochi::bind_constructor(Moose::Meta::Class::__ANON__::SERIAL::1=HASH(0x55b94d1f29e0), "/orochi/test/MooseBased1", "args", HASH(0x55b94b7078b0)) called at /home/sand/src/perl/repoperls/installed-perls/host/k93msid/perl-5.8.3/89ad/lib/site_perl/5.8.3/x86_64-linux/Moose/Exporter.pm line 419
	MooseX::Orochi::bind_constructor("/orochi/test/MooseBased1", "args", HASH(0x55b94b7078b0)) called at t/lib/Orochi/Test/MooseBased1.pm line 5
	require Orochi/Test/MooseBased1.pm called at /home/sand/src/perl/repoperls/installed-perls/host/k93msid/perl-5.8.3/89ad/lib/site_perl/5.8.3/Module/Runtime.pm line 313
	Module::Runtime::require_module("Orochi::Test::MooseBased1") called at /home/sand/src/perl/repoperls/installed-perls/host/k93msid/perl-5.8.3/89ad/lib/site_perl/5.8.3/Class/Load.pm line 174
	Class::Load::try {...} () called at /home/sand/src/perl/repoperls/installed-perls/host/k93msid/perl-5.8.3/89ad/lib/site_perl/5.8.3/Try/Tiny.pm line 98
	eval {...} called at /home/sand/src/perl/repoperls/installed-perls/host/k93msid/perl-5.8.3/89ad/lib/site_perl/5.8.3/Try/Tiny.pm line 94
	Try::Tiny::try(CODE(0x55b94d055060), Try::Tiny::Catch=REF(0x55b94d0564a0)) called at /home/sand/src/perl/repoperls/installed-perls/host/k93msid/perl-5.8.3/89ad/lib/site_perl/5.8.3/Class/Load.pm line 180
	Class::Load::try_load_class("Orochi::Test::MooseBased1", undef) called at /home/sand/src/perl/repoperls/installed-perls/host/k93msid/perl-5.8.3/89ad/lib/site_perl/5.8.3/Class/Load.pm line 35
	Class::Load::load_class("Orochi::Test::MooseBased1") called at /tmp/loop_over_bdir-15241-TKyAqr/Orochi-0.00010-0/blib/lib/Orochi.pm line 213
	Orochi::inject_class(Orochi=HASH(0x55b94d03b540), "Orochi::Test::MooseBased1") called at t/300_moosex.t line 10
Class::MOP::is_class_loaded is deprecated at /home/sand/src/perl/repoperls/installed-perls/host/k93msid/perl-5.8.3/89ad/lib/site_perl/5.8.3/x86_64-linux/Class/MOP.pm line 87.
	Class::MOP::is_class_loaded("Orochi::Test::MooseBased1") called at /tmp/loop_over_bdir-15241-TKyAqr/Orochi-0.00010-0/blib/lib/Orochi/Injection/Constructor.pm line 58
	Orochi::Injection::Constructor::construct_object(Orochi::Injection::Constructor=HASH(0x55b94d082d30), Orochi=HASH(0x55b94d03b540), ARRAY(0x55b94c9fce90)) called at /tmp/loop_over_bdir-15241-TKyAqr/Orochi-0.00010-0/blib/lib/Orochi/Injection/Constructor.pm line 50
	Orochi::Injection::Constructor::expand(Orochi::Injection::Constructor=HASH(0x55b94d082d30), Orochi=HASH(0x55b94d03b540)) called at /tmp/loop_over_bdir-15241-TKyAqr/Orochi-0.00010-0/blib/lib/Orochi.pm line 88
	eval {...} called at /tmp/loop_over_bdir-15241-TKyAqr/Orochi-0.00010-0/blib/lib/Orochi.pm line 87
	Orochi::get(Orochi=HASH(0x55b94d03b540), "/orochi/test/MooseBased1") called at t/300_moosex.t line 12
t/300_moosex.t ........ ok
Class::MOP::is_class_loaded is deprecated at /home/sand/src/perl/repoperls/installed-perls/host/k93msid/perl-5.8.3/89ad/lib/site_perl/5.8.3/x86_64-linux/Class/MOP.pm line 87.
	Class::MOP::is_class_loaded("Orochi::Test::MooseBased3") called at /tmp/loop_over_bdir-15241-TKyAqr/Orochi-0.00010-0/blib/lib/Orochi.pm line 213
	Orochi::inject_class(Orochi=HASH(0x55e97d2491b0), "Orochi::Test::MooseBased3") called at t/900_cascade_bind.t line 19
Class::MOP::load_class is deprecated at /home/sand/src/perl/repoperls/installed-perls/host/k93msid/perl-5.8.3/89ad/lib/site_perl/5.8.3/x86_64-linux/Class/MOP.pm line 69.
	Class::MOP::load_class("Orochi::Test::MooseBased3") called at /tmp/loop_over_bdir-15241-TKyAqr/Orochi-0.00010-0/blib/lib/Orochi.pm line 213
	Orochi::inject_class(Orochi=HASH(0x55e97d2491b0), "Orochi::Test::MooseBased3") called at t/900_cascade_bind.t line 19
Class::MOP::is_class_loaded is deprecated at /home/sand/src/perl/repoperls/installed-perls/host/k93msid/perl-5.8.3/89ad/lib/site_perl/5.8.3/x86_64-linux/Class/MOP.pm line 87.
	Class::MOP::is_class_loaded("Orochi::Injection::Setter") called at /tmp/loop_over_bdir-15241-TKyAqr/Orochi-0.00010-0/blib/lib/MooseX/Orochi.pm line 42
	MooseX::Orochi::bind_constructor(Moose::Meta::Class::__ANON__::SERIAL::1=HASH(0x55e97d379370), "/orochi/test/MooseBased3", "injection_class", "Setter", "setter_params", HASH(0x55e97d24d380)) called at /home/sand/src/perl/repoperls/installed-perls/host/k93msid/perl-5.8.3/89ad/lib/site_perl/5.8.3/x86_64-linux/Moose/Exporter.pm line 419
	MooseX::Orochi::bind_constructor("/orochi/test/MooseBased3", "injection_class", "Setter", "setter_params", HASH(0x55e97d24d380)) called at t/lib/Orochi/Test/MooseBased3.pm line 5
	require Orochi/Test/MooseBased3.pm called at /home/sand/src/perl/repoperls/installed-perls/host/k93msid/perl-5.8.3/89ad/lib/site_perl/5.8.3/Module/Runtime.pm line 313
	Module::Runtime::require_module("Orochi::Test::MooseBased3") called at /home/sand/src/perl/repoperls/installed-perls/host/k93msid/perl-5.8.3/89ad/lib/site_perl/5.8.3/Class/Load.pm line 174
	Class::Load::try {...} () called at /home/sand/src/perl/repoperls/installed-perls/host/k93msid/perl-5.8.3/89ad/lib/site_perl/5.8.3/Try/Tiny.pm line 98
	eval {...} called at /home/sand/src/perl/repoperls/installed-perls/host/k93msid/perl-5.8.3/89ad/lib/site_perl/5.8.3/Try/Tiny.pm line 94
	Try::Tiny::try(CODE(0x55e97d1d8f00), Try::Tiny::Catch=REF(0x55e97d1dc460)) called at /home/sand/src/perl/repoperls/installed-perls/host/k93msid/perl-5.8.3/89ad/lib/site_perl/5.8.3/Class/Load.pm line 180
	Class::Load::try_load_class("Orochi::Test::MooseBased3", undef) called at /home/sand/src/perl/repoperls/installed-perls/host/k93msid/perl-5.8.3/89ad/lib/site_perl/5.8.3/Class/Load.pm line 35
	Class::Load::load_class("Orochi::Test::MooseBased3") called at /tmp/loop_over_bdir-15241-TKyAqr/Orochi-0.00010-0/blib/lib/Orochi.pm line 213
	Orochi::inject_class(Orochi=HASH(0x55e97d2491b0), "Orochi::Test::MooseBased3") called at t/900_cascade_bind.t line 19
Class::MOP::load_class is deprecated at /home/sand/src/perl/repoperls/installed-perls/host/k93msid/perl-5.8.3/89ad/lib/site_perl/5.8.3/x86_64-linux/Class/MOP.pm line 69.
	Class::MOP::load_class("Orochi::Injection::Setter") called at /tmp/loop_over_bdir-15241-TKyAqr/Orochi-0.00010-0/blib/lib/MooseX/Orochi.pm line 42
	MooseX::Orochi::bind_constructor(Moose::Meta::Class::__ANON__::SERIAL::1=HASH(0x55e97d379370), "/orochi/test/MooseBased3", "injection_class", "Setter", "setter_params", HASH(0x55e97d24d380)) called at /home/sand/src/perl/repoperls/installed-perls/host/k93msid/perl-5.8.3/89ad/lib/site_perl/5.8.3/x86_64-linux/Moose/Exporter.pm line 419
	MooseX::Orochi::bind_constructor("/orochi/test/MooseBased3", "injection_class", "Setter", "setter_params", HASH(0x55e97d24d380)) called at t/lib/Orochi/Test/MooseBased3.pm line 5
	require Orochi/Test/MooseBased3.pm called at /home/sand/src/perl/repoperls/installed-perls/host/k93msid/perl-5.8.3/89ad/lib/site_perl/5.8.3/Module/Runtime.pm line 313
	Module::Runtime::require_module("Orochi::Test::MooseBased3") called at /home/sand/src/perl/repoperls/installed-perls/host/k93msid/perl-5.8.3/89ad/lib/site_perl/5.8.3/Class/Load.pm line 174
	Class::Load::try {...} () called at /home/sand/src/perl/repoperls/installed-perls/host/k93msid/perl-5.8.3/89ad/lib/site_perl/5.8.3/Try/Tiny.pm line 98
	eval {...} called at /home/sand/src/perl/repoperls/installed-perls/host/k93msid/perl-5.8.3/89ad/lib/site_perl/5.8.3/Try/Tiny.pm line 94
	Try::Tiny::try(CODE(0x55e97d1d8f00), Try::Tiny::Catch=REF(0x55e97d1dc460)) called at /home/sand/src/perl/repoperls/installed-perls/host/k93msid/perl-5.8.3/89ad/lib/site_perl/5.8.3/Class/Load.pm line 180
	Class::Load::try_load_class("Orochi::Test::MooseBased3", undef) called at /home/sand/src/perl/repoperls/installed-perls/host/k93msid/perl-5.8.3/89ad/lib/site_perl/5.8.3/Class/Load.pm line 35
	Class::Load::load_class("Orochi::Test::MooseBased3") called at /tmp/loop_over_bdir-15241-TKyAqr/Orochi-0.00010-0/blib/lib/Orochi.pm line 213
	Orochi::inject_class(Orochi=HASH(0x55e97d2491b0), "Orochi::Test::MooseBased3") called at t/900_cascade_bind.t line 19
Class::MOP::is_class_loaded is deprecated at /home/sand/src/perl/repoperls/installed-perls/host/k93msid/perl-5.8.3/89ad/lib/site_perl/5.8.3/x86_64-linux/Class/MOP.pm line 87.
	Class::MOP::is_class_loaded("Orochi::Test::MooseBased3") called at /tmp/loop_over_bdir-15241-TKyAqr/Orochi-0.00010-0/blib/lib/Orochi/Injection/Constructor.pm line 58
	Orochi::Injection::Constructor::construct_object(Orochi::Injection::Setter=HASH(0x55e97c8557a0), Orochi=HASH(0x55e97d2491b0), ARRAY(0x55e97cb83180)) called at /tmp/loop_over_bdir-15241-TKyAqr/Orochi-0.00010-0/blib/lib/Orochi/Injection/Constructor.pm line 50
	Orochi::Injection::Constructor::expand(Orochi::Injection::Setter=HASH(0x55e97c8557a0), Orochi=HASH(0x55e97d2491b0)) called at /tmp/loop_over_bdir-15241-TKyAqr/Orochi-0.00010-0/blib/lib/Orochi.pm line 88
	eval {...} called at /tmp/loop_over_bdir-15241-TKyAqr/Orochi-0.00010-0/blib/lib/Orochi.pm line 87
	Orochi::get(Orochi=HASH(0x55e97d2491b0), "/orochi/test/MooseBased3") called at t/900_cascade_bind.t line 23
	main::__ANON__() called at /home/sand/src/perl/repoperls/installed-perls/host/k93msid/perl-5.8.3/89ad/lib/site_perl/5.8.3/Test/Exception.pm line 353
	eval {...} called at /home/sand/src/perl/repoperls/installed-perls/host/k93msid/perl-5.8.3/89ad/lib/site_perl/5.8.3/Test/Exception.pm line 353
	Test::Exception::lives_and(CODE(0x55e97bfc8c10)) called at t/900_cascade_bind.t line 26
t/900_cascade_bind.t .. ok
All tests successful.
Files=4, Tests=43,  4 wallclock secs ( 0.02 usr  0.02 sys +  1.66 cusr  0.20 csys =  1.90 CPU)
Result: PASS

------------------------------
PREREQUISITES
------------------------------

Prerequisite modules loaded:

requires:

    Module              Need    Have      
    ------------------- ------- ----------
    Data::Visitor       0       0.30      
    Module::Pluggable   0       5.2       
    Moose               0.93_01 2.2004    
    namespace::clean    0       0.27      
    Path::Router        0       0.15      
    Sub::Exporter       0       0.987     

build_requires:

    Module              Need    Have      
    ------------------- ------- ----------
    ExtUtils::MakeMaker 6.42    7.28      
    Test::MockObject    0       1.20161202
    Test::More          0.88    1.302091  
    UNIVERSAL::can      0       1.20140328
    UNIVERSAL::isa      0       1.20150614

configure_requires:

    Module              Need    Have      
    ------------------- ------- ----------
    ExtUtils::MakeMaker 6.42    7.28      


------------------------------
ENVIRONMENT AND OTHER CONTEXT
------------------------------

Environment variables:

    AUTOMATED_TESTING = 1
    LANG = en_US.UTF-8
    PATH = /home/sand/bin:/usr/local/bin:/usr/bin:/bin:/usr/games:/usr/local/perl/bin:/usr/X11/bin:/sbin:/usr/sbin
    PERL5LIB = 
    PERL5OPT = 
    PERL5_CPANPLUS_IS_RUNNING = 15251
    PERL5_CPAN_IS_RUNNING = 15251
    PERL_CANARY_STABILITY_NOPROMPT = 1
    PERL_MM_USE_DEFAULT = 1
    PERL_USE_UNSAFE_INC = 1
    SHELL = /usr/bin/zsh
    TERM = screen

Perl special variables (and OS-specific diagnostics, for MSWin32):

    $^X = /home/sand/src/perl/repoperls/installed-perls/host/k93msid/perl-5.8.3/89ad/bin/perl
    $UID/$EUID = 1005 / 1005
    $GID = 1005 1005
    $EGID = 1005 1005

Perl module toolchain versions installed:

    Module              Have    
    ------------------- --------
    CPAN                2.18    
    CPAN::Meta          2.150010
    Cwd                 3.62    
    ExtUtils::CBuilder  0.280226
    ExtUtils::Command   7.28    
    ExtUtils::Install   2.14    
    ExtUtils::MakeMaker 7.28    
    ExtUtils::Manifest  1.70    
    ExtUtils::ParseXS   3.35    
    File::Spec          3.62    
    JSON                2.94    
    JSON::PP            2.93    
    Module::Build       0.4224  
    Module::Signature   0.81    
    Parse::CPAN::Meta   1.4422  
    Test::Harness       3.39    
    Test::More          1.302091
    YAML                1.23    
    YAML::Syck          1.30    
    version             0.9917  


--

Summary of my perl5 (revision 5.0 version 8 subversion 3) configuration:
  Platform:
    osname=linux, osvers=4.9.0-2-amd64, archname=x86_64-linux
    uname='linux k93msid 4.9.0-2-amd64 #1 smp debian 4.9.18-1 (2017-03-30) x86_64 gnulinux '
    config_args='-Dprefix=/home/sand/src/perl/repoperls/installed-perls/host/k93msid/perl-5.8.3/89ad -Dmyhostname=k93msid -Dinstallusrbinperl=n -Uversiononly -Dusedevel -des -Ui_db -Dlibswanted=cl pthread socket inet nsl gdbm dbm malloc dl ld sun m crypt sec util c cposix posix ucb BSD gdbm_compat -Uuseithreads -Uuselongdouble -DDEBUGGING=-g'
    hint=recommended, useposix=true, d_sigaction=define
    usethreads=undef use5005threads=undef useithreads=undef usemultiplicity=undef
    useperlio=define d_sfio=undef uselargefiles=define usesocks=undef
    use64bitint=define use64bitall=define uselongdouble=undef
    usemymalloc=n, bincompat5005=undef
  Compiler:
    cc='cc', ccflags ='-fno-strict-aliasing -I/usr/local/include -D_LARGEFILE_SOURCE -D_FILE_OFFSET_BITS=64',
    optimize='-O2',
    cppflags='-fno-strict-aliasing -I/usr/local/include'
    ccversion='', gccversion='6.3.0 20170406', gccosandvers=''
    intsize=4, longsize=8, ptrsize=8, doublesize=8, byteorder=12345678
    d_longlong=define, longlongsize=8, d_longdbl=define, longdblsize=16
    ivtype='long', ivsize=8, nvtype='double', nvsize=8, Off_t='off_t', lseeksize=8
    alignbytes=8, prototype=define
  Linker and Libraries:
    ld='cc', ldflags =' -L/usr/local/lib'
    libpth=/usr/local/lib /lib/x86_64-linux-gnu /lib/../lib /usr/lib/x86_64-linux-gnu /usr/lib/../lib /lib /usr/lib
    libs=-lpthread -lnsl -ldl -lm -lcrypt -lutil -lc
    perllibs=-lpthread -lnsl -ldl -lm -lcrypt -lutil -lc
    libc=libc-2.24.so, so=so, useshrplib=false, libperl=libperl.a
    gnulibc_version='2.24'
  Dynamic Linking:
    dlsrc=dl_dlopen.xs, dlext=so, d_dlsymun=undef, ccdlflags='-rdynamic'
    cccdlflags='-fpic', lddlflags='-shared -L/usr/local/lib'


Characteristics of this binary (from libperl): 
  Compile-time options: USE_64_BIT_INT USE_64_BIT_ALL USE_LARGE_FILES
  Built under linux
  Compiled at Apr 17 2017 11:16:01
  %ENV:
    PERL5LIB=""
    PERL5OPT=""
    PERL5_CPANPLUS_IS_RUNNING="15251"
    PERL5_CPAN_IS_RUNNING="15251"
    PERL_CANARY_STABILITY_NOPROMPT="1"
    PERL_MM_USE_DEFAULT="1"
    PERL_USE_UNSAFE_INC="1"
  @INC:
    /home/sand/src/perl/repoperls/installed-perls/host/k93msid/perl-5.8.3/89ad/lib/5.8.3/x86_64-linux
    /home/sand/src/perl/repoperls/installed-perls/host/k93msid/perl-5.8.3/89ad/lib/5.8.3
    /home/sand/src/perl/repoperls/installed-perls/host/k93msid/perl-5.8.3/89ad/lib/site_perl/5.8.3/x86_64-linux
    /home/sand/src/perl/repoperls/installed-perls/host/k93msid/perl-5.8.3/89ad/lib/site_perl/5.8.3
    /home/sand/src/perl/repoperls/installed-perls/host/k93msid/perl-5.8.3/89ad/lib/site_perl
    .