RSH-Logging v0.4.3 Perl 5 v5.39.8 x86_64-linux

Status
Pass
From
Andreas J. König (ANDK)
Dist
RSH-Logging v0.4.3
Platform
Perl 5 v5.39.8 x86_64-linux
Date
2024-03-03 04:06:24
ID
66eafdba-d913-11ee-ae6d-12b7820d17bb
This distribution has been tested as part of the CPAN Testers
project, supporting the Perl programming language.  See
http://wiki.cpantesters.org/ for more information or email
questions to cpan-testers-discuss@perl.org


--
Dear Matt Luker,

This is a computer-generated report for RSH-Logging-0.4.3
on perl 5.39.8, created by CPAN-Reporter-1.2019.

Thank you for uploading your work to CPAN.  Congratulations!
All tests were successful.

Sections of this report:

    * Tester comments
    * Program output
    * Prerequisites
    * Environment and other context

------------------------------
TESTER COMMENTS
------------------------------

Additional comments from tester:

this report is from an automated smoke testing program
and was not reviewed by a human for accuracy

------------------------------
PROGRAM OUTPUT
------------------------------

Output from '/usr/bin/make test':

PERL_DL_NONLAZY=1 "/tmp/basesmoker-reloperl-57lK/bin/perl" "-MExtUtils::Command::MM" "-MTest::Harness" "-e" "undef *Test::Harness::Switches; test_harness(0, 'inc', 'blib/lib', 'blib/arch')" t/000.load.t t/010.RSH-Logging.t t/011.RSH-Logging-chunking.t t/999.perlcritic.t t/999.pod-coverage.t t/999.pod.t
# Testing RSH::Logging 0.4.3
t/000.load.t .................. ok
TOTAL TIME 6.7e-05s (14925.373/s)
.----------------------------------------------------------------+-----------.
| Event                                                          | Time      |
+----------------------------------------------------------------+-----------+
| + foo                                                          | 0.000067s |
'----------------------------------------------------------------+-----------'

TOTAL TIME 0.000504s (1984.127/s)
.----------------------------------------------------------------+-----------.
| Event                                                          | Time      |
+----------------------------------------------------------------+-----------+
| + foo                                                          | 0.000504s |
|   + sub1a                                                      | 0.000356s |
|     + sub2a                                                    | 0.000073s |
|     + sub2b                                                    | 0.000071s |
'----------------------------------------------------------------+-----------'

TOTAL TIME 0.000489s (2044.990/s)
.----------------------------------------------------------------+-----------.
| Event                                                          | Time      |
+----------------------------------------------------------------+-----------+
| + main                                                         | 0.000489s |
|   + main                                                       | 0.000350s |
|     + main                                                     | 0.000067s |
|     + main                                                     | 0.000068s |
'----------------------------------------------------------------+-----------'

DEBUG Logging.pm:407, RSH::Logging::__ANON__: TOTAL TIME 0.000488s (2049.180/s)
.----------------------------------------------------------------+-----------.
| Event                                                          | Time      |
+----------------------------------------------------------------+-----------+
| + foo                                                          | 0.000488s |
|   + sub1a                                                      | 0.000344s |
|     + sub2a                                                    | 0.000071s |
|     + sub2b                                                    | 0.000067s |
'----------------------------------------------------------------+-----------'

TOTAL TIME 0.000459s (2178.649/s)
.----------------------------------------------------------------+-----------.
| Event                                                          | Time      |
+----------------------------------------------------------------+-----------+
| + foo                                                          | 0.000459s |
|   + sub1a                                                      | 0.000324s |
|     + sub2a                                                    | 0.000066s |
|     + sub2b                                                    | 0.000063s |
'----------------------------------------------------------------+-----------'

TOTAL TIME 0.0005s (2000.000/s)
.----------------------------------------------------------------+-----------.
| Event                                                          | Time      |
+----------------------------------------------------------------+-----------+
| + foo                                                          | 0.000500s |
|   + sub1a (notation 1)                                         | 0.000353s |
|     + sub2a (notation 2)                                       | 0.000071s |
|     + sub2b (this is a very long note, which you shouldn't do- | 0.000072s |
| , but it can't be helped that people don't think things throu- |           |
| gh from time to time.)                                         |           |
'----------------------------------------------------------------+-----------'

TOTAL TIME 0.000509s (1964.637/s)
.----------------------------------------------------------------+-----------.
| Event                                                          | Time      |
+----------------------------------------------------------------+-----------+
| + foo                                                          | 0.000509s |
|   + sub1a                                                      | 0.000352s |
|     + sub2a                                                    | 0.000072s |
|     + sub2b                                                    | 0.000068s |
'----------------------------------------------------------------+-----------'

TOTAL TIME 0.000482s (2074.689/s)
.----------------------------------------------------------------+-----------.
| Event                                                          | Time      |
+----------------------------------------------------------------+-----------+
| + foo2                                                         | 0.000482s |
|   + sub1a                                                      | 0.000346s |
|     + sub2a                                                    | 0.000070s |
|     + sub2b                                                    | 0.000065s |
'----------------------------------------------------------------+-----------'

TOTAL TIME 0.001051s (951.475/s)
.----------------------------------------------------------------+-----------.
| Event                                                          | Time      |
+----------------------------------------------------------------+-----------+
| + foo                                                          | 0.001051s |
|   + sub1a                                                      | 0.000907s |
|     + sub2a                                                    | 0.000067s |
|     + sub2b                                                    | 0.000638s |
|       + foo2                                                   | 0.000478s |
|         + sub1a                                                | 0.000333s |
|           + sub2a                                              | 0.000068s |
|           + sub2b                                              | 0.000068s |
'----------------------------------------------------------------+-----------'

TOTAL TIME 0.000369s (2710.027/s)
.----------------------------------------------------------------+-----------.
| Event                                                          | Time      |
+----------------------------------------------------------------+-----------+
| + foo                                                          | 0.000369s |
|   + sub1a                                                      | 0.000286s |
|     + sub2a                                                    | 0.000070s |
|     + sub2b                                                    | 0.000075s |
'----------------------------------------------------------------+-----------'

t/010.RSH-Logging.t ........... ok
DEBUG Logging.pm:407, RSH::Logging::__ANON__: TOTAL TIME 0.000551s (1814.882/s)
Use of uninitialized value in repeat (x) at /tmp/loop_over_bdir-2354-ukUQqH/RSH-Logging-0.4.3-0/blib/lib/RSH/Logging/TextTable.pm line 166.
Use of uninitialized value $Text::SimpleTable::TOP_LEFT in concatenation (.) or string at /tmp/loop_over_bdir-2354-ukUQqH/RSH-Logging-0.4.3-0/blib/lib/RSH/Logging/TextTable.pm line 171.
Use of uninitialized value $Text::SimpleTable::TOP_SEPARATOR in concatenation (.) or string at /tmp/loop_over_bdir-2354-ukUQqH/RSH-Logging-0.4.3-0/blib/lib/RSH/Logging/TextTable.pm line 171.
Use of uninitialized value in repeat (x) at /tmp/loop_over_bdir-2354-ukUQqH/RSH-Logging-0.4.3-0/blib/lib/RSH/Logging/TextTable.pm line 166.
Use of uninitialized value $Text::SimpleTable::TOP_RIGHT in concatenation (.) or string at /tmp/loop_over_bdir-2354-ukUQqH/RSH-Logging-0.4.3-0/blib/lib/RSH/Logging/TextTable.pm line 172.
DEBUG Logging.pm:407, RSH::Logging::__ANON__: 
Use of uninitialized value $Text::SimpleTable::LEFT_BORDER in concatenation (.) or string at /tmp/loop_over_bdir-2354-ukUQqH/RSH-Logging-0.4.3-0/blib/lib/RSH/Logging/TextTable.pm line 201.
Use of uninitialized value $Text::SimpleTable::SEPARATOR in concatenation (.) or string at /tmp/loop_over_bdir-2354-ukUQqH/RSH-Logging-0.4.3-0/blib/lib/RSH/Logging/TextTable.pm line 201.
Use of uninitialized value $Text::SimpleTable::RIGHT_BORDER in concatenation (.) or string at /tmp/loop_over_bdir-2354-ukUQqH/RSH-Logging-0.4.3-0/blib/lib/RSH/Logging/TextTable.pm line 202.
DEBUG Logging.pm:407, RSH::Logging::__ANON__: Event                                                         Time     
DEBUG Logging.pm:407, RSH::Logging::__ANON__: +----------------------------------------------------------------+-----------+
Use of uninitialized value $Text::SimpleTable::LEFT_BORDER in concatenation (.) or string at /tmp/loop_over_bdir-2354-ukUQqH/RSH-Logging-0.4.3-0/blib/lib/RSH/Logging/TextTable.pm line 240.
Use of uninitialized value $Text::SimpleTable::SEPARATOR in concatenation (.) or string at /tmp/loop_over_bdir-2354-ukUQqH/RSH-Logging-0.4.3-0/blib/lib/RSH/Logging/TextTable.pm line 240.
Use of uninitialized value $Text::SimpleTable::RIGHT_BORDER in concatenation (.) or string at /tmp/loop_over_bdir-2354-ukUQqH/RSH-Logging-0.4.3-0/blib/lib/RSH/Logging/TextTable.pm line 241.
DEBUG Logging.pm:407, RSH::Logging::__ANON__: + foo                                                         0.000551s
Use of uninitialized value $Text::SimpleTable::LEFT_BORDER in concatenation (.) or string at /tmp/loop_over_bdir-2354-ukUQqH/RSH-Logging-0.4.3-0/blib/lib/RSH/Logging/TextTable.pm line 240.
Use of uninitialized value $Text::SimpleTable::SEPARATOR in concatenation (.) or string at /tmp/loop_over_bdir-2354-ukUQqH/RSH-Logging-0.4.3-0/blib/lib/RSH/Logging/TextTable.pm line 240.
Use of uninitialized value $Text::SimpleTable::RIGHT_BORDER in concatenation (.) or string at /tmp/loop_over_bdir-2354-ukUQqH/RSH-Logging-0.4.3-0/blib/lib/RSH/Logging/TextTable.pm line 241.
DEBUG Logging.pm:407, RSH::Logging::__ANON__:   + sub1a                                                     0.000331s
Use of uninitialized value $Text::SimpleTable::LEFT_BORDER in concatenation (.) or string at /tmp/loop_over_bdir-2354-ukUQqH/RSH-Logging-0.4.3-0/blib/lib/RSH/Logging/TextTable.pm line 240.
Use of uninitialized value $Text::SimpleTable::SEPARATOR in concatenation (.) or string at /tmp/loop_over_bdir-2354-ukUQqH/RSH-Logging-0.4.3-0/blib/lib/RSH/Logging/TextTable.pm line 240.
Use of uninitialized value $Text::SimpleTable::RIGHT_BORDER in concatenation (.) or string at /tmp/loop_over_bdir-2354-ukUQqH/RSH-Logging-0.4.3-0/blib/lib/RSH/Logging/TextTable.pm line 241.
DEBUG Logging.pm:407, RSH::Logging::__ANON__:     + sub2a                                                   0.000068s
Use of uninitialized value $Text::SimpleTable::LEFT_BORDER in concatenation (.) or string at /tmp/loop_over_bdir-2354-ukUQqH/RSH-Logging-0.4.3-0/blib/lib/RSH/Logging/TextTable.pm line 240.
Use of uninitialized value $Text::SimpleTable::SEPARATOR in concatenation (.) or string at /tmp/loop_over_bdir-2354-ukUQqH/RSH-Logging-0.4.3-0/blib/lib/RSH/Logging/TextTable.pm line 240.
Use of uninitialized value $Text::SimpleTable::RIGHT_BORDER in concatenation (.) or string at /tmp/loop_over_bdir-2354-ukUQqH/RSH-Logging-0.4.3-0/blib/lib/RSH/Logging/TextTable.pm line 241.
DEBUG Logging.pm:407, RSH::Logging::__ANON__:     + sub2b                                                   0.000061s
Use of uninitialized value in repeat (x) at /tmp/loop_over_bdir-2354-ukUQqH/RSH-Logging-0.4.3-0/blib/lib/RSH/Logging/TextTable.pm line 256.
Use of uninitialized value $Text::SimpleTable::BOTTOM_LEFT in concatenation (.) or string at /tmp/loop_over_bdir-2354-ukUQqH/RSH-Logging-0.4.3-0/blib/lib/RSH/Logging/TextTable.pm line 261.
Use of uninitialized value $Text::SimpleTable::BOTTOM_SEPARATOR in concatenation (.) or string at /tmp/loop_over_bdir-2354-ukUQqH/RSH-Logging-0.4.3-0/blib/lib/RSH/Logging/TextTable.pm line 261.
Use of uninitialized value in repeat (x) at /tmp/loop_over_bdir-2354-ukUQqH/RSH-Logging-0.4.3-0/blib/lib/RSH/Logging/TextTable.pm line 256.
Use of uninitialized value $Text::SimpleTable::BOTTOM_RIGHT in concatenation (.) or string at /tmp/loop_over_bdir-2354-ukUQqH/RSH-Logging-0.4.3-0/blib/lib/RSH/Logging/TextTable.pm line 262.
DEBUG Logging.pm:407, RSH::Logging::__ANON__: 
DEBUG Logging.pm:407, RSH::Logging::__ANON__: 
Use of uninitialized value in repeat (x) at /tmp/loop_over_bdir-2354-ukUQqH/RSH-Logging-0.4.3-0/blib/lib/RSH/Logging/TextTable.pm line 166.
Use of uninitialized value $Text::SimpleTable::TOP_LEFT in concatenation (.) or string at /tmp/loop_over_bdir-2354-ukUQqH/RSH-Logging-0.4.3-0/blib/lib/RSH/Logging/TextTable.pm line 171.
Use of uninitialized value $Text::SimpleTable::TOP_SEPARATOR in concatenation (.) or string at /tmp/loop_over_bdir-2354-ukUQqH/RSH-Logging-0.4.3-0/blib/lib/RSH/Logging/TextTable.pm line 171.
Use of uninitialized value in repeat (x) at /tmp/loop_over_bdir-2354-ukUQqH/RSH-Logging-0.4.3-0/blib/lib/RSH/Logging/TextTable.pm line 166.
Use of uninitialized value $Text::SimpleTable::TOP_RIGHT in concatenation (.) or string at /tmp/loop_over_bdir-2354-ukUQqH/RSH-Logging-0.4.3-0/blib/lib/RSH/Logging/TextTable.pm line 172.
Use of uninitialized value $Text::SimpleTable::LEFT_BORDER in concatenation (.) or string at /tmp/loop_over_bdir-2354-ukUQqH/RSH-Logging-0.4.3-0/blib/lib/RSH/Logging/TextTable.pm line 201.
Use of uninitialized value $Text::SimpleTable::SEPARATOR in concatenation (.) or string at /tmp/loop_over_bdir-2354-ukUQqH/RSH-Logging-0.4.3-0/blib/lib/RSH/Logging/TextTable.pm line 201.
Use of uninitialized value $Text::SimpleTable::RIGHT_BORDER in concatenation (.) or string at /tmp/loop_over_bdir-2354-ukUQqH/RSH-Logging-0.4.3-0/blib/lib/RSH/Logging/TextTable.pm line 202.
Use of uninitialized value $Text::SimpleTable::LEFT_BORDER in concatenation (.) or string at /tmp/loop_over_bdir-2354-ukUQqH/RSH-Logging-0.4.3-0/blib/lib/RSH/Logging/TextTable.pm line 240.
Use of uninitialized value $Text::SimpleTable::SEPARATOR in concatenation (.) or string at /tmp/loop_over_bdir-2354-ukUQqH/RSH-Logging-0.4.3-0/blib/lib/RSH/Logging/TextTable.pm line 240.
Use of uninitialized value $Text::SimpleTable::RIGHT_BORDER in concatenation (.) or string at /tmp/loop_over_bdir-2354-ukUQqH/RSH-Logging-0.4.3-0/blib/lib/RSH/Logging/TextTable.pm line 241.
Use of uninitialized value $Text::SimpleTable::LEFT_BORDER in concatenation (.) or string at /tmp/loop_over_bdir-2354-ukUQqH/RSH-Logging-0.4.3-0/blib/lib/RSH/Logging/TextTable.pm line 240.
Use of uninitialized value $Text::SimpleTable::SEPARATOR in concatenation (.) or string at /tmp/loop_over_bdir-2354-ukUQqH/RSH-Logging-0.4.3-0/blib/lib/RSH/Logging/TextTable.pm line 240.
Use of uninitialized value $Text::SimpleTable::RIGHT_BORDER in concatenation (.) or string at /tmp/loop_over_bdir-2354-ukUQqH/RSH-Logging-0.4.3-0/blib/lib/RSH/Logging/TextTable.pm line 241.
Use of uninitialized value $Text::SimpleTable::LEFT_BORDER in concatenation (.) or string at /tmp/loop_over_bdir-2354-ukUQqH/RSH-Logging-0.4.3-0/blib/lib/RSH/Logging/TextTable.pm line 240.
Use of uninitialized value $Text::SimpleTable::SEPARATOR in concatenation (.) or string at /tmp/loop_over_bdir-2354-ukUQqH/RSH-Logging-0.4.3-0/blib/lib/RSH/Logging/TextTable.pm line 240.
Use of uninitialized value $Text::SimpleTable::RIGHT_BORDER in concatenation (.) or string at /tmp/loop_over_bdir-2354-ukUQqH/RSH-Logging-0.4.3-0/blib/lib/RSH/Logging/TextTable.pm line 241.
Use of uninitialized value $Text::SimpleTable::LEFT_BORDER in concatenation (.) or string at /tmp/loop_over_bdir-2354-ukUQqH/RSH-Logging-0.4.3-0/blib/lib/RSH/Logging/TextTable.pm line 240.
Use of uninitialized value $Text::SimpleTable::SEPARATOR in concatenation (.) or string at /tmp/loop_over_bdir-2354-ukUQqH/RSH-Logging-0.4.3-0/blib/lib/RSH/Logging/TextTable.pm line 240.
Use of uninitialized value $Text::SimpleTable::RIGHT_BORDER in concatenation (.) or string at /tmp/loop_over_bdir-2354-ukUQqH/RSH-Logging-0.4.3-0/blib/lib/RSH/Logging/TextTable.pm line 241.
Use of uninitialized value in repeat (x) at /tmp/loop_over_bdir-2354-ukUQqH/RSH-Logging-0.4.3-0/blib/lib/RSH/Logging/TextTable.pm line 256.
Use of uninitialized value $Text::SimpleTable::BOTTOM_LEFT in concatenation (.) or string at /tmp/loop_over_bdir-2354-ukUQqH/RSH-Logging-0.4.3-0/blib/lib/RSH/Logging/TextTable.pm line 261.
Use of uninitialized value $Text::SimpleTable::BOTTOM_SEPARATOR in concatenation (.) or string at /tmp/loop_over_bdir-2354-ukUQqH/RSH-Logging-0.4.3-0/blib/lib/RSH/Logging/TextTable.pm line 261.
Use of uninitialized value in repeat (x) at /tmp/loop_over_bdir-2354-ukUQqH/RSH-Logging-0.4.3-0/blib/lib/RSH/Logging/TextTable.pm line 256.
Use of uninitialized value $Text::SimpleTable::BOTTOM_RIGHT in concatenation (.) or string at /tmp/loop_over_bdir-2354-ukUQqH/RSH-Logging-0.4.3-0/blib/lib/RSH/Logging/TextTable.pm line 262.
Use of uninitialized value in repeat (x) at /tmp/loop_over_bdir-2354-ukUQqH/RSH-Logging-0.4.3-0/blib/lib/RSH/Logging/TextTable.pm line 166.
Use of uninitialized value $Text::SimpleTable::TOP_LEFT in concatenation (.) or string at /tmp/loop_over_bdir-2354-ukUQqH/RSH-Logging-0.4.3-0/blib/lib/RSH/Logging/TextTable.pm line 171.
Use of uninitialized value $Text::SimpleTable::TOP_SEPARATOR in concatenation (.) or string at /tmp/loop_over_bdir-2354-ukUQqH/RSH-Logging-0.4.3-0/blib/lib/RSH/Logging/TextTable.pm line 171.
Use of uninitialized value in repeat (x) at /tmp/loop_over_bdir-2354-ukUQqH/RSH-Logging-0.4.3-0/blib/lib/RSH/Logging/TextTable.pm line 166.
Use of uninitialized value $Text::SimpleTable::TOP_RIGHT in concatenation (.) or string at /tmp/loop_over_bdir-2354-ukUQqH/RSH-Logging-0.4.3-0/blib/lib/RSH/Logging/TextTable.pm line 172.
Use of uninitialized value $Text::SimpleTable::LEFT_BORDER in concatenation (.) or string at /tmp/loop_over_bdir-2354-ukUQqH/RSH-Logging-0.4.3-0/blib/lib/RSH/Logging/TextTable.pm line 201.
Use of uninitialized value $Text::SimpleTable::SEPARATOR in concatenation (.) or string at /tmp/loop_over_bdir-2354-ukUQqH/RSH-Logging-0.4.3-0/blib/lib/RSH/Logging/TextTable.pm line 201.
Use of uninitialized value $Text::SimpleTable::RIGHT_BORDER in concatenation (.) or string at /tmp/loop_over_bdir-2354-ukUQqH/RSH-Logging-0.4.3-0/blib/lib/RSH/Logging/TextTable.pm line 202.
Use of uninitialized value $Text::SimpleTable::LEFT_BORDER in concatenation (.) or string at /tmp/loop_over_bdir-2354-ukUQqH/RSH-Logging-0.4.3-0/blib/lib/RSH/Logging/TextTable.pm line 240.
Use of uninitialized value $Text::SimpleTable::SEPARATOR in concatenation (.) or string at /tmp/loop_over_bdir-2354-ukUQqH/RSH-Logging-0.4.3-0/blib/lib/RSH/Logging/TextTable.pm line 240.
Use of uninitialized value $Text::SimpleTable::RIGHT_BORDER in concatenation (.) or string at /tmp/loop_over_bdir-2354-ukUQqH/RSH-Logging-0.4.3-0/blib/lib/RSH/Logging/TextTable.pm line 241.
Use of uninitialized value $Text::SimpleTable::LEFT_BORDER in concatenation (.) or string at /tmp/loop_over_bdir-2354-ukUQqH/RSH-Logging-0.4.3-0/blib/lib/RSH/Logging/TextTable.pm line 240.
Use of uninitialized value $Text::SimpleTable::SEPARATOR in concatenation (.) or string at /tmp/loop_over_bdir-2354-ukUQqH/RSH-Logging-0.4.3-0/blib/lib/RSH/Logging/TextTable.pm line 240.
Use of uninitialized value $Text::SimpleTable::RIGHT_BORDER in concatenation (.) or string at /tmp/loop_over_bdir-2354-ukUQqH/RSH-Logging-0.4.3-0/blib/lib/RSH/Logging/TextTable.pm line 241.
Use of uninitialized value $Text::SimpleTable::LEFT_BORDER in concatenation (.) or string at /tmp/loop_over_bdir-2354-ukUQqH/RSH-Logging-0.4.3-0/blib/lib/RSH/Logging/TextTable.pm line 240.
Use of uninitialized value $Text::SimpleTable::SEPARATOR in concatenation (.) or string at /tmp/loop_over_bdir-2354-ukUQqH/RSH-Logging-0.4.3-0/blib/lib/RSH/Logging/TextTable.pm line 240.
Use of uninitialized value $Text::SimpleTable::RIGHT_BORDER in concatenation (.) or string at /tmp/loop_over_bdir-2354-ukUQqH/RSH-Logging-0.4.3-0/blib/lib/RSH/Logging/TextTable.pm line 241.
Use of uninitialized value $Text::SimpleTable::LEFT_BORDER in concatenation (.) or string at /tmp/loop_over_bdir-2354-ukUQqH/RSH-Logging-0.4.3-0/blib/lib/RSH/Logging/TextTable.pm line 240.
Use of uninitialized value $Text::SimpleTable::SEPARATOR in concatenation (.) or string at /tmp/loop_over_bdir-2354-ukUQqH/RSH-Logging-0.4.3-0/blib/lib/RSH/Logging/TextTable.pm line 240.
Use of uninitialized value $Text::SimpleTable::RIGHT_BORDER in concatenation (.) or string at /tmp/loop_over_bdir-2354-ukUQqH/RSH-Logging-0.4.3-0/blib/lib/RSH/Logging/TextTable.pm line 241.
Use of uninitialized value in repeat (x) at /tmp/loop_over_bdir-2354-ukUQqH/RSH-Logging-0.4.3-0/blib/lib/RSH/Logging/TextTable.pm line 256.
Use of uninitialized value $Text::SimpleTable::BOTTOM_LEFT in concatenation (.) or string at /tmp/loop_over_bdir-2354-ukUQqH/RSH-Logging-0.4.3-0/blib/lib/RSH/Logging/TextTable.pm line 261.
Use of uninitialized value $Text::SimpleTable::BOTTOM_SEPARATOR in concatenation (.) or string at /tmp/loop_over_bdir-2354-ukUQqH/RSH-Logging-0.4.3-0/blib/lib/RSH/Logging/TextTable.pm line 261.
Use of uninitialized value in repeat (x) at /tmp/loop_over_bdir-2354-ukUQqH/RSH-Logging-0.4.3-0/blib/lib/RSH/Logging/TextTable.pm line 256.
Use of uninitialized value $Text::SimpleTable::BOTTOM_RIGHT in concatenation (.) or string at /tmp/loop_over_bdir-2354-ukUQqH/RSH-Logging-0.4.3-0/blib/lib/RSH/Logging/TextTable.pm line 262.
TOTAL TIME 0.000477s (2096.436/s)

Event                                                         Time     
+----------------------------------------------------------------+-----------+
+ foo                                                         0.000477s
  + sub1a                                                     0.000334s
    + sub2a                                                   0.000068s
    + sub2b                                                   0.000064s


DEBUG Logging.pm:407, RSH::Logging::__ANON__: TOTAL TIME 0.000623s (1605.136/s)
.----------------------------------------------------------------+-----------.
| Event                                                          | Time      |
+----------------------------------------------------------------+-----------+
| + foo                                                          | 0.000623s |
|   + sub1a                                                      | 0.000381s |
|     + sub2a                                                    | 0.000074s |
|     + sub2b                                                    | 0.000068s |
|   + sub0                                                       | 0.000004s |
|   + sub1                                                       | 0.000002s |
|   + sub2                                                       | 0.000002s |
|   + sub3                                                       | 0.000002s |
|   + sub4                                                       | 0.000002s |
'----------------------------------------------------------------+-----------'

DEBUG Logging.pm:407, RSH::Logging::__ANON__: TOTAL TIME 0.000728s (1373.626/s)
Use of uninitialized value in repeat (x) at /tmp/loop_over_bdir-2354-ukUQqH/RSH-Logging-0.4.3-0/blib/lib/RSH/Logging/TextTable.pm line 166.
Use of uninitialized value $Text::SimpleTable::TOP_LEFT in concatenation (.) or string at /tmp/loop_over_bdir-2354-ukUQqH/RSH-Logging-0.4.3-0/blib/lib/RSH/Logging/TextTable.pm line 171.
Use of uninitialized value $Text::SimpleTable::TOP_SEPARATOR in concatenation (.) or string at /tmp/loop_over_bdir-2354-ukUQqH/RSH-Logging-0.4.3-0/blib/lib/RSH/Logging/TextTable.pm line 171.
Use of uninitialized value in repeat (x) at /tmp/loop_over_bdir-2354-ukUQqH/RSH-Logging-0.4.3-0/blib/lib/RSH/Logging/TextTable.pm line 166.
Use of uninitialized value $Text::SimpleTable::TOP_RIGHT in concatenation (.) or string at /tmp/loop_over_bdir-2354-ukUQqH/RSH-Logging-0.4.3-0/blib/lib/RSH/Logging/TextTable.pm line 172.
DEBUG Logging.pm:407, RSH::Logging::__ANON__: 
Use of uninitialized value $Text::SimpleTable::LEFT_BORDER in concatenation (.) or string at /tmp/loop_over_bdir-2354-ukUQqH/RSH-Logging-0.4.3-0/blib/lib/RSH/Logging/TextTable.pm line 201.
Use of uninitialized value $Text::SimpleTable::SEPARATOR in concatenation (.) or string at /tmp/loop_over_bdir-2354-ukUQqH/RSH-Logging-0.4.3-0/blib/lib/RSH/Logging/TextTable.pm line 201.
Use of uninitialized value $Text::SimpleTable::RIGHT_BORDER in concatenation (.) or string at /tmp/loop_over_bdir-2354-ukUQqH/RSH-Logging-0.4.3-0/blib/lib/RSH/Logging/TextTable.pm line 202.
DEBUG Logging.pm:407, RSH::Logging::__ANON__: Event                                                         Time     
DEBUG Logging.pm:407, RSH::Logging::__ANON__: +----------------------------------------------------------------+-----------+
Use of uninitialized value $Text::SimpleTable::LEFT_BORDER in concatenation (.) or string at /tmp/loop_over_bdir-2354-ukUQqH/RSH-Logging-0.4.3-0/blib/lib/RSH/Logging/TextTable.pm line 240.
Use of uninitialized value $Text::SimpleTable::SEPARATOR in concatenation (.) or string at /tmp/loop_over_bdir-2354-ukUQqH/RSH-Logging-0.4.3-0/blib/lib/RSH/Logging/TextTable.pm line 240.
Use of uninitialized value $Text::SimpleTable::RIGHT_BORDER in concatenation (.) or string at /tmp/loop_over_bdir-2354-ukUQqH/RSH-Logging-0.4.3-0/blib/lib/RSH/Logging/TextTable.pm line 241.
DEBUG Logging.pm:407, RSH::Logging::__ANON__: + foo                                                         0.000728s
Use of uninitialized value $Text::SimpleTable::LEFT_BORDER in concatenation (.) or string at /tmp/loop_over_bdir-2354-ukUQqH/RSH-Logging-0.4.3-0/blib/lib/RSH/Logging/TextTable.pm line 240.
Use of uninitialized value $Text::SimpleTable::SEPARATOR in concatenation (.) or string at /tmp/loop_over_bdir-2354-ukUQqH/RSH-Logging-0.4.3-0/blib/lib/RSH/Logging/TextTable.pm line 240.
Use of uninitialized value $Text::SimpleTable::RIGHT_BORDER in concatenation (.) or string at /tmp/loop_over_bdir-2354-ukUQqH/RSH-Logging-0.4.3-0/blib/lib/RSH/Logging/TextTable.pm line 241.
DEBUG Logging.pm:407, RSH::Logging::__ANON__:   + sub1a                                                     0.000376s
Use of uninitialized value $Text::SimpleTable::LEFT_BORDER in concatenation (.) or string at /tmp/loop_over_bdir-2354-ukUQqH/RSH-Logging-0.4.3-0/blib/lib/RSH/Logging/TextTable.pm line 240.
Use of uninitialized value $Text::SimpleTable::SEPARATOR in concatenation (.) or string at /tmp/loop_over_bdir-2354-ukUQqH/RSH-Logging-0.4.3-0/blib/lib/RSH/Logging/TextTable.pm line 240.
Use of uninitialized value $Text::SimpleTable::RIGHT_BORDER in concatenation (.) or string at /tmp/loop_over_bdir-2354-ukUQqH/RSH-Logging-0.4.3-0/blib/lib/RSH/Logging/TextTable.pm line 241.
DEBUG Logging.pm:407, RSH::Logging::__ANON__:     + sub2a                                                   0.000081s
Use of uninitialized value $Text::SimpleTable::LEFT_BORDER in concatenation (.) or string at /tmp/loop_over_bdir-2354-ukUQqH/RSH-Logging-0.4.3-0/blib/lib/RSH/Logging/TextTable.pm line 240.
Use of uninitialized value $Text::SimpleTable::SEPARATOR in concatenation (.) or string at /tmp/loop_over_bdir-2354-ukUQqH/RSH-Logging-0.4.3-0/blib/lib/RSH/Logging/TextTable.pm line 240.
Use of uninitialized value $Text::SimpleTable::RIGHT_BORDER in concatenation (.) or string at /tmp/loop_over_bdir-2354-ukUQqH/RSH-Logging-0.4.3-0/blib/lib/RSH/Logging/TextTable.pm line 241.
DEBUG Logging.pm:407, RSH::Logging::__ANON__:     + sub2b                                                   0.000072s
Use of uninitialized value $Text::SimpleTable::LEFT_BORDER in concatenation (.) or string at /tmp/loop_over_bdir-2354-ukUQqH/RSH-Logging-0.4.3-0/blib/lib/RSH/Logging/TextTable.pm line 240.
Use of uninitialized value $Text::SimpleTable::SEPARATOR in concatenation (.) or string at /tmp/loop_over_bdir-2354-ukUQqH/RSH-Logging-0.4.3-0/blib/lib/RSH/Logging/TextTable.pm line 240.
Use of uninitialized value $Text::SimpleTable::RIGHT_BORDER in concatenation (.) or string at /tmp/loop_over_bdir-2354-ukUQqH/RSH-Logging-0.4.3-0/blib/lib/RSH/Logging/TextTable.pm line 241.
DEBUG Logging.pm:407, RSH::Logging::__ANON__:   + sub0                                                      0.000004s
Use of uninitialized value $Text::SimpleTable::LEFT_BORDER in concatenation (.) or string at /tmp/loop_over_bdir-2354-ukUQqH/RSH-Logging-0.4.3-0/blib/lib/RSH/Logging/TextTable.pm line 240.
Use of uninitialized value $Text::SimpleTable::SEPARATOR in concatenation (.) or string at /tmp/loop_over_bdir-2354-ukUQqH/RSH-Logging-0.4.3-0/blib/lib/RSH/Logging/TextTable.pm line 240.
Use of uninitialized value $Text::SimpleTable::RIGHT_BORDER in concatenation (.) or string at /tmp/loop_over_bdir-2354-ukUQqH/RSH-Logging-0.4.3-0/blib/lib/RSH/Logging/TextTable.pm line 241.
DEBUG Logging.pm:407, RSH::Logging::__ANON__:   + sub1                                                      0.000002s
Use of uninitialized value $Text::SimpleTable::LEFT_BORDER in concatenation (.) or string at /tmp/loop_over_bdir-2354-ukUQqH/RSH-Logging-0.4.3-0/blib/lib/RSH/Logging/TextTable.pm line 240.
Use of uninitialized value $Text::SimpleTable::SEPARATOR in concatenation (.) or string at /tmp/loop_over_bdir-2354-ukUQqH/RSH-Logging-0.4.3-0/blib/lib/RSH/Logging/TextTable.pm line 240.
Use of uninitialized value $Text::SimpleTable::RIGHT_BORDER in concatenation (.) or string at /tmp/loop_over_bdir-2354-ukUQqH/RSH-Logging-0.4.3-0/blib/lib/RSH/Logging/TextTable.pm line 241.
DEBUG Logging.pm:407, RSH::Logging::__ANON__:   + sub2                                                      0.000002s
Use of uninitialized value $Text::SimpleTable::LEFT_BORDER in concatenation (.) or string at /tmp/loop_over_bdir-2354-ukUQqH/RSH-Logging-0.4.3-0/blib/lib/RSH/Logging/TextTable.pm line 240.
Use of uninitialized value $Text::SimpleTable::SEPARATOR in concatenation (.) or string at /tmp/loop_over_bdir-2354-ukUQqH/RSH-Logging-0.4.3-0/blib/lib/RSH/Logging/TextTable.pm line 240.
Use of uninitialized value $Text::SimpleTable::RIGHT_BORDER in concatenation (.) or string at /tmp/loop_over_bdir-2354-ukUQqH/RSH-Logging-0.4.3-0/blib/lib/RSH/Logging/TextTable.pm line 241.
DEBUG Logging.pm:407, RSH::Logging::__ANON__:   + sub3                                                      0.000002s
Use of uninitialized value $Text::SimpleTable::LEFT_BORDER in concatenation (.) or string at /tmp/loop_over_bdir-2354-ukUQqH/RSH-Logging-0.4.3-0/blib/lib/RSH/Logging/TextTable.pm line 240.
Use of uninitialized value $Text::SimpleTable::SEPARATOR in concatenation (.) or string at /tmp/loop_over_bdir-2354-ukUQqH/RSH-Logging-0.4.3-0/blib/lib/RSH/Logging/TextTable.pm line 240.
Use of uninitialized value $Text::SimpleTable::RIGHT_BORDER in concatenation (.) or string at /tmp/loop_over_bdir-2354-ukUQqH/RSH-Logging-0.4.3-0/blib/lib/RSH/Logging/TextTable.pm line 241.
DEBUG Logging.pm:407, RSH::Logging::__ANON__:   + sub4                                                      0.000001s
Use of uninitialized value $Text::SimpleTable::LEFT_BORDER in concatenation (.) or string at /tmp/loop_over_bdir-2354-ukUQqH/RSH-Logging-0.4.3-0/blib/lib/RSH/Logging/TextTable.pm line 240.
Use of uninitialized value $Text::SimpleTable::SEPARATOR in concatenation (.) or string at /tmp/loop_over_bdir-2354-ukUQqH/RSH-Logging-0.4.3-0/blib/lib/RSH/Logging/TextTable.pm line 240.
Use of uninitialized value $Text::SimpleTable::RIGHT_BORDER in concatenation (.) or string at /tmp/loop_over_bdir-2354-ukUQqH/RSH-Logging-0.4.3-0/blib/lib/RSH/Logging/TextTable.pm line 241.
DEBUG Logging.pm:407, RSH::Logging::__ANON__:   + sub5                                                      0.000002s
Use of uninitialized value $Text::SimpleTable::LEFT_BORDER in concatenation (.) or string at /tmp/loop_over_bdir-2354-ukUQqH/RSH-Logging-0.4.3-0/blib/lib/RSH/Logging/TextTable.pm line 240.
Use of uninitialized value $Text::SimpleTable::SEPARATOR in concatenation (.) or string at /tmp/loop_over_bdir-2354-ukUQqH/RSH-Logging-0.4.3-0/blib/lib/RSH/Logging/TextTable.pm line 240.
Use of uninitialized value $Text::SimpleTable::RIGHT_BORDER in concatenation (.) or string at /tmp/loop_over_bdir-2354-ukUQqH/RSH-Logging-0.4.3-0/blib/lib/RSH/Logging/TextTable.pm line 241.
DEBUG Logging.pm:407, RSH::Logging::__ANON__:   + sub6                                                      0.000001s
Use of uninitialized value $Text::SimpleTable::LEFT_BORDER in concatenation (.) or string at /tmp/loop_over_bdir-2354-ukUQqH/RSH-Logging-0.4.3-0/blib/lib/RSH/Logging/TextTable.pm line 240.
Use of uninitialized value $Text::SimpleTable::SEPARATOR in concatenation (.) or string at /tmp/loop_over_bdir-2354-ukUQqH/RSH-Logging-0.4.3-0/blib/lib/RSH/Logging/TextTable.pm line 240.
Use of uninitialized value $Text::SimpleTable::RIGHT_BORDER in concatenation (.) or string at /tmp/loop_over_bdir-2354-ukUQqH/RSH-Logging-0.4.3-0/blib/lib/RSH/Logging/TextTable.pm line 241.
DEBUG Logging.pm:407, RSH::Logging::__ANON__:   + sub7                                                      0.000002s
Use of uninitialized value $Text::SimpleTable::LEFT_BORDER in concatenation (.) or string at /tmp/loop_over_bdir-2354-ukUQqH/RSH-Logging-0.4.3-0/blib/lib/RSH/Logging/TextTable.pm line 240.
Use of uninitialized value $Text::SimpleTable::SEPARATOR in concatenation (.) or string at /tmp/loop_over_bdir-2354-ukUQqH/RSH-Logging-0.4.3-0/blib/lib/RSH/Logging/TextTable.pm line 240.
Use of uninitialized value $Text::SimpleTable::RIGHT_BORDER in concatenation (.) or string at /tmp/loop_over_bdir-2354-ukUQqH/RSH-Logging-0.4.3-0/blib/lib/RSH/Logging/TextTable.pm line 241.
DEBUG Logging.pm:407, RSH::Logging::__ANON__:   + sub8                                                      0.000001s
Use of uninitialized value $Text::SimpleTable::LEFT_BORDER in concatenation (.) or string at /tmp/loop_over_bdir-2354-ukUQqH/RSH-Logging-0.4.3-0/blib/lib/RSH/Logging/TextTable.pm line 240.
Use of uninitialized value $Text::SimpleTable::SEPARATOR in concatenation (.) or string at /tmp/loop_over_bdir-2354-ukUQqH/RSH-Logging-0.4.3-0/blib/lib/RSH/Logging/TextTable.pm line 240.
Use of uninitialized value $Text::SimpleTable::RIGHT_BORDER in concatenation (.) or string at /tmp/loop_over_bdir-2354-ukUQqH/RSH-Logging-0.4.3-0/blib/lib/RSH/Logging/TextTable.pm line 241.
DEBUG Logging.pm:407, RSH::Logging::__ANON__:   + sub9                                                      0.000001s
Use of uninitialized value $Text::SimpleTable::LEFT_BORDER in concatenation (.) or string at /tmp/loop_over_bdir-2354-ukUQqH/RSH-Logging-0.4.3-0/blib/lib/RSH/Logging/TextTable.pm line 240.
Use of uninitialized value $Text::SimpleTable::SEPARATOR in concatenation (.) or string at /tmp/loop_over_bdir-2354-ukUQqH/RSH-Logging-0.4.3-0/blib/lib/RSH/Logging/TextTable.pm line 240.
Use of uninitialized value $Text::SimpleTable::RIGHT_BORDER in concatenation (.) or string at /tmp/loop_over_bdir-2354-ukUQqH/RSH-Logging-0.4.3-0/blib/lib/RSH/Logging/TextTable.pm line 241.
DEBUG Logging.pm:407, RSH::Logging::__ANON__:   + sub10                                                     0.000001s
Use of uninitialized value $Text::SimpleTable::LEFT_BORDER in concatenation (.) or string at /tmp/loop_over_bdir-2354-ukUQqH/RSH-Logging-0.4.3-0/blib/lib/RSH/Logging/TextTable.pm line 240.
Use of uninitialized value $Text::SimpleTable::SEPARATOR in concatenation (.) or string at /tmp/loop_over_bdir-2354-ukUQqH/RSH-Logging-0.4.3-0/blib/lib/RSH/Logging/TextTable.pm line 240.
Use of uninitialized value $Text::SimpleTable::RIGHT_BORDER in concatenation (.) or string at /tmp/loop_over_bdir-2354-ukUQqH/RSH-Logging-0.4.3-0/blib/lib/RSH/Logging/TextTable.pm line 241.
DEBUG Logging.pm:407, RSH::Logging::__ANON__:   + sub11                                                     0.000012s
Use of uninitialized value $Text::SimpleTable::LEFT_BORDER in concatenation (.) or string at /tmp/loop_over_bdir-2354-ukUQqH/RSH-Logging-0.4.3-0/blib/lib/RSH/Logging/TextTable.pm line 240.
Use of uninitialized value $Text::SimpleTable::SEPARATOR in concatenation (.) or string at /tmp/loop_over_bdir-2354-ukUQqH/RSH-Logging-0.4.3-0/blib/lib/RSH/Logging/TextTable.pm line 240.
Use of uninitialized value $Text::SimpleTable::RIGHT_BORDER in concatenation (.) or string at /tmp/loop_over_bdir-2354-ukUQqH/RSH-Logging-0.4.3-0/blib/lib/RSH/Logging/TextTable.pm line 241.
DEBUG Logging.pm:407, RSH::Logging::__ANON__:   + sub12                                                     0.000001s
Use of uninitialized value $Text::SimpleTable::LEFT_BORDER in concatenation (.) or string at /tmp/loop_over_bdir-2354-ukUQqH/RSH-Logging-0.4.3-0/blib/lib/RSH/Logging/TextTable.pm line 240.
Use of uninitialized value $Text::SimpleTable::SEPARATOR in concatenation (.) or string at /tmp/loop_over_bdir-2354-ukUQqH/RSH-Logging-0.4.3-0/blib/lib/RSH/Logging/TextTable.pm line 240.
Use of uninitialized value $Text::SimpleTable::RIGHT_BORDER in concatenation (.) or string at /tmp/loop_over_bdir-2354-ukUQqH/RSH-Logging-0.4.3-0/blib/lib/RSH/Logging/TextTable.pm line 241.
DEBUG Logging.pm:407, RSH::Logging::__ANON__:   + sub13                                                     0.000002s
Use of uninitialized value $Text::SimpleTable::LEFT_BORDER in concatenation (.) or string at /tmp/loop_over_bdir-2354-ukUQqH/RSH-Logging-0.4.3-0/blib/lib/RSH/Logging/TextTable.pm line 240.
Use of uninitialized value $Text::SimpleTable::SEPARATOR in concatenation (.) or string at /tmp/loop_over_bdir-2354-ukUQqH/RSH-Logging-0.4.3-0/blib/lib/RSH/Logging/TextTable.pm line 240.
Use of uninitialized value $Text::SimpleTable::RIGHT_BORDER in concatenation (.) or string at /tmp/loop_over_bdir-2354-ukUQqH/RSH-Logging-0.4.3-0/blib/lib/RSH/Logging/TextTable.pm line 241.
DEBUG Logging.pm:407, RSH::Logging::__ANON__:   + sub14                                                     0.000002s
Use of uninitialized value $Text::SimpleTable::LEFT_BORDER in concatenation (.) or string at /tmp/loop_over_bdir-2354-ukUQqH/RSH-Logging-0.4.3-0/blib/lib/RSH/Logging/TextTable.pm line 240.
Use of uninitialized value $Text::SimpleTable::SEPARATOR in concatenation (.) or string at /tmp/loop_over_bdir-2354-ukUQqH/RSH-Logging-0.4.3-0/blib/lib/RSH/Logging/TextTable.pm line 240.
Use of uninitialized value $Text::SimpleTable::RIGHT_BORDER in concatenation (.) or string at /tmp/loop_over_bdir-2354-ukUQqH/RSH-Logging-0.4.3-0/blib/lib/RSH/Logging/TextTable.pm line 241.
DEBUG Logging.pm:407, RSH::Logging::__ANON__:   + sub15                                                     0.000001s
Use of uninitialized value $Text::SimpleTable::LEFT_BORDER in concatenation (.) or string at /tmp/loop_over_bdir-2354-ukUQqH/RSH-Logging-0.4.3-0/blib/lib/RSH/Logging/TextTable.pm line 240.
Use of uninitialized value $Text::SimpleTable::SEPARATOR in concatenation (.) or string at /tmp/loop_over_bdir-2354-ukUQqH/RSH-Logging-0.4.3-0/blib/lib/RSH/Logging/TextTable.pm line 240.
Use of uninitialized value $Text::SimpleTable::RIGHT_BORDER in concatenation (.) or string at /tmp/loop_over_bdir-2354-ukUQqH/RSH-Logging-0.4.3-0/blib/lib/RSH/Logging/TextTable.pm line 241.
DEBUG Logging.pm:407, RSH::Logging::__ANON__:   + sub16                                                     0.000001s
Use of uninitialized value $Text::SimpleTable::LEFT_BORDER in concatenation (.) or string at /tmp/loop_over_bdir-2354-ukUQqH/RSH-Logging-0.4.3-0/blib/lib/RSH/Logging/TextTable.pm line 240.
Use of uninitialized value $Text::SimpleTable::SEPARATOR in concatenation (.) or string at /tmp/loop_over_bdir-2354-ukUQqH/RSH-Logging-0.4.3-0/blib/lib/RSH/Logging/TextTable.pm line 240.
Use of uninitialized value $Text::SimpleTable::RIGHT_BORDER in concatenation (.) or string at /tmp/loop_over_bdir-2354-ukUQqH/RSH-Logging-0.4.3-0/blib/lib/RSH/Logging/TextTable.pm line 241.
DEBUG Logging.pm:407, RSH::Logging::__ANON__:   + sub17                                                     0.000001s
Use of uninitialized value $Text::SimpleTable::LEFT_BORDER in concatenation (.) or string at /tmp/loop_over_bdir-2354-ukUQqH/RSH-Logging-0.4.3-0/blib/lib/RSH/Logging/TextTable.pm line 240.
Use of uninitialized value $Text::SimpleTable::SEPARATOR in concatenation (.) or string at /tmp/loop_over_bdir-2354-ukUQqH/RSH-Logging-0.4.3-0/blib/lib/RSH/Logging/TextTable.pm line 240.
Use of uninitialized value $Text::SimpleTable::RIGHT_BORDER in concatenation (.) or string at /tmp/loop_over_bdir-2354-ukUQqH/RSH-Logging-0.4.3-0/blib/lib/RSH/Logging/TextTable.pm line 241.
DEBUG Logging.pm:407, RSH::Logging::__ANON__:   + sub18                                                     0.000005s
Use of uninitialized value $Text::SimpleTable::LEFT_BORDER in concatenation (.) or string at /tmp/loop_over_bdir-2354-ukUQqH/RSH-Logging-0.4.3-0/blib/lib/RSH/Logging/TextTable.pm line 240.
Use of uninitialized value $Text::SimpleTable::SEPARATOR in concatenation (.) or string at /tmp/loop_over_bdir-2354-ukUQqH/RSH-Logging-0.4.3-0/blib/lib/RSH/Logging/TextTable.pm line 240.
Use of uninitialized value $Text::SimpleTable::RIGHT_BORDER in concatenation (.) or string at /tmp/loop_over_bdir-2354-ukUQqH/RSH-Logging-0.4.3-0/blib/lib/RSH/Logging/TextTable.pm line 241.
DEBUG Logging.pm:407, RSH::Logging::__ANON__:   + sub19                                                     0.000002s
Use of uninitialized value $Text::SimpleTable::LEFT_BORDER in concatenation (.) or string at /tmp/loop_over_bdir-2354-ukUQqH/RSH-Logging-0.4.3-0/blib/lib/RSH/Logging/TextTable.pm line 240.
Use of uninitialized value $Text::SimpleTable::SEPARATOR in concatenation (.) or string at /tmp/loop_over_bdir-2354-ukUQqH/RSH-Logging-0.4.3-0/blib/lib/RSH/Logging/TextTable.pm line 240.
Use of uninitialized value $Text::SimpleTable::RIGHT_BORDER in concatenation (.) or string at /tmp/loop_over_bdir-2354-ukUQqH/RSH-Logging-0.4.3-0/blib/lib/RSH/Logging/TextTable.pm line 241.
DEBUG Logging.pm:407, RSH::Logging::__ANON__:   + sub20                                                     0.000001s
Use of uninitialized value $Text::SimpleTable::LEFT_BORDER in concatenation (.) or string at /tmp/loop_over_bdir-2354-ukUQqH/RSH-Logging-0.4.3-0/blib/lib/RSH/Logging/TextTable.pm line 240.
Use of uninitialized value $Text::SimpleTable::SEPARATOR in concatenation (.) or string at /tmp/loop_over_bdir-2354-ukUQqH/RSH-Logging-0.4.3-0/blib/lib/RSH/Logging/TextTable.pm line 240.
Use of uninitialized value $Text::SimpleTable::RIGHT_BORDER in concatenation (.) or string at /tmp/loop_over_bdir-2354-ukUQqH/RSH-Logging-0.4.3-0/blib/lib/RSH/Logging/TextTable.pm line 241.
DEBUG Logging.pm:407, RSH::Logging::__ANON__:   + sub21                                                     0.000002s
Use of uninitialized value $Text::SimpleTable::LEFT_BORDER in concatenation (.) or string at /tmp/loop_over_bdir-2354-ukUQqH/RSH-Logging-0.4.3-0/blib/lib/RSH/Logging/TextTable.pm line 240.
Use of uninitialized value $Text::SimpleTable::SEPARATOR in concatenation (.) or string at /tmp/loop_over_bdir-2354-ukUQqH/RSH-Logging-0.4.3-0/blib/lib/RSH/Logging/TextTable.pm line 240.
Use of uninitialized value $Text::SimpleTable::RIGHT_BORDER in concatenation (.) or string at /tmp/loop_over_bdir-2354-ukUQqH/RSH-Logging-0.4.3-0/blib/lib/RSH/Logging/TextTable.pm line 241.
DEBUG Logging.pm:407, RSH::Logging::__ANON__:   + sub22                                                     0.000001s
Use of uninitialized value $Text::SimpleTable::LEFT_BORDER in concatenation (.) or string at /tmp/loop_over_bdir-2354-ukUQqH/RSH-Logging-0.4.3-0/blib/lib/RSH/Logging/TextTable.pm line 240.
Use of uninitialized value $Text::SimpleTable::SEPARATOR in concatenation (.) or string at /tmp/loop_over_bdir-2354-ukUQqH/RSH-Logging-0.4.3-0/blib/lib/RSH/Logging/TextTable.pm line 240.
Use of uninitialized value $Text::SimpleTable::RIGHT_BORDER in concatenation (.) or string at /tmp/loop_over_bdir-2354-ukUQqH/RSH-Logging-0.4.3-0/blib/lib/RSH/Logging/TextTable.pm line 241.
DEBUG Logging.pm:407, RSH::Logging::__ANON__:   + sub23                                                     0.000002s
Use of uninitialized value $Text::SimpleTable::LEFT_BORDER in concatenation (.) or string at /tmp/loop_over_bdir-2354-ukUQqH/RSH-Logging-0.4.3-0/blib/lib/RSH/Logging/TextTable.pm line 240.
Use of uninitialized value $Text::SimpleTable::SEPARATOR in concatenation (.) or string at /tmp/loop_over_bdir-2354-ukUQqH/RSH-Logging-0.4.3-0/blib/lib/RSH/Logging/TextTable.pm line 240.
Use of uninitialized value $Text::SimpleTable::RIGHT_BORDER in concatenation (.) or string at /tmp/loop_over_bdir-2354-ukUQqH/RSH-Logging-0.4.3-0/blib/lib/RSH/Logging/TextTable.pm line 241.
DEBUG Logging.pm:407, RSH::Logging::__ANON__:   + sub24                                                     0.000001s
Use of uninitialized value in repeat (x) at /tmp/loop_over_bdir-2354-ukUQqH/RSH-Logging-0.4.3-0/blib/lib/RSH/Logging/TextTable.pm line 256.
Use of uninitialized value $Text::SimpleTable::BOTTOM_LEFT in concatenation (.) or string at /tmp/loop_over_bdir-2354-ukUQqH/RSH-Logging-0.4.3-0/blib/lib/RSH/Logging/TextTable.pm line 261.
Use of uninitialized value $Text::SimpleTable::BOTTOM_SEPARATOR in concatenation (.) or string at /tmp/loop_over_bdir-2354-ukUQqH/RSH-Logging-0.4.3-0/blib/lib/RSH/Logging/TextTable.pm line 261.
Use of uninitialized value in repeat (x) at /tmp/loop_over_bdir-2354-ukUQqH/RSH-Logging-0.4.3-0/blib/lib/RSH/Logging/TextTable.pm line 256.
Use of uninitialized value $Text::SimpleTable::BOTTOM_RIGHT in concatenation (.) or string at /tmp/loop_over_bdir-2354-ukUQqH/RSH-Logging-0.4.3-0/blib/lib/RSH/Logging/TextTable.pm line 262.
DEBUG Logging.pm:407, RSH::Logging::__ANON__: 
DEBUG Logging.pm:407, RSH::Logging::__ANON__: 
t/011.RSH-Logging-chunking.t .. ok
t/999.perlcritic.t ............ skipped: Not worrying about perl critic right now.
t/999.pod-coverage.t .......... ok
t/999.pod.t ................... ok
All tests successful.
Files=6, Tests=160,  2 wallclock secs ( 0.04 usr  0.01 sys +  1.48 cusr  0.40 csys =  1.93 CPU)
Result: PASS

------------------------------
PREREQUISITES
------------------------------

Prerequisite modules loaded:

requires:

    Module              Need  Have    
    ------------------- ----- --------
    IO::File            0     1.55    
    Log::Log4perl       0     1.57    
    perl                5.008 5.039008
    Scalar::Util        0     1.63    
    Test::More          0     1.302198
    Text::SimpleTable   0     2.07    
    Time::HiRes         0     1.9776  

build_requires:

    Module              Need  Have    
    ------------------- ----- --------
    ExtUtils::MakeMaker 6.42  7.70    
    Test::More          0     1.302198

configure_requires:

    Module              Need  Have    
    ------------------- ----- --------
    ExtUtils::MakeMaker 6.42  7.70    

opt_requires:

    Module              Need  Have    
    ------------------- ----- --------
    Test::Perl::Critic  0     1.04    
    Test::Pod           0     1.52    
    Test::Pod::Coverage 0     1.10    


------------------------------
ENVIRONMENT AND OTHER CONTEXT
------------------------------

Environment variables:

    AUTOMATED_TESTING = 1
    LANG = en_US.UTF-8
    PATH = /home/sand/bin:/usr/local/bin:/usr/local/sbin:/usr/sbin:/usr/bin:/sbin:/bin:/usr/games:/usr/local/games:/snap/bin:/usr/local/perl/bin:/usr/X11/bin
    PERL = /tmp/basesmoker-reloperl-57lK/bin/perl
    PERL5LIB = /tmp/loop_over_bdir-2354-ukUQqH/Linux-InitFS-0.2-0/blib/arch:/tmp/loop_over_bdir-2354-ukUQqH/Linux-InitFS-0.2-0/blib/lib:/tmp/loop_over_bdir-2354-ukUQqH/Alien-SNMP-MIBDEV-2.020000-0/blib/arch:/tmp/loop_over_bdir-2354-ukUQqH/Alien-SNMP-MIBDEV-2.020000-0/blib/lib:/tmp/loop_over_bdir-2354-ukUQqH/makepp-1.19-0/blib/arch:/tmp/loop_over_bdir-2354-ukUQqH/makepp-1.19-0/blib/lib:/tmp/loop_over_bdir-2354-ukUQqH/CGI-Application-NetNewsIface-0.0204-0/blib/arch:/tmp/loop_over_bdir-2354-ukUQqH/CGI-Application-NetNewsIface-0.0204-0/blib/lib:/tmp/loop_over_bdir-2354-ukUQqH/Net-ISP-Balance-1.31-0/blib/arch:/tmp/loop_over_bdir-2354-ukUQqH/Net-ISP-Balance-1.31-0/blib/lib:/tmp/loop_over_bdir-2354-ukUQqH/Net-Async-WebService-lxd-0.03-0/blib/arch:/tmp/loop_over_bdir-2354-ukUQqH/Net-Async-WebService-lxd-0.03-0/blib/lib:/tmp/loop_over_bdir-2354-ukUQqH/CORBA-Python-2.66-0/blib/arch:/tmp/loop_over_bdir-2354-ukUQqH/CORBA-Python-2.66-0/blib/lib:/tmp/loop_over_bdir-2354-ukUQqH/Lingua-BioYaTeA-0.11-0/blib/arch:/tmp/loop_over_bdir-2354-ukUQqH/Lingua-BioYaTeA-0.11-0/blib/lib:/tmp/loop_over_bdir-2354-ukUQqH/Lingua-YaTeA-0.626-0/blib/arch:/tmp/loop_over_bdir-2354-ukUQqH/Lingua-YaTeA-0.626-0/blib/lib:/tmp/loop_over_bdir-2354-ukUQqH/shishi-0.0.1-0/blib/arch:/tmp/loop_over_bdir-2354-ukUQqH/shishi-0.0.1-0/blib/lib:/tmp/loop_over_bdir-2354-ukUQqH/App-nrun-v1.1.2-0/blib/arch:/tmp/loop_over_bdir-2354-ukUQqH/App-nrun-v1.1.2-0/blib/lib:/tmp/loop_over_bdir-2354-ukUQqH/App-rmcd-0.280-0/blib/arch:/tmp/loop_over_bdir-2354-ukUQqH/App-rmcd-0.280-0/blib/lib:/tmp/loop_over_bdir-2354-ukUQqH/App-oo_modulino_zsh_completion_helper-0.04-0/blib/arch:/tmp/loop_over_bdir-2354-ukUQqH/App-oo_modulino_zsh_completion_helper-0.04-0/blib/lib:/tmp/loop_over_bdir-2354-ukUQqH/LCFG-Build-Tools-0.9.30-0/blib/arch:/tmp/loop_over_bdir-2354-ukUQqH/LCFG-Build-Tools-0.9.30-0/blib/lib:/tmp/loop_over_bdir-2354-ukUQqH/NoZone-1.3-0/blib/arch:/tmp/loop_over_bdir-2354-ukUQqH/NoZone-1.3-0/blib/lib:/tmp/loop_over_bdir-2354-ukUQqH/downsexta-0/blib/arch:/tmp/loop_over_bdir-2354-ukUQqH/downsexta-0/blib/lib:/tmp/loop_over_bdir-2354-ukUQqH/dta-tokwrap-0.98-0/blib/arch:/tmp/loop_over_bdir-2354-ukUQqH/dta-tokwrap-0.98-0/blib/lib:/tmp/loop_over_bdir-2354-ukUQqH/Debian-Packages-0.03-0/blib/arch:/tmp/loop_over_bdir-2354-ukUQqH/Debian-Packages-0.03-0/blib/lib:/tmp/loop_over_bdir-2354-ukUQqH/Business-Shipping-DataFiles-1.02-0/blib/arch:/tmp/loop_over_bdir-2354-ukUQqH/Business-Shipping-DataFiles-1.02-0/blib/lib:/tmp/loop_over_bdir-2354-ukUQqH/EJBCA-CrlPublish-0.60-0/blib/arch:/tmp/loop_over_bdir-2354-ukUQqH/EJBCA-CrlPublish-0.60-0/blib/lib:/tmp/loop_over_bdir-2354-ukUQqH/DBIx-Migration-Directories-0.12-0/blib/arch:/tmp/loop_over_bdir-2354-ukUQqH/DBIx-Migration-Directories-0.12-0/blib/lib:/tmp/loop_over_bdir-2354-ukUQqH/Devel-Required-0.16-0/blib/arch:/tmp/loop_over_bdir-2354-ukUQqH/Devel-Required-0.16-0/blib/lib:/tmp/loop_over_bdir-2354-ukUQqH/triceps-2.1.0-0/blib/arch:/tmp/loop_over_bdir-2354-ukUQqH/triceps-2.1.0-0/blib/lib:/tmp/loop_over_bdir-2354-ukUQqH/Dpkg-1.22.4-0/blib/arch:/tmp/loop_over_bdir-2354-ukUQqH/Dpkg-1.22.4-0/blib/lib:/tmp/loop_over_bdir-2354-ukUQqH/LCFG-Build-Skeleton-0.5.0-0/blib/arch:/tmp/loop_over_bdir-2354-ukUQqH/LCFG-Build-Skeleton-0.5.0-0/blib/lib:/tmp/loop_over_bdir-2354-ukUQqH/Lemonldap-NG-Cli-0.2-0/blib/arch:/tmp/loop_over_bdir-2354-ukUQqH/Lemonldap-NG-Cli-0.2-0/blib/lib
    PERL5OPT = 
    PERL5_CPANPLUS_IS_RUNNING = 2367
    PERL5_CPAN_IS_RUNNING = 2367
    PERL_CANARY_STABILITY_NOPROMPT = 1
    PERL_MM_USE_DEFAULT = 1
    PERL_USE_UNSAFE_INC = 1
    SHELL = /usr/bin/zsh
    TERM = screen

Perl special variables (and OS-specific diagnostics, for MSWin32):

    $^X = /tmp/basesmoker-reloperl-57lK/bin/perl
    $UID/$EUID = 1005 / 1005
    $GID = 1005 1005
    $EGID = 1005 1005

Perl module toolchain versions installed:

    Module              Have    
    ------------------- --------
    CPAN                2.36    
    CPAN::Meta          2.150010
    Cwd                 3.90    
    ExtUtils::CBuilder  0.280240
    ExtUtils::Command   7.70    
    ExtUtils::Install   2.22    
    ExtUtils::MakeMaker 7.70    
    ExtUtils::Manifest  1.75    
    ExtUtils::ParseXS   3.51    
    File::Spec          3.90    
    JSON                4.10    
    JSON::PP            4.16    
    Module::Build       0.4234  
    Module::Signature   0.88    
    Parse::CPAN::Meta   2.150010
    Test2               1.302198
    Test::Harness       3.48    
    Test::More          1.302198
    YAML                1.31    
    YAML::Syck          1.34    
    version             0.9930  


--

Summary of my perl5 (revision 5 version 39 subversion 8) configuration:
  Commit id: 78455e6e7fa235411fb2b931eda9d816b5ea880f
  Platform:
    osname=linux
    osvers=5.4.0-171-generic
    archname=x86_64-linux
    uname='linux k93focal 5.4.0-171-generic #189-ubuntu smp fri jan 5 14:23:02 utc 2024 x86_64 x86_64 x86_64 gnulinux '
    config_args='-Dprefix=/home/sand/src/perl/repoperls/installed-perls/host/k93focal/v5.39.8/b254 -Dmyhostname=k93focal -Dinstallusrbinperl=n -Uversiononly -Dusedevel -des -Ui_db -Dlibswanted=cl pthread socket inet nsl gdbm dbm malloc dl ld sun m crypt sec util c cposix posix ucb BSD gdbm_compat -Uuseithreads -Uuselongdouble -DEBUGGING=both'
    hint=recommended
    useposix=true
    d_sigaction=define
    useithreads=undef
    usemultiplicity=undef
    use64bitint=define
    use64bitall=define
    uselongdouble=undef
    usemymalloc=n
    default_inc_excludes_dot=define
  Compiler:
    cc='cc'
    ccflags ='-fwrapv -DDEBUGGING -fno-strict-aliasing -pipe -fstack-protector-strong -I/usr/local/include -D_LARGEFILE_SOURCE -D_FILE_OFFSET_BITS=64'
    optimize='-O2 -g'
    cppflags='-fwrapv -DDEBUGGING -fno-strict-aliasing -pipe -fstack-protector-strong -I/usr/local/include'
    ccversion=''
    gccversion='9.4.0'
    gccosandvers=''
    intsize=4
    longsize=8
    ptrsize=8
    doublesize=8
    byteorder=12345678
    doublekind=3
    d_longlong=define
    longlongsize=8
    d_longdbl=define
    longdblsize=16
    longdblkind=3
    ivtype='long'
    ivsize=8
    nvtype='double'
    nvsize=8
    Off_t='off_t'
    lseeksize=8
    alignbytes=8
    prototype=define
  Linker and Libraries:
    ld='cc'
    ldflags =' -fstack-protector-strong -L/usr/local/lib'
    libpth=/usr/local/lib /usr/lib/x86_64-linux-gnu /usr/lib /usr/lib64
    libs=-lpthread -lnsl -ldl -lm -lcrypt -lutil -lc
    perllibs=-lpthread -lnsl -ldl -lm -lcrypt -lutil -lc
    libc=libc-2.31.so
    so=so
    useshrplib=false
    libperl=libperl.a
    gnulibc_version='2.31'
  Dynamic Linking:
    dlsrc=dl_dlopen.xs
    dlext=so
    d_dlsymun=undef
    ccdlflags='-Wl,-E'
    cccdlflags='-fPIC'
    lddlflags='-shared -O2 -g -L/usr/local/lib -fstack-protector-strong'


Characteristics of this binary (from libperl): 
  Compile-time options:
    DEBUGGING
    HAS_LONG_DOUBLE
    HAS_STRTOLD
    HAS_TIMES
    PERLIO_LAYERS
    PERL_COPY_ON_WRITE
    PERL_DONT_CREATE_GVSV
    PERL_HASH_FUNC_SIPHASH13
    PERL_HASH_USE_SBOX32
    PERL_MALLOC_WRAP
    PERL_OP_PARENT
    PERL_PRESERVE_IVUV
    PERL_USE_DEVEL
    PERL_USE_SAFE_PUTENV
    USE_64_BIT_ALL
    USE_64_BIT_INT
    USE_LARGE_FILES
    USE_LOCALE
    USE_LOCALE_COLLATE
    USE_LOCALE_CTYPE
    USE_LOCALE_NUMERIC
    USE_LOCALE_TIME
    USE_PERLIO
    USE_PERL_ATOF
  Built under linux
  Compiled at Feb 24 2024 09:04:15
  %ENV:
    PERL="/tmp/basesmoker-reloperl-57lK/bin/perl"
    PERL5LIB="/tmp/loop_over_bdir-2354-ukUQqH/Linux-InitFS-0.2-0/blib/arch:/tmp/loop_over_bdir-2354-ukUQqH/Linux-InitFS-0.2-0/blib/lib:/tmp/loop_over_bdir-2354-ukUQqH/Alien-SNMP-MIBDEV-2.020000-0/blib/arch:/tmp/loop_over_bdir-2354-ukUQqH/Alien-SNMP-MIBDEV-2.020000-0/blib/lib:/tmp/loop_over_bdir-2354-ukUQqH/makepp-1.19-0/blib/arch:/tmp/loop_over_bdir-2354-ukUQqH/makepp-1.19-0/blib/lib:/tmp/loop_over_bdir-2354-ukUQqH/CGI-Application-NetNewsIface-0.0204-0/blib/arch:/tmp/loop_over_bdir-2354-ukUQqH/CGI-Application-NetNewsIface-0.0204-0/blib/lib:/tmp/loop_over_bdir-2354-ukUQqH/Net-ISP-Balance-1.31-0/blib/arch:/tmp/loop_over_bdir-2354-ukUQqH/Net-ISP-Balance-1.31-0/blib/lib:/tmp/loop_over_bdir-2354-ukUQqH/Net-Async-WebService-lxd-0.03-0/blib/arch:/tmp/loop_over_bdir-2354-ukUQqH/Net-Async-WebService-lxd-0.03-0/blib/lib:/tmp/loop_over_bdir-2354-ukUQqH/CORBA-Python-2.66-0/blib/arch:/tmp/loop_over_bdir-2354-ukUQqH/CORBA-Python-2.66-0/blib/lib:/tmp/loop_over_bdir-2354-ukUQqH/Lingua-BioYaTeA-0.11-0/blib/arch:/tmp/loop_over_bdir-2354-ukUQqH/Lingua-BioYaTeA-0.11-0/blib/lib:/tmp/loop_over_bdir-2354-ukUQqH/Lingua-YaTeA-0.626-0/blib/arch:/tmp/loop_over_bdir-2354-ukUQqH/Lingua-YaTeA-0.626-0/blib/lib:/tmp/loop_over_bdir-2354-ukUQqH/shishi-0.0.1-0/blib/arch:/tmp/loop_over_bdir-2354-ukUQqH/shishi-0.0.1-0/blib/lib:/tmp/loop_over_bdir-2354-ukUQqH/App-nrun-v1.1.2-0/blib/arch:/tmp/loop_over_bdir-2354-ukUQqH/App-nrun-v1.1.2-0/blib/lib:/tmp/loop_over_bdir-2354-ukUQqH/App-rmcd-0.280-0/blib/arch:/tmp/loop_over_bdir-2354-ukUQqH/App-rmcd-0.280-0/blib/lib:/tmp/loop_over_bdir-2354-ukUQqH/App-oo_modulino_zsh_completion_helper-0.04-0/blib/arch:/tmp/loop_over_bdir-2354-ukUQqH/App-oo_modulino_zsh_completion_helper-0.04-0/blib/lib:/tmp/loop_over_bdir-2354-ukUQqH/LCFG-Build-Tools-0.9.30-0/blib/arch:/tmp/loop_over_bdir-2354-ukUQqH/LCFG-Build-Tools-0.9.30-0/blib/lib:/tmp/loop_over_bdir-2354-ukUQqH/NoZone-1.3-0/blib/arch:/tmp/loop_over_bdir-2354-ukUQqH/NoZone-1.3-0/blib/lib:/tmp/loop_over_bdir-2354-ukUQqH/downsexta-0/blib/arch:/tmp/loop_over_bdir-2354-ukUQqH/downsexta-0/blib/lib:/tmp/loop_over_bdir-2354-ukUQqH/dta-tokwrap-0.98-0/blib/arch:/tmp/loop_over_bdir-2354-ukUQqH/dta-tokwrap-0.98-0/blib/lib:/tmp/loop_over_bdir-2354-ukUQqH/Debian-Packages-0.03-0/blib/arch:/tmp/loop_over_bdir-2354-ukUQqH/Debian-Packages-0.03-0/blib/lib:/tmp/loop_over_bdir-2354-ukUQqH/Business-Shipping-DataFiles-1.02-0/blib/arch:/tmp/loop_over_bdir-2354-ukUQqH/Business-Shipping-DataFiles-1.02-0/blib/lib:/tmp/loop_over_bdir-2354-ukUQqH/EJBCA-CrlPublish-0.60-0/blib/arch:/tmp/loop_over_bdir-2354-ukUQqH/EJBCA-CrlPublish-0.60-0/blib/lib:/tmp/loop_over_bdir-2354-ukUQqH/DBIx-Migration-Directories-0.12-0/blib/arch:/tmp/loop_over_bdir-2354-ukUQqH/DBIx-Migration-Directories-0.12-0/blib/lib:/tmp/loop_over_bdir-2354-ukUQqH/Devel-Required-0.16-0/blib/arch:/tmp/loop_over_bdir-2354-ukUQqH/Devel-Required-0.16-0/blib/lib:/tmp/loop_over_bdir-2354-ukUQqH/triceps-2.1.0-0/blib/arch:/tmp/loop_over_bdir-2354-ukUQqH/triceps-2.1.0-0/blib/lib:/tmp/loop_over_bdir-2354-ukUQqH/Dpkg-1.22.4-0/blib/arch:/tmp/loop_over_bdir-2354-ukUQqH/Dpkg-1.22.4-0/blib/lib:/tmp/loop_over_bdir-2354-ukUQqH/LCFG-Build-Skeleton-0.5.0-0/blib/arch:/tmp/loop_over_bdir-2354-ukUQqH/LCFG-Build-Skeleton-0.5.0-0/blib/lib:/tmp/loop_over_bdir-2354-ukUQqH/Lemonldap-NG-Cli-0.2-0/blib/arch:/tmp/loop_over_bdir-2354-ukUQqH/Lemonldap-NG-Cli-0.2-0/blib/lib"
    PERL5OPT=""
    PERL5_CPANPLUS_IS_RUNNING="2367"
    PERL5_CPAN_IS_RUNNING="2367"
    PERL_CANARY_STABILITY_NOPROMPT="1"
    PERL_MM_USE_DEFAULT="1"
    PERL_USE_UNSAFE_INC="1"
  @INC:
    /tmp/loop_over_bdir-2354-ukUQqH/Linux-InitFS-0.2-0/blib/arch
    /tmp/loop_over_bdir-2354-ukUQqH/Linux-InitFS-0.2-0/blib/lib
    /tmp/loop_over_bdir-2354-ukUQqH/Alien-SNMP-MIBDEV-2.020000-0/blib/arch
    /tmp/loop_over_bdir-2354-ukUQqH/Alien-SNMP-MIBDEV-2.020000-0/blib/lib
    /tmp/loop_over_bdir-2354-ukUQqH/makepp-1.19-0/blib/arch
    /tmp/loop_over_bdir-2354-ukUQqH/makepp-1.19-0/blib/lib
    /tmp/loop_over_bdir-2354-ukUQqH/CGI-Application-NetNewsIface-0.0204-0/blib/arch
    /tmp/loop_over_bdir-2354-ukUQqH/CGI-Application-NetNewsIface-0.0204-0/blib/lib
    /tmp/loop_over_bdir-2354-ukUQqH/Net-ISP-Balance-1.31-0/blib/arch
    /tmp/loop_over_bdir-2354-ukUQqH/Net-ISP-Balance-1.31-0/blib/lib
    /tmp/loop_over_bdir-2354-ukUQqH/Net-Async-WebService-lxd-0.03-0/blib/arch
    /tmp/loop_over_bdir-2354-ukUQqH/Net-Async-WebService-lxd-0.03-0/blib/lib
    /tmp/loop_over_bdir-2354-ukUQqH/CORBA-Python-2.66-0/blib/arch
    /tmp/loop_over_bdir-2354-ukUQqH/CORBA-Python-2.66-0/blib/lib
    /tmp/loop_over_bdir-2354-ukUQqH/Lingua-BioYaTeA-0.11-0/blib/arch
    /tmp/loop_over_bdir-2354-ukUQqH/Lingua-BioYaTeA-0.11-0/blib/lib
    /tmp/loop_over_bdir-2354-ukUQqH/Lingua-YaTeA-0.626-0/blib/arch
    /tmp/loop_over_bdir-2354-ukUQqH/Lingua-YaTeA-0.626-0/blib/lib
    /tmp/loop_over_bdir-2354-ukUQqH/shishi-0.0.1-0/blib/arch
    /tmp/loop_over_bdir-2354-ukUQqH/shishi-0.0.1-0/blib/lib
    /tmp/loop_over_bdir-2354-ukUQqH/App-nrun-v1.1.2-0/blib/arch
    /tmp/loop_over_bdir-2354-ukUQqH/App-nrun-v1.1.2-0/blib/lib
    /tmp/loop_over_bdir-2354-ukUQqH/App-rmcd-0.280-0/blib/arch
    /tmp/loop_over_bdir-2354-ukUQqH/App-rmcd-0.280-0/blib/lib
    /tmp/loop_over_bdir-2354-ukUQqH/App-oo_modulino_zsh_completion_helper-0.04-0/blib/arch
    /tmp/loop_over_bdir-2354-ukUQqH/App-oo_modulino_zsh_completion_helper-0.04-0/blib/lib
    /tmp/loop_over_bdir-2354-ukUQqH/LCFG-Build-Tools-0.9.30-0/blib/arch
    /tmp/loop_over_bdir-2354-ukUQqH/LCFG-Build-Tools-0.9.30-0/blib/lib
    /tmp/loop_over_bdir-2354-ukUQqH/NoZone-1.3-0/blib/arch
    /tmp/loop_over_bdir-2354-ukUQqH/NoZone-1.3-0/blib/lib
    /tmp/loop_over_bdir-2354-ukUQqH/downsexta-0/blib/arch
    /tmp/loop_over_bdir-2354-ukUQqH/downsexta-0/blib/lib
    /tmp/loop_over_bdir-2354-ukUQqH/dta-tokwrap-0.98-0/blib/arch
    /tmp/loop_over_bdir-2354-ukUQqH/dta-tokwrap-0.98-0/blib/lib
    /tmp/loop_over_bdir-2354-ukUQqH/Debian-Packages-0.03-0/blib/arch
    /tmp/loop_over_bdir-2354-ukUQqH/Debian-Packages-0.03-0/blib/lib
    /tmp/loop_over_bdir-2354-ukUQqH/Business-Shipping-DataFiles-1.02-0/blib/arch
    /tmp/loop_over_bdir-2354-ukUQqH/Business-Shipping-DataFiles-1.02-0/blib/lib
    /tmp/loop_over_bdir-2354-ukUQqH/EJBCA-CrlPublish-0.60-0/blib/arch
    /tmp/loop_over_bdir-2354-ukUQqH/EJBCA-CrlPublish-0.60-0/blib/lib
    /tmp/loop_over_bdir-2354-ukUQqH/DBIx-Migration-Directories-0.12-0/blib/arch
    /tmp/loop_over_bdir-2354-ukUQqH/DBIx-Migration-Directories-0.12-0/blib/lib
    /tmp/loop_over_bdir-2354-ukUQqH/Devel-Required-0.16-0/blib/arch
    /tmp/loop_over_bdir-2354-ukUQqH/Devel-Required-0.16-0/blib/lib
    /tmp/loop_over_bdir-2354-ukUQqH/triceps-2.1.0-0/blib/arch
    /tmp/loop_over_bdir-2354-ukUQqH/triceps-2.1.0-0/blib/lib
    /tmp/loop_over_bdir-2354-ukUQqH/Dpkg-1.22.4-0/blib/arch
    /tmp/loop_over_bdir-2354-ukUQqH/Dpkg-1.22.4-0/blib/lib
    /tmp/loop_over_bdir-2354-ukUQqH/LCFG-Build-Skeleton-0.5.0-0/blib/arch
    /tmp/loop_over_bdir-2354-ukUQqH/LCFG-Build-Skeleton-0.5.0-0/blib/lib
    /tmp/loop_over_bdir-2354-ukUQqH/Lemonldap-NG-Cli-0.2-0/blib/arch
    /tmp/loop_over_bdir-2354-ukUQqH/Lemonldap-NG-Cli-0.2-0/blib/lib
    /home/sand/src/perl/repoperls/installed-perls/host/k93focal/v5.39.8/b254/lib/site_perl/5.39.8/x86_64-linux
    /home/sand/src/perl/repoperls/installed-perls/host/k93focal/v5.39.8/b254/lib/site_perl/5.39.8
    /home/sand/src/perl/repoperls/installed-perls/host/k93focal/v5.39.8/b254/lib/5.39.8/x86_64-linux
    /home/sand/src/perl/repoperls/installed-perls/host/k93focal/v5.39.8/b254/lib/5.39.8
    .