Report for Algorithm-AM-3.05

Back
From: metabase:user:838e5b0a-2bb6-1016-a696-43a2537fa0c6
Subject: PASS Algorithm-AM-3.05 v5.18.1 
Date: 2014-10-21T16:08:19Z

This distribution has been tested as part of the CPAN Testers
project, supporting the Perl programming language.  See
http://wiki.cpantesters.org/ for more information or email
questions to cpan-testers-discuss@perl.org


--
Dear Nathan Gary Glenn,

This is a computer-generated report for Algorithm-AM-3.05
on perl 5.18.1, created by CPAN-Reporter-1.2011.

Thank you for uploading your work to CPAN.  Congratulations!
All tests were successful.

Sections of this report:

    * Tester comments
    * Program output
    * Prerequisites
    * Environment and other context

------------------------------
TESTER COMMENTS
------------------------------

Additional comments from tester:

this report is from an automated smoke testing program
and was not reviewed by a human for accuracy

------------------------------
PROGRAM OUTPUT
------------------------------

Output from 'C:\strawberry\c\bin\dmake.exe test':

C:\strawberry\perl\bin\perl.exe "-MExtUtils::Command::MM" "-MTest::Harness" "-e" "undef *Test::Harness::Switches; test_harness(0, 'blib\lib', 'blib\arch')" t/*.t
t/0-use_AM.t ........... ok
t/0-use_Batch.t ........ ok
# 
# Versions for all modules listed in MYMETA.json (including optional ones):
# 
# === Configure Requires ===
# 
#     Module              Want Have
#     ------------------- ---- ----
#     ExtUtils::MakeMaker 6.17 6.86
# 
# === Build Requires ===
# 
#     Module              Want Have
#     ------------------- ---- ----
#     ExtUtils::MakeMaker  any 6.86
# 
# === Test Requires ===
# 
#     Module              Want  Have
#     ------------------- ---- -----
#     ExtUtils::MakeMaker  any  6.86
#     File::Spec           any  3.40
#     FindBin              any  1.51
#     Test::Deep           any 0.110
#     Test::Exception      any  0.32
#     Test::LongString     any  0.16
#     Test::More          0.88  0.98
#     Test::NoWarnings     any  1.04
# 
# === Test Recommends ===
# 
#     Module         Want     Have
#     ---------- -------- --------
#     CPAN::Meta 2.120900 2.133380
# 
# === Runtime Requires ===
# 
#     Module         Want     Have
#     -------------- ---- --------
#     Carp            any     1.32
#     Class::Tiny     any    1.000
#     Crypt::PRNG     any    undef
#     Exporter::Easy  any     0.17
#     Import::Into    any 1.002000
#     Log::Any        any     0.15
#     Path::Tiny      any    0.059
#     Text::Table     any    1.130
#     XSLoader        any     0.16
#     feature         any     1.32
#     integer         any     1.00
#     strict          any     1.07
#     warnings        any     1.18
# 
t/00-report-prereqs.t .. ok
t/01-Item.t ............ ok
t/02-DataSet.t ......... ok
t/03-AM.t .............. ok
t/04-Result.t .......... ok
t/05-Bigint.t .......... ok
t/06-Batch.t ........... ok
t/07-Batch_hooks.t ..... ok
t/08-finnverb.t ........ ok
All tests successful.
Files=11, Tests=138,  4 wallclock secs ( 0.14 usr +  0.05 sys =  0.19 CPU)
Result: PASS

------------------------------
PREREQUISITES
------------------------------

Prerequisite modules loaded:

requires:

    Module              Need Have    
    ------------------- ---- --------
    Carp                0    1.32    
    Class::Tiny         0    1.000   
    Crypt::PRNG         0    0       
    Exporter::Easy      0    0.17    
    feature             0    1.32    
    Import::Into        0    1.002000
    integer             0    1.00    
    Log::Any            0    0.15    
    Path::Tiny          0    0.059   
    strict              0    1.07    
    Text::Table         0    1.130   
    warnings            0    1.18    
    XSLoader            0    0.16    

build_requires:

    Module              Need Have    
    ------------------- ---- --------
    ExtUtils::MakeMaker 0    6.86    
    File::Spec          0    3.40    
    FindBin             0    1.51    
    Test::Deep          0    0.110   
    Test::Exception     0    0.32    
    Test::LongString    0    0.16    
    Test::More          0.88 0.98    
    Test::NoWarnings    0    1.04    

configure_requires:

    Module              Need Have    
    ------------------- ---- --------
    ExtUtils::MakeMaker 6.17 6.86    


------------------------------
ENVIRONMENT AND OTHER CONTEXT
------------------------------

Environment variables:

    AUTOMATED_TESTING = 1
    COMSPEC = C:\Windows\system32\cmd.exe
    LD_LIBRARY_PATH = /usr/lib/x86:/usr/X11R6/lib
    NUMBER_OF_PROCESSORS = 4
    PATH = C:\Windows\system32;C:\Windows;C:\Windows\System32\Wbem;C:\Windows\System32\WindowsPowerShell\v1.0\;C:\RV\BIN;C:\Program Files (x86)\GnuWin32\bin;C:\Windows\System32\Windows System Resource Manager\bin;C:\Windows\SUA\common\;C:\Windows\SUA\usr\lib\;C:\strawberry\c\bin;C:\strawberry\perl\site\bin;C:\strawberry\perl\bin;C:\Program Files (x86)\Git\cmd
    PERL5LIB = C:\strawberry\cpan\build\Log-Any-0.15-SpufQC/blib/arch;C:\strawberry\cpan\build\Log-Any-0.15-SpufQC/blib/lib;C:\strawberry\cpan\build\Class-Tiny-1.000-APM_Vl/blib/arch;C:\strawberry\cpan\build\Class-Tiny-1.000-APM_Vl/blib/lib;C:\strawberry\cpan\build\CryptX-0.021-6769C6/blib/arch;C:\strawberry\cpan\build\CryptX-0.021-6769C6/blib/lib;C:\strawberry\cpan\build\Text-Table-1.130-8CM_tI/blib/arch;C:\strawberry\cpan\build\Text-Table-1.130-8CM_tI/blib/lib;C:\strawberry\cpan\build\Text-Aligner-0.12-vPOosJ/blib/arch;C:\strawberry\cpan\build\Text-Aligner-0.12-vPOosJ/blib/lib;C:\strawberry\cpan\build\Exporter-Easy-0.17-hVnuZC/blib/arch;C:\strawberry\cpan\build\Exporter-Easy-0.17-hVnuZC/blib/lib;C:\strawberry\cpan\build\Path-Tiny-0.059-Q9l3zX/blib/arch;C:\strawberry\cpan\build\Path-Tiny-0.059-Q9l3zX/blib/lib;C:\strawberry\cpan\build\Test-LongString-0.16-ZORSCF/blib/arch;C:\strawberry\cpan\build\Test-LongString-0.16-ZORSCF/blib/lib
    PERL5OPT = 
    PERL5_CPANPLUS_IS_RUNNING = 5888
    PERL5_CPAN_IS_RUNNING = 5888
    PERL5_CPAN_IS_RUNNING_IN_RECURSION = 5404,5888
    PERL_CR_SMOKER_CURRENT = Algorithm-AM-3.05
    PERL_EXTUTILS_AUTOINSTALL = --defaultdeps
    PERL_JSON_BACKEND = JSON::XS
    PERL_MM_USE_DEFAULT = 1
    PERL_YAML_BACKEND = YAML
    PROCESSOR_IDENTIFIER = Intel64 Family 6 Model 37 Stepping 1, GenuineIntel
    TEMP = C:\Users\SOLIMA~1\AppData\Local\Temp
    TERM = dumb

Perl special variables (and OS-specific diagnostics, for MSWin32):

    $^X = C:\strawberry\perl\bin\perl.exe
    $UID/$EUID = 0 / 0
    $GID = 0
    $EGID = 0
    Win32::GetOSName = Win2008
    Win32::GetOSVersion = Service Pack 1, 6, 1, 7601, 2, 1, 0, 272, 3
    Win32::FsType = NTFS
    Win32::IsAdminUser = 1

Perl module toolchain versions installed:

    Module              Have    
    ------------------- --------
    CPAN                2.05    
    CPAN::Meta          2.133380
    Cwd                 3.40    
    ExtUtils::CBuilder  0.280212
    ExtUtils::Command   1.18    
    ExtUtils::Install   1.59    
    ExtUtils::MakeMaker 6.86    
    ExtUtils::Manifest  1.63    
    ExtUtils::ParseXS   3.22    
    File::Spec          3.40    
    JSON                2.90    
    JSON::PP            2.27203 
    Module::Build       0.4204  
    Module::Signature   n/a     
    Parse::CPAN::Meta   1.4409  
    Test::Harness       3.30    
    Test::More          0.98    
    YAML                0.84    
    YAML::Syck          n/a     
    version             0.9904  


--

Summary of my perl5 (revision 5 version 18 subversion 1) configuration:
   
  Platform:
    osname=MSWin32, osvers=4.0, archname=MSWin32-x64-multi-thread
    uname='Win32 strawberry-perl 5.18.1.1 #1 Tue Aug 13 17:18:28 2013 x64'
    config_args='undef'
    hint=recommended, useposix=true, d_sigaction=undef
    useithreads=define, usemultiplicity=define
    useperlio=define, d_sfio=undef, uselargefiles=define, usesocks=undef
    use64bitint=define, use64bitall=undef, uselongdouble=undef
    usemymalloc=n, bincompat5005=undef
  Compiler:
    cc='gcc', ccflags =' -s -O2 -DWIN32 -DWIN64 -DCONSERVATIVE  -DPERL_TEXTMODE_SCRIPTS -DPERL_IMPLICIT_CONTEXT -DPERL_IMPLICIT_SYS -DUSE_PERLIO -fno-strict-aliasing -mms-bitfields',
    optimize='-s -O2',
    cppflags='-DWIN32'
    ccversion='', gccversion='4.7.3', gccosandvers=''
    intsize=4, longsize=4, ptrsize=8, doublesize=8, byteorder=12345678
    d_longlong=define, longlongsize=8, d_longdbl=define, longdblsize=12
    ivtype='long long', ivsize=8, nvtype='double', nvsize=8, Off_t='long long', lseeksize=8
    alignbytes=8, prototype=define
  Linker and Libraries:
    ld='g++', ldflags ='-s -L"C:\strawberry\perl\lib\CORE" -L"C:\strawberry\c\lib"'
    libpth=C:\strawberry\c\lib C:\strawberry\c\x86_64-w64-mingw32\lib
    libs=-lmoldname -lkernel32 -luser32 -lgdi32 -lwinspool -lcomdlg32 -ladvapi32 -lshell32 -lole32 -loleaut32 -lnetapi32 -luuid -lws2_32 -lmpr -lwinmm -lversion -lodbc32 -lodbccp32 -lcomctl32
    perllibs=-lmoldname -lkernel32 -luser32 -lgdi32 -lwinspool -lcomdlg32 -ladvapi32 -lshell32 -lole32 -loleaut32 -lnetapi32 -luuid -lws2_32 -lmpr -lwinmm -lversion -lodbc32 -lodbccp32 -lcomctl32
    libc=, so=dll, useshrplib=true, libperl=libperl518.a
    gnulibc_version=''
  Dynamic Linking:
    dlsrc=dl_win32.xs, dlext=dll, d_dlsymun=undef, ccdlflags=' '
    cccdlflags=' ', lddlflags='-mdll -s -L"C:\strawberry\perl\lib\CORE" -L"C:\strawberry\c\lib"'


Characteristics of this binary (from libperl): 
  Compile-time options: HAS_TIMES HAVE_INTERP_INTERN MULTIPLICITY
                        PERLIO_LAYERS PERL_DONT_CREATE_GVSV
                        PERL_HASH_FUNC_ONE_AT_A_TIME_HARD
                        PERL_IMPLICIT_CONTEXT PERL_IMPLICIT_SYS
                        PERL_MALLOC_WRAP PERL_PRESERVE_IVUV PERL_SAWAMPERSAND
                        USE_64_BIT_INT USE_ITHREADS USE_LARGE_FILES
                        USE_LOCALE USE_LOCALE_COLLATE USE_LOCALE_CTYPE
                        USE_LOCALE_NUMERIC USE_PERLIO USE_PERL_ATOF
  Built under MSWin32
  Compiled at Aug 13 2013 17:23:34
  %ENV:
    PERL5LIB="C:\strawberry\cpan\build\Log-Any-0.15-SpufQC/blib/arch;C:\strawberry\cpan\build\Log-Any-0.15-SpufQC/blib/lib;C:\strawberry\cpan\build\Class-Tiny-1.000-APM_Vl/blib/arch;C:\strawberry\cpan\build\Class-Tiny-1.000-APM_Vl/blib/lib;C:\strawberry\cpan\build\CryptX-0.021-6769C6/blib/arch;C:\strawberry\cpan\build\CryptX-0.021-6769C6/blib/lib;C:\strawberry\cpan\build\Text-Table-1.130-8CM_tI/blib/arch;C:\strawberry\cpan\build\Text-Table-1.130-8CM_tI/blib/lib;C:\strawberry\cpan\build\Text-Aligner-0.12-vPOosJ/blib/arch;C:\strawberry\cpan\build\Text-Aligner-0.12-vPOosJ/blib/lib;C:\strawberry\cpan\build\Exporter-Easy-0.17-hVnuZC/blib/arch;C:\strawberry\cpan\build\Exporter-Easy-0.17-hVnuZC/blib/lib;C:\strawberry\cpan\build\Path-Tiny-0.059-Q9l3zX/blib/arch;C:\strawberry\cpan\build\Path-Tiny-0.059-Q9l3zX/blib/lib;C:\strawberry\cpan\build\Test-LongString-0.16-ZORSCF/blib/arch;C:\strawberry\cpan\build\Test-LongString-0.16-ZORSCF/blib/lib"
    PERL5_CPANPLUS_IS_RUNNING="5888"
    PERL5_CPAN_IS_RUNNING="5888"
    PERL5_CPAN_IS_RUNNING_IN_RECURSION="5404,5888"
    PERL_CR_SMOKER_CURRENT="Algorithm-AM-3.05"
    PERL_EXTUTILS_AUTOINSTALL="--defaultdeps"
    PERL_JSON_BACKEND="JSON::XS"
    PERL_MM_USE_DEFAULT="1"
    PERL_YAML_BACKEND="YAML"
  @INC:
    C:\strawberry\cpan\build\Log-Any-0.15-SpufQC/blib/arch
    C:\strawberry\cpan\build\Log-Any-0.15-SpufQC/blib/lib
    C:\strawberry\cpan\build\Class-Tiny-1.000-APM_Vl/blib/arch
    C:\strawberry\cpan\build\Class-Tiny-1.000-APM_Vl/blib/lib
    C:\strawberry\cpan\build\CryptX-0.021-6769C6/blib/arch
    C:\strawberry\cpan\build\CryptX-0.021-6769C6/blib/lib
    C:\strawberry\cpan\build\Text-Table-1.130-8CM_tI/blib/arch
    C:\strawberry\cpan\build\Text-Table-1.130-8CM_tI/blib/lib
    C:\strawberry\cpan\build\Text-Aligner-0.12-vPOosJ/blib/arch
    C:\strawberry\cpan\build\Text-Aligner-0.12-vPOosJ/blib/lib
    C:\strawberry\cpan\build\Exporter-Easy-0.17-hVnuZC/blib/arch
    C:\strawberry\cpan\build\Exporter-Easy-0.17-hVnuZC/blib/lib
    C:\strawberry\cpan\build\Path-Tiny-0.059-Q9l3zX/blib/arch
    C:\strawberry\cpan\build\Path-Tiny-0.059-Q9l3zX/blib/lib
    C:\strawberry\cpan\build\Test-LongString-0.16-ZORSCF/blib/arch
    C:\strawberry\cpan\build\Test-LongString-0.16-ZORSCF/blib/lib
    C:/strawberry/perl/site/lib
    C:/strawberry/perl/vendor/lib
    C:/strawberry/perl/lib
    .