Form-Tiny v2.26 Perl 5 v5.20.2 x86_64-linux-thread-multi
- Status
- Pass
- From
- Andreas J. König (ANDK)
- Dist
-
Form-Tiny v2.26
- Platform
- Perl 5 v5.20.2 x86_64-linux-thread-multi
- Date
- 2025-02-21 16:17:52
- ID
- 66c89bb6-f06f-11ef-bb5e-fe865a88026f
This distribution has been tested as part of the CPAN Testers
project, supporting the Perl programming language. See
http://wiki.cpantesters.org/ for more information or email
questions to cpan-testers-discuss@perl.org
--
Dear Bartosz Jarzyna,
This is a computer-generated report for Form-Tiny-2.26
on perl 5.20.2, created by CPAN-Reporter-1.2018.
Thank you for uploading your work to CPAN. Congratulations!
All tests were successful.
Sections of this report:
* Tester comments
* Program output
* Prerequisites
* Environment and other context
------------------------------
TESTER COMMENTS
------------------------------
Additional comments from tester:
this report is from an automated smoke testing program
and was not reviewed by a human for accuracy
------------------------------
PROGRAM OUTPUT
------------------------------
Output from '/usr/bin/make test':
PERL_DL_NONLAZY=1 "/home/sand/src/perl/repoperls/installed-perls/host/k93msid/v5.20.2/1e0c/bin/perl" "-MExtUtils::Command::MM" "-MTest::Harness" "-e" "undef *Test::Harness::Switches; test_harness(0, 'blib/lib', 'blib/arch')" t/*.t t/500-subforms/*.t t/800-inheritance/*.t t/900-plugins/*.t t/990-examples/*.t t/999-bugfixes/*.t
t/010-no-arguments.t ........................ ok
t/011-no-moo.t .............................. ok
t/012-names.t ............................... ok
t/013-meta.t ................................ ok
t/014-cloning.t ............................. ok
t/020-inline.t .............................. ok
t/030-errors.t .............................. ok
t/031-adding-errors.t ....................... ok
t/032-errors-hash.t ......................... ok
t/040-format.t .............................. ok
t/050-required.t ............................ ok
t/060-strictness.t .......................... ok
t/070-filtering.t ........................... ok
t/071-field-filtering.t ..................... ok
t/080-adjustments.t ......................... ok
t/090-cleaning.t ............................ ok
t/100-subroutines.t ......................... ok
t/110-tiny-types.t .......................... ok
t/120-tiny-types-coerce.t ................... ok
t/130-arrays.t .............................. ok
t/140-arrays-required.t ..................... ok
t/150-nested-hash.t ......................... ok
t/160-nested-form.t ......................... ok
t/170-nested-mixed.t ........................ ok
t/180-triple-nest.t ......................... ok
t/190-hooks.t ............................... ok
t/200-data.t ................................ ok
t/210-helpers.t ............................. ok
t/220-default.t ............................. ok
t/221-default-flat.t ........................ ok
t/230-nesting-escape.t ...................... ok
t/240-context.t ............................. ok
t/250-messages.t ............................ ok
t/251-form-messages.t ....................... ok
t/260-additional-validators.t ............... ok
t/270-consistent-api.t ...................... ok
t/280-blueprint.t ........................... ok
t/281-dynamic-blueprint.t ................... ok
t/290-custom-field-defs.t ................... ok
t/300-value.t ............................... ok
t/500-subforms/01-default.t ................. ok
t/500-subforms/02-message.t ................. ok
t/500-subforms/03-array-of-subforms.t ....... ok
t/800-inheritance/010-simple.t .............. ok
t/800-inheritance/020-plugins.t ............. ok
t/900-plugins/010-subroutine.t .............. ok
t/900-plugins/020-role.t .................... ok
t/900-plugins/030-metarole.t ................ ok
t/990-examples/010-inline-form.t ............ ok
t/990-examples/020-metaobject.t ............. ok
t/990-examples/030-regular-form.t ........... ok
t/999-bugfixes/001-3-plugins-array.t ........ ok
t/999-bugfixes/002-8-empty-form.t ........... ok
t/999-bugfixes/003-14-nested-form-errors.t .. ok
t/author-01-object-pad.t .................... skipped: these tests are for testing by the author
t/author-02-bless.t ......................... skipped: these tests are for testing by the author
t/author-03-autoclean.t ..................... skipped: these tests are for testing by the author
t/author-pod-syntax.t ....................... skipped: these tests are for testing by the author
All tests successful.
Files=58, Tests=559, 25 wallclock secs ( 0.26 usr 0.11 sys + 11.94 cusr 2.03 csys = 14.34 CPU)
Result: PASS
------------------------------
PREREQUISITES
------------------------------
Prerequisite modules loaded:
requires:
Module Need Have
------------------- -------- --------
Import::Into 0 1.002005
Moo 2.000000 2.005005
perl 5.010 5.020002
Sub::Util 0 1.68
Type::Tiny 1.004000 2.004000
build_requires:
Module Need Have
------------------- -------- --------
ExtUtils::MakeMaker 0 7.70
Test::Exception 0 0.43
configure_requires:
Module Need Have
------------------- -------- --------
ExtUtils::MakeMaker 0 7.70
------------------------------
ENVIRONMENT AND OTHER CONTEXT
------------------------------
Environment variables:
AUTOMATED_TESTING = 1
LANG = en_US.UTF-8
LANGUAGE = en_US:en
PATH = /home/sand/bin:/usr/local/bin:/usr/bin:/bin:/usr/games:/usr/local/perl/bin:/usr/X11/bin:/sbin:/usr/sbin
PERL5LIB =
PERL5OPT =
PERL5_CPANPLUS_IS_RUNNING = 27090
PERL5_CPAN_IS_RUNNING = 27090
PERL_CANARY_STABILITY_NOPROMPT = 1
PERL_MM_USE_DEFAULT = 1
PERL_USE_UNSAFE_INC = 1
SHELL = /usr/bin/zsh
TERM = screen
Perl special variables (and OS-specific diagnostics, for MSWin32):
$^X = /home/sand/src/perl/repoperls/installed-perls/host/k93msid/v5.20.2/1e0c/bin/perl
$UID/$EUID = 1005 / 1005
$GID = 1005 1005
$EGID = 1005 1005
Perl module toolchain versions installed:
Module Have
------------------- --------
CPAN 2.38
CPAN::Meta 2.150010
Cwd 3.75
ExtUtils::CBuilder 0.280236
ExtUtils::Command 7.70
ExtUtils::Install 2.06
ExtUtils::MakeMaker 7.70
ExtUtils::Manifest 1.75
ExtUtils::ParseXS 3.51
File::Spec 3.75
JSON 4.10
JSON::PP 4.16
Module::Build 0.4234
Module::Signature 0.88
Parse::CPAN::Meta 2.150010
Test::Harness 3.44
Test::More 1.302204
YAML 1.30
YAML::Syck 1.34
version 0.9929
--
Summary of my perl5 (revision 5 version 20 subversion 2) configuration:
Derived from: c05ce579b6dae0f955ff8922469d49f95f4bf6fd
Platform:
osname=linux, osvers=5.19.0-2-amd64, archname=x86_64-linux-thread-multi
uname='linux k93msid 5.19.0-2-amd64 #1 smp preempt_dynamic debian 5.19.11-1 (2022-09-24) x86_64 gnulinux '
config_args='-Dprefix=/home/sand/src/perl/repoperls/installed-perls/host/k93msid/v5.20.2/1e0c -Dmyhostname=k93msid -Dinstallusrbinperl=n -Uversiononly -Dusedevel -des -Ui_db -Dlibswanted=cl pthread socket inet nsl gdbm dbm malloc dl ld sun m crypt sec util c cposix posix ucb BSD gdbm_compat -Duseithreads -Uuselongdouble -DEBUGGING=-g'
hint=recommended, useposix=true, d_sigaction=define
useithreads=define, usemultiplicity=define
use64bitint=define, use64bitall=define, uselongdouble=undef
usemymalloc=n, bincompat5005=undef
Compiler:
cc='cc', ccflags ='-D_REENTRANT -D_GNU_SOURCE -fwrapv -fno-strict-aliasing -pipe -fstack-protector -I/usr/local/include -D_LARGEFILE_SOURCE -D_FILE_OFFSET_BITS=64',
optimize='-O2 -g',
cppflags='-D_REENTRANT -D_GNU_SOURCE -fwrapv -fno-strict-aliasing -pipe -fstack-protector -I/usr/local/include'
ccversion='', gccversion='12.2.0', gccosandvers=''
intsize=4, longsize=8, ptrsize=8, doublesize=8, byteorder=12345678
d_longlong=define, longlongsize=8, d_longdbl=define, longdblsize=16
ivtype='long', ivsize=8, nvtype='double', nvsize=8, Off_t='off_t', lseeksize=8
alignbytes=8, prototype=define
Linker and Libraries:
ld='cc', ldflags =' -fstack-protector -L/usr/local/lib'
libpth=/usr/local/lib /usr/include/x86_64-linux-gnu /usr/lib /lib/x86_64-linux-gnu /lib/../lib /usr/lib/x86_64-linux-gnu /usr/lib/../lib /lib /lib64 /usr/lib64
libs=-lpthread -lnsl -ldl -lm -lcrypt -lutil -lc
perllibs=-lpthread -lnsl -ldl -lm -lcrypt -lutil -lc
libc=/lib/x86_64-linux-gnu/libc.so.6, so=so, useshrplib=false, libperl=libperl.a
gnulibc_version='2.35'
Dynamic Linking:
dlsrc=dl_dlopen.xs, dlext=so, d_dlsymun=undef, ccdlflags='-Wl,-E'
cccdlflags='-fPIC', lddlflags='-shared -O2 -g -L/usr/local/lib -fstack-protector'
Characteristics of this binary (from libperl):
Compile-time options: HAS_TIMES MULTIPLICITY PERLIO_LAYERS
PERL_DONT_CREATE_GVSV
PERL_HASH_FUNC_ONE_AT_A_TIME_HARD
PERL_IMPLICIT_CONTEXT PERL_MALLOC_WRAP
PERL_NEW_COPY_ON_WRITE PERL_PRESERVE_IVUV
PERL_USE_DEVEL USE_64_BIT_ALL USE_64_BIT_INT
USE_ITHREADS USE_LARGE_FILES USE_LOCALE
USE_LOCALE_COLLATE USE_LOCALE_CTYPE
USE_LOCALE_NUMERIC USE_PERLIO USE_PERL_ATOF
USE_REENTRANT_API
Locally applied patches:
uncommitted-changes
Built under linux
Compiled at Dec 2 2022 15:22:00
%ENV:
PERL5LIB=""
PERL5OPT=""
PERL5_CPANPLUS_IS_RUNNING="27090"
PERL5_CPAN_IS_RUNNING="27090"
PERL_CANARY_STABILITY_NOPROMPT="1"
PERL_MM_USE_DEFAULT="1"
PERL_USE_UNSAFE_INC="1"
@INC:
/home/sand/src/perl/repoperls/installed-perls/host/k93msid/v5.20.2/1e0c/lib/site_perl/5.20.2/x86_64-linux-thread-multi
/home/sand/src/perl/repoperls/installed-perls/host/k93msid/v5.20.2/1e0c/lib/site_perl/5.20.2
/home/sand/src/perl/repoperls/installed-perls/host/k93msid/v5.20.2/1e0c/lib/5.20.2/x86_64-linux-thread-multi
/home/sand/src/perl/repoperls/installed-perls/host/k93msid/v5.20.2/1e0c/lib/5.20.2
.