DateTime-Format-Intl vv0.1.8 Perl 5 v5.22.3 MSWin32-x64-multi-thread

Status
Pass
From
twata
Dist
DateTime-Format-Intl vv0.1.8
Platform
Perl 5 v5.22.3 MSWin32-x64-multi-thread
Date
2025-01-13 06:18:25
ID
6673e4d5-6c31-1014-b59f-ce46cb952333
This distribution has been tested as part of the CPAN Testers
project, supporting the Perl programming language.  See
http://wiki.cpantesters.org/ for more information or email
questions to cpan-testers-discuss@perl.org


--
Dear Jacques Deguest,

This is a computer-generated report for DateTime-Format-Intl-v0.1.8
on perl 5.22.3, created by CPAN-Reporter-1.2020.

Thank you for uploading your work to CPAN.  Congratulations!
All tests were successful.

Sections of this report:

    * Tester comments
    * Program output
    * Prerequisites
    * Environment and other context

------------------------------
TESTER COMMENTS
------------------------------

Additional comments from tester:

none provided

------------------------------
PROGRAM OUTPUT
------------------------------

Output from 'C:\strawberry\c\bin\dmake.exe test':

C:\"Strawberry\perl\bin\perl.exe" "-MExtUtils::Command::MM" "-MTest::Harness" "-e" "undef *Test::Harness::Switches; test_harness(0, 'blib\lib', 'blib\arch')" t/*.t
t/001_load.t ....................... ok
t/002_methods.t .................... ok
Warning only: unsupported numbering system provided (jpanfin) via the locale "nu" extension (ja-Kana-JP-u-ca-gregory-nu-jpanfin-tz-jptyo). at lib/DateTime/Format/Intl.pm line 357.
Warning only: unsupported numbering system provided (jpanfin) via the locale "nu" extension (ja-Kana-JP-u-ca-gregory-nu-jpanfin-tz-jptyo). at lib/DateTime/Format/Intl.pm line 357.
Warning only: unsupported numbering system provided (arab) via the locale "nu" extension (ar-EG-u-ca-gregory-nu-arab-tz-egcai). at lib/DateTime/Format/Intl.pm line 357.
t/003_resolved_options.t ........... ok
t/004_supported_locales_of.t ....... ok
t/005_select_best_pattern.t ........ ok
t/006_format.t ..................... ok
Use of uninitialized value in join or string at C:\home\windmill\perl5\lib\perl5/DateTime/Locale/FromCLDR.pm line 471.
Warning: something's wrong at C:\home\windmill\perl5\lib\perl5/DateTime/Locale/FromCLDR.pm line 482.
Use of uninitialized value in join or string at C:\home\windmill\perl5\lib\perl5/DateTime/Locale/FromCLDR.pm line 471.
Warning: something's wrong at C:\home\windmill\perl5\lib\perl5/DateTime/Locale/FromCLDR.pm line 482.
Use of uninitialized value in join or string at C:\home\windmill\perl5\lib\perl5/DateTime/Locale/FromCLDR.pm line 471.
Warning: something's wrong at C:\home\windmill\perl5\lib\perl5/DateTime/Locale/FromCLDR.pm line 482.
Use of uninitialized value in join or string at C:\home\windmill\perl5\lib\perl5/DateTime/Locale/FromCLDR.pm line 471.
Warning: something's wrong at C:\home\windmill\perl5\lib\perl5/DateTime/Locale/FromCLDR.pm line 482.
Use of uninitialized value in join or string at C:\home\windmill\perl5\lib\perl5/DateTime/Locale/FromCLDR.pm line 471.
Warning: something's wrong at C:\home\windmill\perl5\lib\perl5/DateTime/Locale/FromCLDR.pm line 482.
Use of uninitialized value in join or string at C:\home\windmill\perl5\lib\perl5/DateTime/Locale/FromCLDR.pm line 471.
Warning: something's wrong at C:\home\windmill\perl5\lib\perl5/DateTime/Locale/FromCLDR.pm line 482.
Use of uninitialized value in join or string at C:\home\windmill\perl5\lib\perl5/DateTime/Locale/FromCLDR.pm line 471.
Warning: something's wrong at C:\home\windmill\perl5\lib\perl5/DateTime/Locale/FromCLDR.pm line 482.
Use of uninitialized value in join or string at C:\home\windmill\perl5\lib\perl5/DateTime/Locale/FromCLDR.pm line 471.
Warning: something's wrong at C:\home\windmill\perl5\lib\perl5/DateTime/Locale/FromCLDR.pm line 482.
t/007_select_best_range_pattern.t .. ok
Use of uninitialized value in join or string at C:\home\windmill\perl5\lib\perl5/DateTime/Locale/FromCLDR.pm line 471.
Warning: something's wrong at C:\home\windmill\perl5\lib\perl5/DateTime/Locale/FromCLDR.pm line 482.
Use of uninitialized value in join or string at C:\home\windmill\perl5\lib\perl5/DateTime/Locale/FromCLDR.pm line 471.
Warning: something's wrong at C:\home\windmill\perl5\lib\perl5/DateTime/Locale/FromCLDR.pm line 482.
Use of uninitialized value in join or string at C:\home\windmill\perl5\lib\perl5/DateTime/Locale/FromCLDR.pm line 471.
Warning: something's wrong at C:\home\windmill\perl5\lib\perl5/DateTime/Locale/FromCLDR.pm line 482.
Use of uninitialized value in join or string at C:\home\windmill\perl5\lib\perl5/DateTime/Locale/FromCLDR.pm line 471.
Warning: something's wrong at C:\home\windmill\perl5\lib\perl5/DateTime/Locale/FromCLDR.pm line 482.
Use of uninitialized value in join or string at C:\home\windmill\perl5\lib\perl5/DateTime/Locale/FromCLDR.pm line 471.
Warning: something's wrong at C:\home\windmill\perl5\lib\perl5/DateTime/Locale/FromCLDR.pm line 482.
Use of uninitialized value in join or string at C:\home\windmill\perl5\lib\perl5/DateTime/Locale/FromCLDR.pm line 471.
Warning: something's wrong at C:\home\windmill\perl5\lib\perl5/DateTime/Locale/FromCLDR.pm line 482.
Use of uninitialized value in join or string at C:\home\windmill\perl5\lib\perl5/DateTime/Locale/FromCLDR.pm line 471.
Warning: something's wrong at C:\home\windmill\perl5\lib\perl5/DateTime/Locale/FromCLDR.pm line 482.
Use of uninitialized value in join or string at C:\home\windmill\perl5\lib\perl5/DateTime/Locale/FromCLDR.pm line 471.
Warning: something's wrong at C:\home\windmill\perl5\lib\perl5/DateTime/Locale/FromCLDR.pm line 482.
t/008_format_range.t ............... ok
t/009_date_time_combination.t ...... ok
t/010_format_to_parts.t ............ ok
Use of uninitialized value in join or string at C:\home\windmill\perl5\lib\perl5/DateTime/Locale/FromCLDR.pm line 471.
Warning: something's wrong at C:\home\windmill\perl5\lib\perl5/DateTime/Locale/FromCLDR.pm line 482.
Use of uninitialized value in join or string at C:\home\windmill\perl5\lib\perl5/DateTime/Locale/FromCLDR.pm line 471.
Warning: something's wrong at C:\home\windmill\perl5\lib\perl5/DateTime/Locale/FromCLDR.pm line 482.
Use of uninitialized value in join or string at C:\home\windmill\perl5\lib\perl5/DateTime/Locale/FromCLDR.pm line 471.
Warning: something's wrong at C:\home\windmill\perl5\lib\perl5/DateTime/Locale/FromCLDR.pm line 482.
Use of uninitialized value in join or string at C:\home\windmill\perl5\lib\perl5/DateTime/Locale/FromCLDR.pm line 471.
Warning: something's wrong at C:\home\windmill\perl5\lib\perl5/DateTime/Locale/FromCLDR.pm line 482.
Use of uninitialized value in join or string at C:\home\windmill\perl5\lib\perl5/DateTime/Locale/FromCLDR.pm line 471.
Warning: something's wrong at C:\home\windmill\perl5\lib\perl5/DateTime/Locale/FromCLDR.pm line 482.
Use of uninitialized value in join or string at C:\home\windmill\perl5\lib\perl5/DateTime/Locale/FromCLDR.pm line 471.
Warning: something's wrong at C:\home\windmill\perl5\lib\perl5/DateTime/Locale/FromCLDR.pm line 482.
Use of uninitialized value in join or string at C:\home\windmill\perl5\lib\perl5/DateTime/Locale/FromCLDR.pm line 471.
Warning: something's wrong at C:\home\windmill\perl5\lib\perl5/DateTime/Locale/FromCLDR.pm line 482.
Use of uninitialized value in join or string at C:\home\windmill\perl5\lib\perl5/DateTime/Locale/FromCLDR.pm line 471.
Warning: something's wrong at C:\home\windmill\perl5\lib\perl5/DateTime/Locale/FromCLDR.pm line 482.
t/011_format_range_to_parts.t ...... ok
t/900_pod.t ........................ skipped: These tests are for author or release candidate testing
t/910_coverage.t ................... skipped: These tests are for author or release candidate testing
t/920_manifest.t ................... skipped: Author tests not required for installation
t/930_signature.t .................. skipped: Set the environment variable AUTHOR_TESTING to enable this test.
t/999_kwalitee.t ................... skipped: These tests are for author or release candidate testing
All tests successful.
Files=16, Tests=467, 424 wallclock secs ( 0.42 usr +  0.13 sys =  0.55 CPU)
Result: PASS

------------------------------
PREREQUISITES
------------------------------

Prerequisite modules loaded:

requires:

    Module                     Need     Have    
    -------------------------- -------- --------
    DateTime                   0.42     1.65    
    DateTime::Format::Unicode  v0.1.6   v0.1.6  
    DateTime::Locale::FromCLDR v0.6.1   v0.6.1  
    Locale::Intl               v0.1.3   v0.1.3  
    Locale::Unicode::Data      v1.3.2   v1.3.2  
    parent                     0        0.244   
    perl                       5.010001 5.022003
    Scalar::Util               0        1.68    
    strict                     0        1.09    
    vars                       0        1.03    
    Want                       0.17     0.29    
    warnings                   0        1.34    
    warnings::register         0        1.04    

build_requires:

    Module                     Need     Have    
    -------------------------- -------- --------
    ExtUtils::MakeMaker        0        7.71_02 
    lib                        0.63     0.63    
    open                       0        1.10    
    Test::More                 1.302120 1.302207
    Test::Pod                  1.52     1.52    
    utf8                       0        1.17    

configure_requires:

    Module                     Need     Have    
    -------------------------- -------- --------
    ExtUtils::MakeMaker        0        7.71_02 


------------------------------
ENVIRONMENT AND OTHER CONTEXT
------------------------------

Environment variables:

    COMSPEC = C:\WINDOWS\system32\cmd.exe
    NONINTERACTIVE_TESTING = 1
    NUMBER_OF_PROCESSORS = 4
    PATH = C:\home\windmill\perl5\bin;C:\WINDOWS\system32;C:\WINDOWS;C:\WINDOWS\System32\Wbem;C:\WINDOWS\System32\WindowsPowerShell\v1.0\;C:\Strawberry\c\bin;C:\Strawberry\perl\site\bin;C:\Strawberry\perl\bin
    PERL5LIB = C:\home\windmill\perl5\lib\perl5
    PERL5OPT = 
    PERL5_CPANPLUS_IS_RUNNING = 5492
    PERL5_CPAN_IS_RUNNING = 5492
    PERL_LOCAL_LIB_ROOT = C:\home\windmill\perl5
    PERL_MB_OPT = --install_base "C:\\home\\windmill\\perl5"
    PERL_MM_OPT = INSTALL_BASE=C:\\home\\windmill\\perl5
    PERL_MM_USE_DEFAULT = 1
    PERL_USE_UNSAFE_INC = 1
    PROCESSOR_IDENTIFIER = Intel64 Family 6 Model 58 Stepping 9, GenuineIntel
    TEMP = C:\Users\USER\AppData\Local\Temp
    TERM = dumb

Perl special variables (and OS-specific diagnostics, for MSWin32):

    $^X = C:\Strawberry\perl\bin\perl.exe
    $UID/$EUID = 0 / 0
    $GID = 0
    $EGID = 0
    Win32::GetOSName = Win8.1
    Win32::GetOSVersion = , 6, 3, 9600, 2, 0, 0, 256, 1
    Win32::FsType = NTFS
    Win32::IsAdminUser = 0

Perl module toolchain versions installed:

    Module              Have    
    ------------------- --------
    CPAN                2.34    
    CPAN::Meta          2.150010
    Cwd                 3.75    
    ExtUtils::CBuilder  0.280236
    ExtUtils::Command   7.71_02 
    ExtUtils::Install   2.22    
    ExtUtils::MakeMaker 7.71_02 
    ExtUtils::Manifest  1.75    
    ExtUtils::ParseXS   3.51    
    File::Spec          3.75    
    JSON                4.10    
    JSON::PP            4.17_01 
    Module::Build       0.42_35 
    Module::Signature   0.89    
    Parse::CPAN::Meta   2.150010
    Test2               1.302207
    Test::Harness       3.50    
    Test::More          1.302207
    YAML                1.31    
    YAML::Syck          1.34    
    version             0.9933  


--

Summary of my perl5 (revision 5 version 22 subversion 3) configuration:
   
  Platform:
    osname=MSWin32, osvers=6.3, archname=MSWin32-x64-multi-thread
    uname='Win32 strawberry-perl 5.22.3.1 #1 Sun Jan 15 04:42:16 2017 x64'
    config_args='undef'
    hint=recommended, useposix=true, d_sigaction=undef
    useithreads=define, usemultiplicity=define
    use64bitint=define, use64bitall=undef, uselongdouble=undef
    usemymalloc=n, bincompat5005=undef
  Compiler:
    cc='gcc', ccflags =' -s -O2 -DWIN32 -DWIN64 -DCONSERVATIVE  -DPERL_TEXTMODE_SCRIPTS -DPERL_IMPLICIT_CONTEXT -DPERL_IMPLICIT_SYS -fwrapv -fno-strict-aliasing -mms-bitfields',
    optimize='-s -O2',
    cppflags='-DWIN32'
    ccversion='', gccversion='4.9.2', gccosandvers=''
    intsize=4, longsize=4, ptrsize=8, doublesize=8, byteorder=12345678, doublekind=3
    d_longlong=define, longlongsize=8, d_longdbl=define, longdblsize=16, longdblkind=3
    ivtype='long long', ivsize=8, nvtype='double', nvsize=8, Off_t='long long', lseeksize=8
    alignbytes=8, prototype=define
  Linker and Libraries:
    ld='g++', ldflags ='-s -L"C:\strawberry\perl\lib\CORE" -L"C:\strawberry\c\lib"'
    libpth=C:\strawberry\c\lib C:\strawberry\c\x86_64-w64-mingw32\lib C:\strawberry\c\lib\gcc\x86_64-w64-mingw32\4.9.2
    libs=-lmoldname -lkernel32 -luser32 -lgdi32 -lwinspool -lcomdlg32 -ladvapi32 -lshell32 -lole32 -loleaut32 -lnetapi32 -luuid -lws2_32 -lmpr -lwinmm -lversion -lodbc32 -lodbccp32 -lcomctl32
    perllibs=-lmoldname -lkernel32 -luser32 -lgdi32 -lwinspool -lcomdlg32 -ladvapi32 -lshell32 -lole32 -loleaut32 -lnetapi32 -luuid -lws2_32 -lmpr -lwinmm -lversion -lodbc32 -lodbccp32 -lcomctl32
    libc=, so=dll, useshrplib=true, libperl=libperl522.a
    gnulibc_version=''
  Dynamic Linking:
    dlsrc=dl_win32.xs, dlext=xs.dll, d_dlsymun=undef, ccdlflags=' '
    cccdlflags=' ', lddlflags='-mdll -s -L"C:\strawberry\perl\lib\CORE" -L"C:\strawberry\c\lib"'


Characteristics of this binary (from libperl): 
  Compile-time options: HAS_TIMES HAVE_INTERP_INTERN MULTIPLICITY
                        PERLIO_LAYERS PERL_DONT_CREATE_GVSV
                        PERL_HASH_FUNC_ONE_AT_A_TIME_HARD
                        PERL_IMPLICIT_CONTEXT PERL_IMPLICIT_SYS
                        PERL_MALLOC_WRAP PERL_NEW_COPY_ON_WRITE
                        PERL_PRESERVE_IVUV USE_64_BIT_INT USE_ITHREADS
                        USE_LARGE_FILES USE_LOCALE USE_LOCALE_COLLATE
                        USE_LOCALE_CTYPE USE_LOCALE_NUMERIC USE_LOCALE_TIME
                        USE_PERLIO USE_PERL_ATOF
  Built under MSWin32
  Compiled at Jan 15 2017 04:47:34
  %ENV:
    PERL5LIB="C:\home\windmill\perl5\lib\perl5"
    PERL5_CPANPLUS_IS_RUNNING="5492"
    PERL5_CPAN_IS_RUNNING="5492"
    PERL_LOCAL_LIB_ROOT="C:\home\windmill\perl5"
    PERL_MB_OPT="--install_base "C:\\home\\windmill\\perl5""
    PERL_MM_OPT="INSTALL_BASE=C:\\home\\windmill\\perl5"
    PERL_MM_USE_DEFAULT="1"
    PERL_USE_UNSAFE_INC="1"
  @INC:
    C:\home\windmill\perl5\lib\perl5/MSWin32-x64-multi-thread
    C:\home\windmill\perl5\lib\perl5
    C:/Strawberry/perl/site/lib
    C:/Strawberry/perl/vendor/lib
    C:/Strawberry/perl/lib
    .