Mojolicious-Plugin-TtRenderer v1.62 Perl 5 v5.35.6 x86_64-linux-thread-multi
- Status
- Pass
- From
- Andreas J. König (ANDK)
- Dist
-
Mojolicious-Plugin-TtRenderer v1.62
- Platform
- Perl 5 v5.35.6 x86_64-linux-thread-multi
- Date
- 2021-10-24 22:33:24
- ID
- 664f207e-351a-11ec-ba80-d75588d3e19d
This distribution has been tested as part of the CPAN Testers
project, supporting the Perl programming language. See
http://wiki.cpantesters.org/ for more information or email
questions to cpan-testers-discuss@perl.org
--
Dear Graham Ollis,
This is a computer-generated report for Mojolicious-Plugin-TtRenderer-1.62
on perl 5.35.6, created by CPAN-Reporter-1.2018.
Thank you for uploading your work to CPAN. Congratulations!
All tests were successful.
Sections of this report:
* Tester comments
* Program output
* Prerequisites
* Environment and other context
------------------------------
TESTER COMMENTS
------------------------------
Additional comments from tester:
this report is from an automated smoke testing program
and was not reviewed by a human for accuracy
------------------------------
PROGRAM OUTPUT
------------------------------
Output from '/usr/bin/make test':
PERL_DL_NONLAZY=1 "/tmp/basesmoker-reloperl-KPLZ/bin/perl" "-MExtUtils::Command::MM" "-MTest::Harness" "-e" "undef *Test::Harness::Switches; test_harness(0, 'blib/lib', 'blib/arch')" t/*.t
#
#
#
# HARNESS_ACTIVE=1
# HARNESS_VERSION=3.43
# LANG=en_US.UTF-8
# PERL5LIB=/tmp/loop_over_bdir-1729629-4KO4li/Mojolicious-Plugin-TtRenderer-1.62-0/blib/lib:/tmp/loop_over_bdir-1729629-4KO4li/Mojolicious-Plugin-TtRenderer-1.62-0/blib/arch:
# PERL5OPT=
# PERL5_CPANPLUS_IS_RUNNING=2379358
# PERL5_CPAN_IS_RUNNING=2379358
# PERL_CANARY_STABILITY_NOPROMPT=1
# PERL_DL_NONLAZY=1
# PERL_MM_USE_DEFAULT=1
# PERL_USE_UNSAFE_INC=1
# SHELL=/usr/bin/zsh
#
#
#
# PERL5LIB path
# /tmp/loop_over_bdir-1729629-4KO4li/Mojolicious-Plugin-TtRenderer-1.62-0/blib/lib
# /tmp/loop_over_bdir-1729629-4KO4li/Mojolicious-Plugin-TtRenderer-1.62-0/blib/arch
#
#
#
# perl 5.035006 linux x86_64-linux-thread-multi
# EV 4.33
# ExtUtils::MakeMaker 7.62
# Mojolicious 9.22
# POSIX 2.01
each on anonymous hash will always start from the beginning at /home/sand/src/perl/repoperls/installed-perls/host/k93msid/v5.35.5-7-g7ab87c6593/1e0c/lib/site_perl/5.35.6/x86_64-linux-thread-multi/Template/Document.pm line 75.
each on anonymous hash will always start from the beginning at /home/sand/src/perl/repoperls/installed-perls/host/k93msid/v5.35.5-7-g7ab87c6593/1e0c/lib/site_perl/5.35.6/x86_64-linux-thread-multi/Template/Provider.pm line 376.
each on anonymous hash will always start from the beginning at /home/sand/src/perl/repoperls/installed-perls/host/k93msid/v5.35.5-7-g7ab87c6593/1e0c/lib/site_perl/5.35.6/x86_64-linux-thread-multi/Template/Provider.pm line 875.
each on anonymous hash will always start from the beginning at /home/sand/src/perl/repoperls/installed-perls/host/k93msid/v5.35.5-7-g7ab87c6593/1e0c/lib/site_perl/5.35.6/x86_64-linux-thread-multi/Template/Provider.pm line 894.
# Template 3.009
# Template::Provider 3.009
# Test::More 1.302188
#
#
#
# mojo io loopMojo::Reactor::EV
#
#
#
t/00_diag.t ........................... ok
each on anonymous hash will always start from the beginning at /home/sand/src/perl/repoperls/installed-perls/host/k93msid/v5.35.5-7-g7ab87c6593/1e0c/lib/site_perl/5.35.6/x86_64-linux-thread-multi/Template/Document.pm line 75.
each on anonymous hash will always start from the beginning at /home/sand/src/perl/repoperls/installed-perls/host/k93msid/v5.35.5-7-g7ab87c6593/1e0c/lib/site_perl/5.35.6/x86_64-linux-thread-multi/Template/Provider.pm line 376.
each on anonymous hash will always start from the beginning at /home/sand/src/perl/repoperls/installed-perls/host/k93msid/v5.35.5-7-g7ab87c6593/1e0c/lib/site_perl/5.35.6/x86_64-linux-thread-multi/Template/Provider.pm line 875.
each on anonymous hash will always start from the beginning at /home/sand/src/perl/repoperls/installed-perls/host/k93msid/v5.35.5-7-g7ab87c6593/1e0c/lib/site_perl/5.35.6/x86_64-linux-thread-multi/Template/Provider.pm line 894.
t/01_use.t ............................ ok
each on anonymous hash will always start from the beginning at /home/sand/src/perl/repoperls/installed-perls/host/k93msid/v5.35.5-7-g7ab87c6593/1e0c/lib/site_perl/5.35.6/x86_64-linux-thread-multi/Template/Document.pm line 75.
each on anonymous hash will always start from the beginning at /home/sand/src/perl/repoperls/installed-perls/host/k93msid/v5.35.5-7-g7ab87c6593/1e0c/lib/site_perl/5.35.6/x86_64-linux-thread-multi/Template/Provider.pm line 376.
each on anonymous hash will always start from the beginning at /home/sand/src/perl/repoperls/installed-perls/host/k93msid/v5.35.5-7-g7ab87c6593/1e0c/lib/site_perl/5.35.6/x86_64-linux-thread-multi/Template/Provider.pm line 875.
each on anonymous hash will always start from the beginning at /home/sand/src/perl/repoperls/installed-perls/host/k93msid/v5.35.5-7-g7ab87c6593/1e0c/lib/site_perl/5.35.6/x86_64-linux-thread-multi/Template/Provider.pm line 894.
t/default_handler_as_engine.t ......... ok
each on anonymous hash will always start from the beginning at /home/sand/src/perl/repoperls/installed-perls/host/k93msid/v5.35.5-7-g7ab87c6593/1e0c/lib/site_perl/5.35.6/x86_64-linux-thread-multi/Template/Document.pm line 75.
each on anonymous hash will always start from the beginning at /home/sand/src/perl/repoperls/installed-perls/host/k93msid/v5.35.5-7-g7ab87c6593/1e0c/lib/site_perl/5.35.6/x86_64-linux-thread-multi/Template/Provider.pm line 376.
each on anonymous hash will always start from the beginning at /home/sand/src/perl/repoperls/installed-perls/host/k93msid/v5.35.5-7-g7ab87c6593/1e0c/lib/site_perl/5.35.6/x86_64-linux-thread-multi/Template/Provider.pm line 875.
each on anonymous hash will always start from the beginning at /home/sand/src/perl/repoperls/installed-perls/host/k93msid/v5.35.5-7-g7ab87c6593/1e0c/lib/site_perl/5.35.6/x86_64-linux-thread-multi/Template/Provider.pm line 894.
t/default_handler_as_plugin.t ......... ok
each on anonymous hash will always start from the beginning at /home/sand/src/perl/repoperls/installed-perls/host/k93msid/v5.35.5-7-g7ab87c6593/1e0c/lib/site_perl/5.35.6/x86_64-linux-thread-multi/Template/Document.pm line 75.
each on anonymous hash will always start from the beginning at /home/sand/src/perl/repoperls/installed-perls/host/k93msid/v5.35.5-7-g7ab87c6593/1e0c/lib/site_perl/5.35.6/x86_64-linux-thread-multi/Template/Provider.pm line 376.
each on anonymous hash will always start from the beginning at /home/sand/src/perl/repoperls/installed-perls/host/k93msid/v5.35.5-7-g7ab87c6593/1e0c/lib/site_perl/5.35.6/x86_64-linux-thread-multi/Template/Provider.pm line 875.
each on anonymous hash will always start from the beginning at /home/sand/src/perl/repoperls/installed-perls/host/k93msid/v5.35.5-7-g7ab87c6593/1e0c/lib/site_perl/5.35.6/x86_64-linux-thread-multi/Template/Provider.pm line 894.
t/default_handler_no_templates_dir.t .. ok
each on anonymous hash will always start from the beginning at /home/sand/src/perl/repoperls/installed-perls/host/k93msid/v5.35.5-7-g7ab87c6593/1e0c/lib/site_perl/5.35.6/x86_64-linux-thread-multi/Template/Document.pm line 75.
each on anonymous hash will always start from the beginning at /home/sand/src/perl/repoperls/installed-perls/host/k93msid/v5.35.5-7-g7ab87c6593/1e0c/lib/site_perl/5.35.6/x86_64-linux-thread-multi/Template/Provider.pm line 376.
each on anonymous hash will always start from the beginning at /home/sand/src/perl/repoperls/installed-perls/host/k93msid/v5.35.5-7-g7ab87c6593/1e0c/lib/site_perl/5.35.6/x86_64-linux-thread-multi/Template/Provider.pm line 875.
each on anonymous hash will always start from the beginning at /home/sand/src/perl/repoperls/installed-perls/host/k93msid/v5.35.5-7-g7ab87c6593/1e0c/lib/site_perl/5.35.6/x86_64-linux-thread-multi/Template/Provider.pm line 894.
t/lite_app.t .......................... ok
each on anonymous hash will always start from the beginning at /home/sand/src/perl/repoperls/installed-perls/host/k93msid/v5.35.5-7-g7ab87c6593/1e0c/lib/site_perl/5.35.6/x86_64-linux-thread-multi/Template/Document.pm line 75.
each on anonymous hash will always start from the beginning at /home/sand/src/perl/repoperls/installed-perls/host/k93msid/v5.35.5-7-g7ab87c6593/1e0c/lib/site_perl/5.35.6/x86_64-linux-thread-multi/Template/Provider.pm line 376.
each on anonymous hash will always start from the beginning at /home/sand/src/perl/repoperls/installed-perls/host/k93msid/v5.35.5-7-g7ab87c6593/1e0c/lib/site_perl/5.35.6/x86_64-linux-thread-multi/Template/Provider.pm line 875.
each on anonymous hash will always start from the beginning at /home/sand/src/perl/repoperls/installed-perls/host/k93msid/v5.35.5-7-g7ab87c6593/1e0c/lib/site_perl/5.35.6/x86_64-linux-thread-multi/Template/Provider.pm line 894.
t/lite_app_with_default_layouts.t ..... ok
each on anonymous hash will always start from the beginning at /home/sand/src/perl/repoperls/installed-perls/host/k93msid/v5.35.5-7-g7ab87c6593/1e0c/lib/site_perl/5.35.6/x86_64-linux-thread-multi/Template/Document.pm line 75.
each on anonymous hash will always start from the beginning at /home/sand/src/perl/repoperls/installed-perls/host/k93msid/v5.35.5-7-g7ab87c6593/1e0c/lib/site_perl/5.35.6/x86_64-linux-thread-multi/Template/Provider.pm line 376.
each on anonymous hash will always start from the beginning at /home/sand/src/perl/repoperls/installed-perls/host/k93msid/v5.35.5-7-g7ab87c6593/1e0c/lib/site_perl/5.35.6/x86_64-linux-thread-multi/Template/Provider.pm line 875.
each on anonymous hash will always start from the beginning at /home/sand/src/perl/repoperls/installed-perls/host/k93msid/v5.35.5-7-g7ab87c6593/1e0c/lib/site_perl/5.35.6/x86_64-linux-thread-multi/Template/Provider.pm line 894.
t/multiple_paths.t .................... ok
each on anonymous hash will always start from the beginning at /home/sand/src/perl/repoperls/installed-perls/host/k93msid/v5.35.5-7-g7ab87c6593/1e0c/lib/site_perl/5.35.6/x86_64-linux-thread-multi/Template/Document.pm line 75.
each on anonymous hash will always start from the beginning at /home/sand/src/perl/repoperls/installed-perls/host/k93msid/v5.35.5-7-g7ab87c6593/1e0c/lib/site_perl/5.35.6/x86_64-linux-thread-multi/Template/Provider.pm line 376.
each on anonymous hash will always start from the beginning at /home/sand/src/perl/repoperls/installed-perls/host/k93msid/v5.35.5-7-g7ab87c6593/1e0c/lib/site_perl/5.35.6/x86_64-linux-thread-multi/Template/Provider.pm line 875.
each on anonymous hash will always start from the beginning at /home/sand/src/perl/repoperls/installed-perls/host/k93msid/v5.35.5-7-g7ab87c6593/1e0c/lib/site_perl/5.35.6/x86_64-linux-thread-multi/Template/Provider.pm line 894.
[2021-10-24 22:33:15.03490] [2558167] [error] [rZ7KvHdyIPEm] file error - templates/doesnotexist.tt: not found
t/tt_plugin_lite_app.t ................ ok
each on anonymous hash will always start from the beginning at /home/sand/src/perl/repoperls/installed-perls/host/k93msid/v5.35.5-7-g7ab87c6593/1e0c/lib/site_perl/5.35.6/x86_64-linux-thread-multi/Template/Document.pm line 75.
each on anonymous hash will always start from the beginning at /home/sand/src/perl/repoperls/installed-perls/host/k93msid/v5.35.5-7-g7ab87c6593/1e0c/lib/site_perl/5.35.6/x86_64-linux-thread-multi/Template/Provider.pm line 376.
each on anonymous hash will always start from the beginning at /home/sand/src/perl/repoperls/installed-perls/host/k93msid/v5.35.5-7-g7ab87c6593/1e0c/lib/site_perl/5.35.6/x86_64-linux-thread-multi/Template/Provider.pm line 875.
each on anonymous hash will always start from the beginning at /home/sand/src/perl/repoperls/installed-perls/host/k93msid/v5.35.5-7-g7ab87c6593/1e0c/lib/site_perl/5.35.6/x86_64-linux-thread-multi/Template/Provider.pm line 894.
t/two_data.t .......................... ok
All tests successful.
Files=10, Tests=89, 4 wallclock secs ( 0.03 usr 0.05 sys + 2.97 cusr 0.55 csys = 3.60 CPU)
Result: PASS
------------------------------
PREREQUISITES
------------------------------
Prerequisite modules loaded:
requires:
Module Need Have
------------------- ----- --------
Mojolicious 6.33 9.22
perl 5.016 5.035006
POSIX 0 2.01
Template 2.18 3.009
Template::Provider 0 3.009
build_requires:
Module Need Have
------------------- ----- --------
ExtUtils::MakeMaker 0 7.62
Test::More 0.98 1.302188
configure_requires:
Module Need Have
------------------- ----- --------
ExtUtils::MakeMaker 0 7.62
perl 5.016 5.035006
opt_requires:
Module Need Have
------------------- ----- --------
EV 0 4.33
------------------------------
ENVIRONMENT AND OTHER CONTEXT
------------------------------
Environment variables:
AUTOMATED_TESTING = 1
LANG = en_US.UTF-8
PATH = /home/sand/bin:/usr/local/bin:/usr/bin:/bin:/usr/games:/usr/local/perl/bin:/usr/X11/bin:/sbin:/usr/sbin
PERL5LIB =
PERL5OPT =
PERL5_CPANPLUS_IS_RUNNING = 2379358
PERL5_CPAN_IS_RUNNING = 2379358
PERL_CANARY_STABILITY_NOPROMPT = 1
PERL_MM_USE_DEFAULT = 1
PERL_USE_UNSAFE_INC = 1
SHELL = /usr/bin/zsh
TERM = screen
Perl special variables (and OS-specific diagnostics, for MSWin32):
$^X = /tmp/basesmoker-reloperl-KPLZ/bin/perl
$UID/$EUID = 1005 / 1005
$GID = 1005 1005
$EGID = 1005 1005
Perl module toolchain versions installed:
Module Have
------------------- --------
CPAN 2.28
CPAN::Meta 2.150010
Cwd 3.82
ExtUtils::CBuilder 0.280236
ExtUtils::Command 7.62
ExtUtils::Install 2.20
ExtUtils::MakeMaker 7.62
ExtUtils::Manifest 1.73
ExtUtils::ParseXS 3.44
File::Spec 3.81
JSON 4.03
JSON::PP 4.06
Module::Build 0.4231
Module::Signature 0.87
Parse::CPAN::Meta 2.150010
Test::Harness 3.43
Test::More 1.302188
YAML 1.30
YAML::Syck 1.34
version 0.9929
--
Summary of my perl5 (revision 5 version 35 subversion 6) configuration:
Commit id: 7ab87c659307da75dc357c899b32dce31a1c6c02
Platform:
osname=linux
osvers=5.14.0-3-amd64
archname=x86_64-linux-thread-multi
uname='linux k93msid 5.14.0-3-amd64 #1 smp debian 5.14.12-1 (2021-10-14) x86_64 gnulinux '
config_args='-Dprefix=/home/sand/src/perl/repoperls/installed-perls/host/k93msid/v5.35.5-7-g7ab87c6593/1e0c -Dmyhostname=k93msid -Dinstallusrbinperl=n -Uversiononly -Dusedevel -des -Ui_db -Dlibswanted=cl pthread socket inet nsl gdbm dbm malloc dl ld sun m crypt sec util c cposix posix ucb BSD gdbm_compat -Duseithreads -Uuselongdouble -DEBUGGING=-g'
hint=recommended
useposix=true
d_sigaction=define
useithreads=define
usemultiplicity=define
use64bitint=define
use64bitall=define
uselongdouble=undef
usemymalloc=n
default_inc_excludes_dot=define
Compiler:
cc='cc'
ccflags ='-D_REENTRANT -D_GNU_SOURCE -fwrapv -fno-strict-aliasing -pipe -fstack-protector-strong -I/usr/local/include -D_LARGEFILE_SOURCE -D_FILE_OFFSET_BITS=64 -D_FORTIFY_SOURCE=2'
optimize='-O2 -g'
cppflags='-D_REENTRANT -D_GNU_SOURCE -fwrapv -fno-strict-aliasing -pipe -fstack-protector-strong -I/usr/local/include'
ccversion=''
gccversion='11.2.0'
gccosandvers=''
intsize=4
longsize=8
ptrsize=8
doublesize=8
byteorder=12345678
doublekind=3
d_longlong=define
longlongsize=8
d_longdbl=define
longdblsize=16
longdblkind=3
ivtype='long'
ivsize=8
nvtype='double'
nvsize=8
Off_t='off_t'
lseeksize=8
alignbytes=8
prototype=define
Linker and Libraries:
ld='cc'
ldflags =' -fstack-protector-strong -L/usr/local/lib'
libpth=/usr/local/lib /usr/lib/x86_64-linux-gnu /usr/lib /lib/x86_64-linux-gnu /lib
libs=-lpthread -lnsl -ldl -lm -lcrypt -lutil -lc
perllibs=-lpthread -lnsl -ldl -lm -lcrypt -lutil -lc
libc=libc-2.32.so
so=so
useshrplib=false
libperl=libperl.a
gnulibc_version='2.32'
Dynamic Linking:
dlsrc=dl_dlopen.xs
dlext=so
d_dlsymun=undef
ccdlflags='-Wl,-E'
cccdlflags='-fPIC'
lddlflags='-shared -O2 -g -L/usr/local/lib -fstack-protector-strong'
Characteristics of this binary (from libperl):
Compile-time options:
HAS_TIMES
MULTIPLICITY
PERLIO_LAYERS
PERL_COPY_ON_WRITE
PERL_DONT_CREATE_GVSV
PERL_MALLOC_WRAP
PERL_OP_PARENT
PERL_PRESERVE_IVUV
PERL_USE_DEVEL
USE_64_BIT_ALL
USE_64_BIT_INT
USE_ITHREADS
USE_LARGE_FILES
USE_LOCALE
USE_LOCALE_COLLATE
USE_LOCALE_CTYPE
USE_LOCALE_NUMERIC
USE_LOCALE_TIME
USE_PERLIO
USE_PERL_ATOF
USE_REENTRANT_API
USE_THREAD_SAFE_LOCALE
Built under linux
Compiled at Oct 24 2021 00:52:51
%ENV:
PERL5LIB=""
PERL5OPT=""
PERL5_CPANPLUS_IS_RUNNING="2379358"
PERL5_CPAN_IS_RUNNING="2379358"
PERL_CANARY_STABILITY_NOPROMPT="1"
PERL_MM_USE_DEFAULT="1"
PERL_USE_UNSAFE_INC="1"
@INC:
/home/sand/src/perl/repoperls/installed-perls/host/k93msid/v5.35.5-7-g7ab87c6593/1e0c/lib/site_perl/5.35.6/x86_64-linux-thread-multi
/home/sand/src/perl/repoperls/installed-perls/host/k93msid/v5.35.5-7-g7ab87c6593/1e0c/lib/site_perl/5.35.6
/home/sand/src/perl/repoperls/installed-perls/host/k93msid/v5.35.5-7-g7ab87c6593/1e0c/lib/5.35.6/x86_64-linux-thread-multi
/home/sand/src/perl/repoperls/installed-perls/host/k93msid/v5.35.5-7-g7ab87c6593/1e0c/lib/5.35.6
.