RSH-Logging v0.4.3 Perl 5 v5.38.2 x86_64-linux-ld
- Status
- Pass
- From
- Andreas J. König (ANDK)
- Dist
-
RSH-Logging v0.4.3
- Platform
- Perl 5 v5.38.2 x86_64-linux-ld
- Date
- 2023-12-25 03:19:22
- ID
- 65ebf920-a2d4-11ee-b883-8dfdeffca046
This distribution has been tested as part of the CPAN Testers
project, supporting the Perl programming language. See
http://wiki.cpantesters.org/ for more information or email
questions to cpan-testers-discuss@perl.org
--
Dear Matt Luker,
This is a computer-generated report for RSH-Logging-0.4.3
on perl 5.38.2, created by CPAN-Reporter-1.2019.
Thank you for uploading your work to CPAN. Congratulations!
All tests were successful.
Sections of this report:
* Tester comments
* Program output
* Prerequisites
* Environment and other context
------------------------------
TESTER COMMENTS
------------------------------
Additional comments from tester:
this report is from an automated smoke testing program
and was not reviewed by a human for accuracy
------------------------------
PROGRAM OUTPUT
------------------------------
Output from '/usr/bin/make test':
PERL_DL_NONLAZY=1 "/tmp/basesmoker-reloperl-1xKn/bin/perl" "-MExtUtils::Command::MM" "-MTest::Harness" "-e" "undef *Test::Harness::Switches; test_harness(0, 'inc', 'blib/lib', 'blib/arch')" t/000.load.t t/010.RSH-Logging.t t/011.RSH-Logging-chunking.t t/999.perlcritic.t t/999.pod-coverage.t t/999.pod.t
# Testing RSH::Logging 0.4.3
t/000.load.t .................. ok
TOTAL TIME 5.3e-05s (18867.925/s)
.----------------------------------------------------------------+-----------.
| Event | Time |
+----------------------------------------------------------------+-----------+
| + foo | 0.000053s |
'----------------------------------------------------------------+-----------'
TOTAL TIME 0.000396s (2525.253/s)
.----------------------------------------------------------------+-----------.
| Event | Time |
+----------------------------------------------------------------+-----------+
| + foo | 0.000396s |
| + sub1a | 0.000278s |
| + sub2a | 0.000057s |
| + sub2b | 0.000055s |
'----------------------------------------------------------------+-----------'
TOTAL TIME 0.000382s (2617.801/s)
.----------------------------------------------------------------+-----------.
| Event | Time |
+----------------------------------------------------------------+-----------+
| + main | 0.000382s |
| + main | 0.000270s |
| + main | 0.000055s |
| + main | 0.000052s |
'----------------------------------------------------------------+-----------'
DEBUG Logging.pm:407, RSH::Logging::__ANON__: TOTAL TIME 0.000383s (2610.966/s)
.----------------------------------------------------------------+-----------.
| Event | Time |
+----------------------------------------------------------------+-----------+
| + foo | 0.000383s |
| + sub1a | 0.000271s |
| + sub2a | 0.000055s |
| + sub2b | 0.000053s |
'----------------------------------------------------------------+-----------'
TOTAL TIME 0.000486s (2057.613/s)
.----------------------------------------------------------------+-----------.
| Event | Time |
+----------------------------------------------------------------+-----------+
| + foo | 0.000486s |
| + sub1a | 0.000372s |
| + sub2a | 0.000055s |
| + sub2b | 0.000057s |
'----------------------------------------------------------------+-----------'
TOTAL TIME 0.000383s (2610.966/s)
.----------------------------------------------------------------+-----------.
| Event | Time |
+----------------------------------------------------------------+-----------+
| + foo | 0.000383s |
| + sub1a (notation 1) | 0.000268s |
| + sub2a (notation 2) | 0.000055s |
| + sub2b (this is a very long note, which you shouldn't do- | 0.000054s |
| , but it can't be helped that people don't think things throu- | |
| gh from time to time.) | |
'----------------------------------------------------------------+-----------'
TOTAL TIME 0.000414s (2415.459/s)
.----------------------------------------------------------------+-----------.
| Event | Time |
+----------------------------------------------------------------+-----------+
| + foo | 0.000414s |
| + sub1a | 0.000291s |
| + sub2a | 0.000060s |
| + sub2b | 0.000058s |
'----------------------------------------------------------------+-----------'
TOTAL TIME 0.000404s (2475.248/s)
.----------------------------------------------------------------+-----------.
| Event | Time |
+----------------------------------------------------------------+-----------+
| + foo2 | 0.000404s |
| + sub1a | 0.000287s |
| + sub2a | 0.000058s |
| + sub2b | 0.000057s |
'----------------------------------------------------------------+-----------'
TOTAL TIME 0.000878s (1138.952/s)
.----------------------------------------------------------------+-----------.
| Event | Time |
+----------------------------------------------------------------+-----------+
| + foo | 0.000878s |
| + sub1a | 0.000759s |
| + sub2a | 0.000059s |
| + sub2b | 0.000528s |
| + foo2 | 0.000416s |
| + sub1a | 0.000297s |
| + sub2a | 0.000061s |
| + sub2b | 0.000058s |
'----------------------------------------------------------------+-----------'
TOTAL TIME 0.000347s (2881.844/s)
.----------------------------------------------------------------+-----------.
| Event | Time |
+----------------------------------------------------------------+-----------+
| + foo | 0.000347s |
| + sub1a | 0.000261s |
| + sub2a | 0.000067s |
| + sub2b | 0.000064s |
'----------------------------------------------------------------+-----------'
t/010.RSH-Logging.t ........... ok
DEBUG Logging.pm:407, RSH::Logging::__ANON__: TOTAL TIME 0.000473s (2114.165/s)
Use of uninitialized value in repeat (x) at /tmp/loop_over_bdir-3435738-CoXOQl/RSH-Logging-0.4.3-0/blib/lib/RSH/Logging/TextTable.pm line 166.
Use of uninitialized value $Text::SimpleTable::TOP_LEFT in concatenation (.) or string at /tmp/loop_over_bdir-3435738-CoXOQl/RSH-Logging-0.4.3-0/blib/lib/RSH/Logging/TextTable.pm line 171.
Use of uninitialized value $Text::SimpleTable::TOP_SEPARATOR in concatenation (.) or string at /tmp/loop_over_bdir-3435738-CoXOQl/RSH-Logging-0.4.3-0/blib/lib/RSH/Logging/TextTable.pm line 171.
Use of uninitialized value in repeat (x) at /tmp/loop_over_bdir-3435738-CoXOQl/RSH-Logging-0.4.3-0/blib/lib/RSH/Logging/TextTable.pm line 166.
Use of uninitialized value $Text::SimpleTable::TOP_RIGHT in concatenation (.) or string at /tmp/loop_over_bdir-3435738-CoXOQl/RSH-Logging-0.4.3-0/blib/lib/RSH/Logging/TextTable.pm line 172.
DEBUG Logging.pm:407, RSH::Logging::__ANON__:
Use of uninitialized value $Text::SimpleTable::LEFT_BORDER in concatenation (.) or string at /tmp/loop_over_bdir-3435738-CoXOQl/RSH-Logging-0.4.3-0/blib/lib/RSH/Logging/TextTable.pm line 201.
Use of uninitialized value $Text::SimpleTable::SEPARATOR in concatenation (.) or string at /tmp/loop_over_bdir-3435738-CoXOQl/RSH-Logging-0.4.3-0/blib/lib/RSH/Logging/TextTable.pm line 201.
Use of uninitialized value $Text::SimpleTable::RIGHT_BORDER in concatenation (.) or string at /tmp/loop_over_bdir-3435738-CoXOQl/RSH-Logging-0.4.3-0/blib/lib/RSH/Logging/TextTable.pm line 202.
DEBUG Logging.pm:407, RSH::Logging::__ANON__: Event Time
DEBUG Logging.pm:407, RSH::Logging::__ANON__: +----------------------------------------------------------------+-----------+
Use of uninitialized value $Text::SimpleTable::LEFT_BORDER in concatenation (.) or string at /tmp/loop_over_bdir-3435738-CoXOQl/RSH-Logging-0.4.3-0/blib/lib/RSH/Logging/TextTable.pm line 240.
Use of uninitialized value $Text::SimpleTable::SEPARATOR in concatenation (.) or string at /tmp/loop_over_bdir-3435738-CoXOQl/RSH-Logging-0.4.3-0/blib/lib/RSH/Logging/TextTable.pm line 240.
Use of uninitialized value $Text::SimpleTable::RIGHT_BORDER in concatenation (.) or string at /tmp/loop_over_bdir-3435738-CoXOQl/RSH-Logging-0.4.3-0/blib/lib/RSH/Logging/TextTable.pm line 241.
DEBUG Logging.pm:407, RSH::Logging::__ANON__: + foo 0.000473s
Use of uninitialized value $Text::SimpleTable::LEFT_BORDER in concatenation (.) or string at /tmp/loop_over_bdir-3435738-CoXOQl/RSH-Logging-0.4.3-0/blib/lib/RSH/Logging/TextTable.pm line 240.
Use of uninitialized value $Text::SimpleTable::SEPARATOR in concatenation (.) or string at /tmp/loop_over_bdir-3435738-CoXOQl/RSH-Logging-0.4.3-0/blib/lib/RSH/Logging/TextTable.pm line 240.
Use of uninitialized value $Text::SimpleTable::RIGHT_BORDER in concatenation (.) or string at /tmp/loop_over_bdir-3435738-CoXOQl/RSH-Logging-0.4.3-0/blib/lib/RSH/Logging/TextTable.pm line 241.
DEBUG Logging.pm:407, RSH::Logging::__ANON__: + sub1a 0.000278s
Use of uninitialized value $Text::SimpleTable::LEFT_BORDER in concatenation (.) or string at /tmp/loop_over_bdir-3435738-CoXOQl/RSH-Logging-0.4.3-0/blib/lib/RSH/Logging/TextTable.pm line 240.
Use of uninitialized value $Text::SimpleTable::SEPARATOR in concatenation (.) or string at /tmp/loop_over_bdir-3435738-CoXOQl/RSH-Logging-0.4.3-0/blib/lib/RSH/Logging/TextTable.pm line 240.
Use of uninitialized value $Text::SimpleTable::RIGHT_BORDER in concatenation (.) or string at /tmp/loop_over_bdir-3435738-CoXOQl/RSH-Logging-0.4.3-0/blib/lib/RSH/Logging/TextTable.pm line 241.
DEBUG Logging.pm:407, RSH::Logging::__ANON__: + sub2a 0.000059s
Use of uninitialized value $Text::SimpleTable::LEFT_BORDER in concatenation (.) or string at /tmp/loop_over_bdir-3435738-CoXOQl/RSH-Logging-0.4.3-0/blib/lib/RSH/Logging/TextTable.pm line 240.
Use of uninitialized value $Text::SimpleTable::SEPARATOR in concatenation (.) or string at /tmp/loop_over_bdir-3435738-CoXOQl/RSH-Logging-0.4.3-0/blib/lib/RSH/Logging/TextTable.pm line 240.
Use of uninitialized value $Text::SimpleTable::RIGHT_BORDER in concatenation (.) or string at /tmp/loop_over_bdir-3435738-CoXOQl/RSH-Logging-0.4.3-0/blib/lib/RSH/Logging/TextTable.pm line 241.
DEBUG Logging.pm:407, RSH::Logging::__ANON__: + sub2b 0.000050s
Use of uninitialized value in repeat (x) at /tmp/loop_over_bdir-3435738-CoXOQl/RSH-Logging-0.4.3-0/blib/lib/RSH/Logging/TextTable.pm line 256.
Use of uninitialized value $Text::SimpleTable::BOTTOM_LEFT in concatenation (.) or string at /tmp/loop_over_bdir-3435738-CoXOQl/RSH-Logging-0.4.3-0/blib/lib/RSH/Logging/TextTable.pm line 261.
Use of uninitialized value $Text::SimpleTable::BOTTOM_SEPARATOR in concatenation (.) or string at /tmp/loop_over_bdir-3435738-CoXOQl/RSH-Logging-0.4.3-0/blib/lib/RSH/Logging/TextTable.pm line 261.
Use of uninitialized value in repeat (x) at /tmp/loop_over_bdir-3435738-CoXOQl/RSH-Logging-0.4.3-0/blib/lib/RSH/Logging/TextTable.pm line 256.
Use of uninitialized value $Text::SimpleTable::BOTTOM_RIGHT in concatenation (.) or string at /tmp/loop_over_bdir-3435738-CoXOQl/RSH-Logging-0.4.3-0/blib/lib/RSH/Logging/TextTable.pm line 262.
DEBUG Logging.pm:407, RSH::Logging::__ANON__:
DEBUG Logging.pm:407, RSH::Logging::__ANON__:
Use of uninitialized value in repeat (x) at /tmp/loop_over_bdir-3435738-CoXOQl/RSH-Logging-0.4.3-0/blib/lib/RSH/Logging/TextTable.pm line 166.
Use of uninitialized value $Text::SimpleTable::TOP_LEFT in concatenation (.) or string at /tmp/loop_over_bdir-3435738-CoXOQl/RSH-Logging-0.4.3-0/blib/lib/RSH/Logging/TextTable.pm line 171.
Use of uninitialized value $Text::SimpleTable::TOP_SEPARATOR in concatenation (.) or string at /tmp/loop_over_bdir-3435738-CoXOQl/RSH-Logging-0.4.3-0/blib/lib/RSH/Logging/TextTable.pm line 171.
Use of uninitialized value in repeat (x) at /tmp/loop_over_bdir-3435738-CoXOQl/RSH-Logging-0.4.3-0/blib/lib/RSH/Logging/TextTable.pm line 166.
Use of uninitialized value $Text::SimpleTable::TOP_RIGHT in concatenation (.) or string at /tmp/loop_over_bdir-3435738-CoXOQl/RSH-Logging-0.4.3-0/blib/lib/RSH/Logging/TextTable.pm line 172.
Use of uninitialized value $Text::SimpleTable::LEFT_BORDER in concatenation (.) or string at /tmp/loop_over_bdir-3435738-CoXOQl/RSH-Logging-0.4.3-0/blib/lib/RSH/Logging/TextTable.pm line 201.
Use of uninitialized value $Text::SimpleTable::SEPARATOR in concatenation (.) or string at /tmp/loop_over_bdir-3435738-CoXOQl/RSH-Logging-0.4.3-0/blib/lib/RSH/Logging/TextTable.pm line 201.
Use of uninitialized value $Text::SimpleTable::RIGHT_BORDER in concatenation (.) or string at /tmp/loop_over_bdir-3435738-CoXOQl/RSH-Logging-0.4.3-0/blib/lib/RSH/Logging/TextTable.pm line 202.
Use of uninitialized value $Text::SimpleTable::LEFT_BORDER in concatenation (.) or string at /tmp/loop_over_bdir-3435738-CoXOQl/RSH-Logging-0.4.3-0/blib/lib/RSH/Logging/TextTable.pm line 240.
Use of uninitialized value $Text::SimpleTable::SEPARATOR in concatenation (.) or string at /tmp/loop_over_bdir-3435738-CoXOQl/RSH-Logging-0.4.3-0/blib/lib/RSH/Logging/TextTable.pm line 240.
Use of uninitialized value $Text::SimpleTable::RIGHT_BORDER in concatenation (.) or string at /tmp/loop_over_bdir-3435738-CoXOQl/RSH-Logging-0.4.3-0/blib/lib/RSH/Logging/TextTable.pm line 241.
Use of uninitialized value $Text::SimpleTable::LEFT_BORDER in concatenation (.) or string at /tmp/loop_over_bdir-3435738-CoXOQl/RSH-Logging-0.4.3-0/blib/lib/RSH/Logging/TextTable.pm line 240.
Use of uninitialized value $Text::SimpleTable::SEPARATOR in concatenation (.) or string at /tmp/loop_over_bdir-3435738-CoXOQl/RSH-Logging-0.4.3-0/blib/lib/RSH/Logging/TextTable.pm line 240.
Use of uninitialized value $Text::SimpleTable::RIGHT_BORDER in concatenation (.) or string at /tmp/loop_over_bdir-3435738-CoXOQl/RSH-Logging-0.4.3-0/blib/lib/RSH/Logging/TextTable.pm line 241.
Use of uninitialized value $Text::SimpleTable::LEFT_BORDER in concatenation (.) or string at /tmp/loop_over_bdir-3435738-CoXOQl/RSH-Logging-0.4.3-0/blib/lib/RSH/Logging/TextTable.pm line 240.
Use of uninitialized value $Text::SimpleTable::SEPARATOR in concatenation (.) or string at /tmp/loop_over_bdir-3435738-CoXOQl/RSH-Logging-0.4.3-0/blib/lib/RSH/Logging/TextTable.pm line 240.
Use of uninitialized value $Text::SimpleTable::RIGHT_BORDER in concatenation (.) or string at /tmp/loop_over_bdir-3435738-CoXOQl/RSH-Logging-0.4.3-0/blib/lib/RSH/Logging/TextTable.pm line 241.
Use of uninitialized value $Text::SimpleTable::LEFT_BORDER in concatenation (.) or string at /tmp/loop_over_bdir-3435738-CoXOQl/RSH-Logging-0.4.3-0/blib/lib/RSH/Logging/TextTable.pm line 240.
Use of uninitialized value $Text::SimpleTable::SEPARATOR in concatenation (.) or string at /tmp/loop_over_bdir-3435738-CoXOQl/RSH-Logging-0.4.3-0/blib/lib/RSH/Logging/TextTable.pm line 240.
Use of uninitialized value $Text::SimpleTable::RIGHT_BORDER in concatenation (.) or string at /tmp/loop_over_bdir-3435738-CoXOQl/RSH-Logging-0.4.3-0/blib/lib/RSH/Logging/TextTable.pm line 241.
Use of uninitialized value in repeat (x) at /tmp/loop_over_bdir-3435738-CoXOQl/RSH-Logging-0.4.3-0/blib/lib/RSH/Logging/TextTable.pm line 256.
Use of uninitialized value $Text::SimpleTable::BOTTOM_LEFT in concatenation (.) or string at /tmp/loop_over_bdir-3435738-CoXOQl/RSH-Logging-0.4.3-0/blib/lib/RSH/Logging/TextTable.pm line 261.
Use of uninitialized value $Text::SimpleTable::BOTTOM_SEPARATOR in concatenation (.) or string at /tmp/loop_over_bdir-3435738-CoXOQl/RSH-Logging-0.4.3-0/blib/lib/RSH/Logging/TextTable.pm line 261.
Use of uninitialized value in repeat (x) at /tmp/loop_over_bdir-3435738-CoXOQl/RSH-Logging-0.4.3-0/blib/lib/RSH/Logging/TextTable.pm line 256.
Use of uninitialized value $Text::SimpleTable::BOTTOM_RIGHT in concatenation (.) or string at /tmp/loop_over_bdir-3435738-CoXOQl/RSH-Logging-0.4.3-0/blib/lib/RSH/Logging/TextTable.pm line 262.
Use of uninitialized value in repeat (x) at /tmp/loop_over_bdir-3435738-CoXOQl/RSH-Logging-0.4.3-0/blib/lib/RSH/Logging/TextTable.pm line 166.
Use of uninitialized value $Text::SimpleTable::TOP_LEFT in concatenation (.) or string at /tmp/loop_over_bdir-3435738-CoXOQl/RSH-Logging-0.4.3-0/blib/lib/RSH/Logging/TextTable.pm line 171.
Use of uninitialized value $Text::SimpleTable::TOP_SEPARATOR in concatenation (.) or string at /tmp/loop_over_bdir-3435738-CoXOQl/RSH-Logging-0.4.3-0/blib/lib/RSH/Logging/TextTable.pm line 171.
Use of uninitialized value in repeat (x) at /tmp/loop_over_bdir-3435738-CoXOQl/RSH-Logging-0.4.3-0/blib/lib/RSH/Logging/TextTable.pm line 166.
Use of uninitialized value $Text::SimpleTable::TOP_RIGHT in concatenation (.) or string at /tmp/loop_over_bdir-3435738-CoXOQl/RSH-Logging-0.4.3-0/blib/lib/RSH/Logging/TextTable.pm line 172.
Use of uninitialized value $Text::SimpleTable::LEFT_BORDER in concatenation (.) or string at /tmp/loop_over_bdir-3435738-CoXOQl/RSH-Logging-0.4.3-0/blib/lib/RSH/Logging/TextTable.pm line 201.
Use of uninitialized value $Text::SimpleTable::SEPARATOR in concatenation (.) or string at /tmp/loop_over_bdir-3435738-CoXOQl/RSH-Logging-0.4.3-0/blib/lib/RSH/Logging/TextTable.pm line 201.
Use of uninitialized value $Text::SimpleTable::RIGHT_BORDER in concatenation (.) or string at /tmp/loop_over_bdir-3435738-CoXOQl/RSH-Logging-0.4.3-0/blib/lib/RSH/Logging/TextTable.pm line 202.
Use of uninitialized value $Text::SimpleTable::LEFT_BORDER in concatenation (.) or string at /tmp/loop_over_bdir-3435738-CoXOQl/RSH-Logging-0.4.3-0/blib/lib/RSH/Logging/TextTable.pm line 240.
Use of uninitialized value $Text::SimpleTable::SEPARATOR in concatenation (.) or string at /tmp/loop_over_bdir-3435738-CoXOQl/RSH-Logging-0.4.3-0/blib/lib/RSH/Logging/TextTable.pm line 240.
Use of uninitialized value $Text::SimpleTable::RIGHT_BORDER in concatenation (.) or string at /tmp/loop_over_bdir-3435738-CoXOQl/RSH-Logging-0.4.3-0/blib/lib/RSH/Logging/TextTable.pm line 241.
Use of uninitialized value $Text::SimpleTable::LEFT_BORDER in concatenation (.) or string at /tmp/loop_over_bdir-3435738-CoXOQl/RSH-Logging-0.4.3-0/blib/lib/RSH/Logging/TextTable.pm line 240.
Use of uninitialized value $Text::SimpleTable::SEPARATOR in concatenation (.) or string at /tmp/loop_over_bdir-3435738-CoXOQl/RSH-Logging-0.4.3-0/blib/lib/RSH/Logging/TextTable.pm line 240.
Use of uninitialized value $Text::SimpleTable::RIGHT_BORDER in concatenation (.) or string at /tmp/loop_over_bdir-3435738-CoXOQl/RSH-Logging-0.4.3-0/blib/lib/RSH/Logging/TextTable.pm line 241.
Use of uninitialized value $Text::SimpleTable::LEFT_BORDER in concatenation (.) or string at /tmp/loop_over_bdir-3435738-CoXOQl/RSH-Logging-0.4.3-0/blib/lib/RSH/Logging/TextTable.pm line 240.
Use of uninitialized value $Text::SimpleTable::SEPARATOR in concatenation (.) or string at /tmp/loop_over_bdir-3435738-CoXOQl/RSH-Logging-0.4.3-0/blib/lib/RSH/Logging/TextTable.pm line 240.
Use of uninitialized value $Text::SimpleTable::RIGHT_BORDER in concatenation (.) or string at /tmp/loop_over_bdir-3435738-CoXOQl/RSH-Logging-0.4.3-0/blib/lib/RSH/Logging/TextTable.pm line 241.
Use of uninitialized value $Text::SimpleTable::LEFT_BORDER in concatenation (.) or string at /tmp/loop_over_bdir-3435738-CoXOQl/RSH-Logging-0.4.3-0/blib/lib/RSH/Logging/TextTable.pm line 240.
Use of uninitialized value $Text::SimpleTable::SEPARATOR in concatenation (.) or string at /tmp/loop_over_bdir-3435738-CoXOQl/RSH-Logging-0.4.3-0/blib/lib/RSH/Logging/TextTable.pm line 240.
Use of uninitialized value $Text::SimpleTable::RIGHT_BORDER in concatenation (.) or string at /tmp/loop_over_bdir-3435738-CoXOQl/RSH-Logging-0.4.3-0/blib/lib/RSH/Logging/TextTable.pm line 241.
Use of uninitialized value in repeat (x) at /tmp/loop_over_bdir-3435738-CoXOQl/RSH-Logging-0.4.3-0/blib/lib/RSH/Logging/TextTable.pm line 256.
Use of uninitialized value $Text::SimpleTable::BOTTOM_LEFT in concatenation (.) or string at /tmp/loop_over_bdir-3435738-CoXOQl/RSH-Logging-0.4.3-0/blib/lib/RSH/Logging/TextTable.pm line 261.
Use of uninitialized value $Text::SimpleTable::BOTTOM_SEPARATOR in concatenation (.) or string at /tmp/loop_over_bdir-3435738-CoXOQl/RSH-Logging-0.4.3-0/blib/lib/RSH/Logging/TextTable.pm line 261.
Use of uninitialized value in repeat (x) at /tmp/loop_over_bdir-3435738-CoXOQl/RSH-Logging-0.4.3-0/blib/lib/RSH/Logging/TextTable.pm line 256.
Use of uninitialized value $Text::SimpleTable::BOTTOM_RIGHT in concatenation (.) or string at /tmp/loop_over_bdir-3435738-CoXOQl/RSH-Logging-0.4.3-0/blib/lib/RSH/Logging/TextTable.pm line 262.
TOTAL TIME 0.000423s (2364.066/s)
Event Time
+----------------------------------------------------------------+-----------+
+ foo 0.000423s
+ sub1a 0.000296s
+ sub2a 0.000060s
+ sub2b 0.000064s
DEBUG Logging.pm:407, RSH::Logging::__ANON__: TOTAL TIME 0.000518s (1930.502/s)
.----------------------------------------------------------------+-----------.
| Event | Time |
+----------------------------------------------------------------+-----------+
| + foo | 0.000518s |
| + sub1a | 0.000316s |
| + sub2a | 0.000062s |
| + sub2b | 0.000059s |
| + sub0 | 0.000002s |
| + sub1 | 0.000002s |
| + sub2 | 0.000002s |
| + sub3 | 0.000002s |
| + sub4 | 0.000002s |
'----------------------------------------------------------------+-----------'
DEBUG Logging.pm:407, RSH::Logging::__ANON__: TOTAL TIME 0.000533s (1876.173/s)
Use of uninitialized value in repeat (x) at /tmp/loop_over_bdir-3435738-CoXOQl/RSH-Logging-0.4.3-0/blib/lib/RSH/Logging/TextTable.pm line 166.
Use of uninitialized value $Text::SimpleTable::TOP_LEFT in concatenation (.) or string at /tmp/loop_over_bdir-3435738-CoXOQl/RSH-Logging-0.4.3-0/blib/lib/RSH/Logging/TextTable.pm line 171.
Use of uninitialized value $Text::SimpleTable::TOP_SEPARATOR in concatenation (.) or string at /tmp/loop_over_bdir-3435738-CoXOQl/RSH-Logging-0.4.3-0/blib/lib/RSH/Logging/TextTable.pm line 171.
Use of uninitialized value in repeat (x) at /tmp/loop_over_bdir-3435738-CoXOQl/RSH-Logging-0.4.3-0/blib/lib/RSH/Logging/TextTable.pm line 166.
Use of uninitialized value $Text::SimpleTable::TOP_RIGHT in concatenation (.) or string at /tmp/loop_over_bdir-3435738-CoXOQl/RSH-Logging-0.4.3-0/blib/lib/RSH/Logging/TextTable.pm line 172.
DEBUG Logging.pm:407, RSH::Logging::__ANON__:
Use of uninitialized value $Text::SimpleTable::LEFT_BORDER in concatenation (.) or string at /tmp/loop_over_bdir-3435738-CoXOQl/RSH-Logging-0.4.3-0/blib/lib/RSH/Logging/TextTable.pm line 201.
Use of uninitialized value $Text::SimpleTable::SEPARATOR in concatenation (.) or string at /tmp/loop_over_bdir-3435738-CoXOQl/RSH-Logging-0.4.3-0/blib/lib/RSH/Logging/TextTable.pm line 201.
Use of uninitialized value $Text::SimpleTable::RIGHT_BORDER in concatenation (.) or string at /tmp/loop_over_bdir-3435738-CoXOQl/RSH-Logging-0.4.3-0/blib/lib/RSH/Logging/TextTable.pm line 202.
DEBUG Logging.pm:407, RSH::Logging::__ANON__: Event Time
DEBUG Logging.pm:407, RSH::Logging::__ANON__: +----------------------------------------------------------------+-----------+
Use of uninitialized value $Text::SimpleTable::LEFT_BORDER in concatenation (.) or string at /tmp/loop_over_bdir-3435738-CoXOQl/RSH-Logging-0.4.3-0/blib/lib/RSH/Logging/TextTable.pm line 240.
Use of uninitialized value $Text::SimpleTable::SEPARATOR in concatenation (.) or string at /tmp/loop_over_bdir-3435738-CoXOQl/RSH-Logging-0.4.3-0/blib/lib/RSH/Logging/TextTable.pm line 240.
Use of uninitialized value $Text::SimpleTable::RIGHT_BORDER in concatenation (.) or string at /tmp/loop_over_bdir-3435738-CoXOQl/RSH-Logging-0.4.3-0/blib/lib/RSH/Logging/TextTable.pm line 241.
DEBUG Logging.pm:407, RSH::Logging::__ANON__: + foo 0.000533s
Use of uninitialized value $Text::SimpleTable::LEFT_BORDER in concatenation (.) or string at /tmp/loop_over_bdir-3435738-CoXOQl/RSH-Logging-0.4.3-0/blib/lib/RSH/Logging/TextTable.pm line 240.
Use of uninitialized value $Text::SimpleTable::SEPARATOR in concatenation (.) or string at /tmp/loop_over_bdir-3435738-CoXOQl/RSH-Logging-0.4.3-0/blib/lib/RSH/Logging/TextTable.pm line 240.
Use of uninitialized value $Text::SimpleTable::RIGHT_BORDER in concatenation (.) or string at /tmp/loop_over_bdir-3435738-CoXOQl/RSH-Logging-0.4.3-0/blib/lib/RSH/Logging/TextTable.pm line 241.
DEBUG Logging.pm:407, RSH::Logging::__ANON__: + sub1a 0.000296s
Use of uninitialized value $Text::SimpleTable::LEFT_BORDER in concatenation (.) or string at /tmp/loop_over_bdir-3435738-CoXOQl/RSH-Logging-0.4.3-0/blib/lib/RSH/Logging/TextTable.pm line 240.
Use of uninitialized value $Text::SimpleTable::SEPARATOR in concatenation (.) or string at /tmp/loop_over_bdir-3435738-CoXOQl/RSH-Logging-0.4.3-0/blib/lib/RSH/Logging/TextTable.pm line 240.
Use of uninitialized value $Text::SimpleTable::RIGHT_BORDER in concatenation (.) or string at /tmp/loop_over_bdir-3435738-CoXOQl/RSH-Logging-0.4.3-0/blib/lib/RSH/Logging/TextTable.pm line 241.
DEBUG Logging.pm:407, RSH::Logging::__ANON__: + sub2a 0.000057s
Use of uninitialized value $Text::SimpleTable::LEFT_BORDER in concatenation (.) or string at /tmp/loop_over_bdir-3435738-CoXOQl/RSH-Logging-0.4.3-0/blib/lib/RSH/Logging/TextTable.pm line 240.
Use of uninitialized value $Text::SimpleTable::SEPARATOR in concatenation (.) or string at /tmp/loop_over_bdir-3435738-CoXOQl/RSH-Logging-0.4.3-0/blib/lib/RSH/Logging/TextTable.pm line 240.
Use of uninitialized value $Text::SimpleTable::RIGHT_BORDER in concatenation (.) or string at /tmp/loop_over_bdir-3435738-CoXOQl/RSH-Logging-0.4.3-0/blib/lib/RSH/Logging/TextTable.pm line 241.
DEBUG Logging.pm:407, RSH::Logging::__ANON__: + sub2b 0.000068s
Use of uninitialized value $Text::SimpleTable::LEFT_BORDER in concatenation (.) or string at /tmp/loop_over_bdir-3435738-CoXOQl/RSH-Logging-0.4.3-0/blib/lib/RSH/Logging/TextTable.pm line 240.
Use of uninitialized value $Text::SimpleTable::SEPARATOR in concatenation (.) or string at /tmp/loop_over_bdir-3435738-CoXOQl/RSH-Logging-0.4.3-0/blib/lib/RSH/Logging/TextTable.pm line 240.
Use of uninitialized value $Text::SimpleTable::RIGHT_BORDER in concatenation (.) or string at /tmp/loop_over_bdir-3435738-CoXOQl/RSH-Logging-0.4.3-0/blib/lib/RSH/Logging/TextTable.pm line 241.
DEBUG Logging.pm:407, RSH::Logging::__ANON__: + sub0 0.000003s
Use of uninitialized value $Text::SimpleTable::LEFT_BORDER in concatenation (.) or string at /tmp/loop_over_bdir-3435738-CoXOQl/RSH-Logging-0.4.3-0/blib/lib/RSH/Logging/TextTable.pm line 240.
Use of uninitialized value $Text::SimpleTable::SEPARATOR in concatenation (.) or string at /tmp/loop_over_bdir-3435738-CoXOQl/RSH-Logging-0.4.3-0/blib/lib/RSH/Logging/TextTable.pm line 240.
Use of uninitialized value $Text::SimpleTable::RIGHT_BORDER in concatenation (.) or string at /tmp/loop_over_bdir-3435738-CoXOQl/RSH-Logging-0.4.3-0/blib/lib/RSH/Logging/TextTable.pm line 241.
DEBUG Logging.pm:407, RSH::Logging::__ANON__: + sub1 0.000002s
Use of uninitialized value $Text::SimpleTable::LEFT_BORDER in concatenation (.) or string at /tmp/loop_over_bdir-3435738-CoXOQl/RSH-Logging-0.4.3-0/blib/lib/RSH/Logging/TextTable.pm line 240.
Use of uninitialized value $Text::SimpleTable::SEPARATOR in concatenation (.) or string at /tmp/loop_over_bdir-3435738-CoXOQl/RSH-Logging-0.4.3-0/blib/lib/RSH/Logging/TextTable.pm line 240.
Use of uninitialized value $Text::SimpleTable::RIGHT_BORDER in concatenation (.) or string at /tmp/loop_over_bdir-3435738-CoXOQl/RSH-Logging-0.4.3-0/blib/lib/RSH/Logging/TextTable.pm line 241.
DEBUG Logging.pm:407, RSH::Logging::__ANON__: + sub2 0.000001s
Use of uninitialized value $Text::SimpleTable::LEFT_BORDER in concatenation (.) or string at /tmp/loop_over_bdir-3435738-CoXOQl/RSH-Logging-0.4.3-0/blib/lib/RSH/Logging/TextTable.pm line 240.
Use of uninitialized value $Text::SimpleTable::SEPARATOR in concatenation (.) or string at /tmp/loop_over_bdir-3435738-CoXOQl/RSH-Logging-0.4.3-0/blib/lib/RSH/Logging/TextTable.pm line 240.
Use of uninitialized value $Text::SimpleTable::RIGHT_BORDER in concatenation (.) or string at /tmp/loop_over_bdir-3435738-CoXOQl/RSH-Logging-0.4.3-0/blib/lib/RSH/Logging/TextTable.pm line 241.
DEBUG Logging.pm:407, RSH::Logging::__ANON__: + sub3 0.000001s
Use of uninitialized value $Text::SimpleTable::LEFT_BORDER in concatenation (.) or string at /tmp/loop_over_bdir-3435738-CoXOQl/RSH-Logging-0.4.3-0/blib/lib/RSH/Logging/TextTable.pm line 240.
Use of uninitialized value $Text::SimpleTable::SEPARATOR in concatenation (.) or string at /tmp/loop_over_bdir-3435738-CoXOQl/RSH-Logging-0.4.3-0/blib/lib/RSH/Logging/TextTable.pm line 240.
Use of uninitialized value $Text::SimpleTable::RIGHT_BORDER in concatenation (.) or string at /tmp/loop_over_bdir-3435738-CoXOQl/RSH-Logging-0.4.3-0/blib/lib/RSH/Logging/TextTable.pm line 241.
DEBUG Logging.pm:407, RSH::Logging::__ANON__: + sub4 0.000001s
Use of uninitialized value $Text::SimpleTable::LEFT_BORDER in concatenation (.) or string at /tmp/loop_over_bdir-3435738-CoXOQl/RSH-Logging-0.4.3-0/blib/lib/RSH/Logging/TextTable.pm line 240.
Use of uninitialized value $Text::SimpleTable::SEPARATOR in concatenation (.) or string at /tmp/loop_over_bdir-3435738-CoXOQl/RSH-Logging-0.4.3-0/blib/lib/RSH/Logging/TextTable.pm line 240.
Use of uninitialized value $Text::SimpleTable::RIGHT_BORDER in concatenation (.) or string at /tmp/loop_over_bdir-3435738-CoXOQl/RSH-Logging-0.4.3-0/blib/lib/RSH/Logging/TextTable.pm line 241.
DEBUG Logging.pm:407, RSH::Logging::__ANON__: + sub5 0.000001s
Use of uninitialized value $Text::SimpleTable::LEFT_BORDER in concatenation (.) or string at /tmp/loop_over_bdir-3435738-CoXOQl/RSH-Logging-0.4.3-0/blib/lib/RSH/Logging/TextTable.pm line 240.
Use of uninitialized value $Text::SimpleTable::SEPARATOR in concatenation (.) or string at /tmp/loop_over_bdir-3435738-CoXOQl/RSH-Logging-0.4.3-0/blib/lib/RSH/Logging/TextTable.pm line 240.
Use of uninitialized value $Text::SimpleTable::RIGHT_BORDER in concatenation (.) or string at /tmp/loop_over_bdir-3435738-CoXOQl/RSH-Logging-0.4.3-0/blib/lib/RSH/Logging/TextTable.pm line 241.
DEBUG Logging.pm:407, RSH::Logging::__ANON__: + sub6 0.000002s
Use of uninitialized value $Text::SimpleTable::LEFT_BORDER in concatenation (.) or string at /tmp/loop_over_bdir-3435738-CoXOQl/RSH-Logging-0.4.3-0/blib/lib/RSH/Logging/TextTable.pm line 240.
Use of uninitialized value $Text::SimpleTable::SEPARATOR in concatenation (.) or string at /tmp/loop_over_bdir-3435738-CoXOQl/RSH-Logging-0.4.3-0/blib/lib/RSH/Logging/TextTable.pm line 240.
Use of uninitialized value $Text::SimpleTable::RIGHT_BORDER in concatenation (.) or string at /tmp/loop_over_bdir-3435738-CoXOQl/RSH-Logging-0.4.3-0/blib/lib/RSH/Logging/TextTable.pm line 241.
DEBUG Logging.pm:407, RSH::Logging::__ANON__: + sub7 0.000001s
Use of uninitialized value $Text::SimpleTable::LEFT_BORDER in concatenation (.) or string at /tmp/loop_over_bdir-3435738-CoXOQl/RSH-Logging-0.4.3-0/blib/lib/RSH/Logging/TextTable.pm line 240.
Use of uninitialized value $Text::SimpleTable::SEPARATOR in concatenation (.) or string at /tmp/loop_over_bdir-3435738-CoXOQl/RSH-Logging-0.4.3-0/blib/lib/RSH/Logging/TextTable.pm line 240.
Use of uninitialized value $Text::SimpleTable::RIGHT_BORDER in concatenation (.) or string at /tmp/loop_over_bdir-3435738-CoXOQl/RSH-Logging-0.4.3-0/blib/lib/RSH/Logging/TextTable.pm line 241.
DEBUG Logging.pm:407, RSH::Logging::__ANON__: + sub8 0.000001s
Use of uninitialized value $Text::SimpleTable::LEFT_BORDER in concatenation (.) or string at /tmp/loop_over_bdir-3435738-CoXOQl/RSH-Logging-0.4.3-0/blib/lib/RSH/Logging/TextTable.pm line 240.
Use of uninitialized value $Text::SimpleTable::SEPARATOR in concatenation (.) or string at /tmp/loop_over_bdir-3435738-CoXOQl/RSH-Logging-0.4.3-0/blib/lib/RSH/Logging/TextTable.pm line 240.
Use of uninitialized value $Text::SimpleTable::RIGHT_BORDER in concatenation (.) or string at /tmp/loop_over_bdir-3435738-CoXOQl/RSH-Logging-0.4.3-0/blib/lib/RSH/Logging/TextTable.pm line 241.
DEBUG Logging.pm:407, RSH::Logging::__ANON__: + sub9 0.000001s
Use of uninitialized value $Text::SimpleTable::LEFT_BORDER in concatenation (.) or string at /tmp/loop_over_bdir-3435738-CoXOQl/RSH-Logging-0.4.3-0/blib/lib/RSH/Logging/TextTable.pm line 240.
Use of uninitialized value $Text::SimpleTable::SEPARATOR in concatenation (.) or string at /tmp/loop_over_bdir-3435738-CoXOQl/RSH-Logging-0.4.3-0/blib/lib/RSH/Logging/TextTable.pm line 240.
Use of uninitialized value $Text::SimpleTable::RIGHT_BORDER in concatenation (.) or string at /tmp/loop_over_bdir-3435738-CoXOQl/RSH-Logging-0.4.3-0/blib/lib/RSH/Logging/TextTable.pm line 241.
DEBUG Logging.pm:407, RSH::Logging::__ANON__: + sub10 0.000000s
Use of uninitialized value $Text::SimpleTable::LEFT_BORDER in concatenation (.) or string at /tmp/loop_over_bdir-3435738-CoXOQl/RSH-Logging-0.4.3-0/blib/lib/RSH/Logging/TextTable.pm line 240.
Use of uninitialized value $Text::SimpleTable::SEPARATOR in concatenation (.) or string at /tmp/loop_over_bdir-3435738-CoXOQl/RSH-Logging-0.4.3-0/blib/lib/RSH/Logging/TextTable.pm line 240.
Use of uninitialized value $Text::SimpleTable::RIGHT_BORDER in concatenation (.) or string at /tmp/loop_over_bdir-3435738-CoXOQl/RSH-Logging-0.4.3-0/blib/lib/RSH/Logging/TextTable.pm line 241.
DEBUG Logging.pm:407, RSH::Logging::__ANON__: + sub11 0.000001s
Use of uninitialized value $Text::SimpleTable::LEFT_BORDER in concatenation (.) or string at /tmp/loop_over_bdir-3435738-CoXOQl/RSH-Logging-0.4.3-0/blib/lib/RSH/Logging/TextTable.pm line 240.
Use of uninitialized value $Text::SimpleTable::SEPARATOR in concatenation (.) or string at /tmp/loop_over_bdir-3435738-CoXOQl/RSH-Logging-0.4.3-0/blib/lib/RSH/Logging/TextTable.pm line 240.
Use of uninitialized value $Text::SimpleTable::RIGHT_BORDER in concatenation (.) or string at /tmp/loop_over_bdir-3435738-CoXOQl/RSH-Logging-0.4.3-0/blib/lib/RSH/Logging/TextTable.pm line 241.
DEBUG Logging.pm:407, RSH::Logging::__ANON__: + sub12 0.000001s
Use of uninitialized value $Text::SimpleTable::LEFT_BORDER in concatenation (.) or string at /tmp/loop_over_bdir-3435738-CoXOQl/RSH-Logging-0.4.3-0/blib/lib/RSH/Logging/TextTable.pm line 240.
Use of uninitialized value $Text::SimpleTable::SEPARATOR in concatenation (.) or string at /tmp/loop_over_bdir-3435738-CoXOQl/RSH-Logging-0.4.3-0/blib/lib/RSH/Logging/TextTable.pm line 240.
Use of uninitialized value $Text::SimpleTable::RIGHT_BORDER in concatenation (.) or string at /tmp/loop_over_bdir-3435738-CoXOQl/RSH-Logging-0.4.3-0/blib/lib/RSH/Logging/TextTable.pm line 241.
DEBUG Logging.pm:407, RSH::Logging::__ANON__: + sub13 0.000001s
Use of uninitialized value $Text::SimpleTable::LEFT_BORDER in concatenation (.) or string at /tmp/loop_over_bdir-3435738-CoXOQl/RSH-Logging-0.4.3-0/blib/lib/RSH/Logging/TextTable.pm line 240.
Use of uninitialized value $Text::SimpleTable::SEPARATOR in concatenation (.) or string at /tmp/loop_over_bdir-3435738-CoXOQl/RSH-Logging-0.4.3-0/blib/lib/RSH/Logging/TextTable.pm line 240.
Use of uninitialized value $Text::SimpleTable::RIGHT_BORDER in concatenation (.) or string at /tmp/loop_over_bdir-3435738-CoXOQl/RSH-Logging-0.4.3-0/blib/lib/RSH/Logging/TextTable.pm line 241.
DEBUG Logging.pm:407, RSH::Logging::__ANON__: + sub14 0.000001s
Use of uninitialized value $Text::SimpleTable::LEFT_BORDER in concatenation (.) or string at /tmp/loop_over_bdir-3435738-CoXOQl/RSH-Logging-0.4.3-0/blib/lib/RSH/Logging/TextTable.pm line 240.
Use of uninitialized value $Text::SimpleTable::SEPARATOR in concatenation (.) or string at /tmp/loop_over_bdir-3435738-CoXOQl/RSH-Logging-0.4.3-0/blib/lib/RSH/Logging/TextTable.pm line 240.
Use of uninitialized value $Text::SimpleTable::RIGHT_BORDER in concatenation (.) or string at /tmp/loop_over_bdir-3435738-CoXOQl/RSH-Logging-0.4.3-0/blib/lib/RSH/Logging/TextTable.pm line 241.
DEBUG Logging.pm:407, RSH::Logging::__ANON__: + sub15 0.000001s
Use of uninitialized value $Text::SimpleTable::LEFT_BORDER in concatenation (.) or string at /tmp/loop_over_bdir-3435738-CoXOQl/RSH-Logging-0.4.3-0/blib/lib/RSH/Logging/TextTable.pm line 240.
Use of uninitialized value $Text::SimpleTable::SEPARATOR in concatenation (.) or string at /tmp/loop_over_bdir-3435738-CoXOQl/RSH-Logging-0.4.3-0/blib/lib/RSH/Logging/TextTable.pm line 240.
Use of uninitialized value $Text::SimpleTable::RIGHT_BORDER in concatenation (.) or string at /tmp/loop_over_bdir-3435738-CoXOQl/RSH-Logging-0.4.3-0/blib/lib/RSH/Logging/TextTable.pm line 241.
DEBUG Logging.pm:407, RSH::Logging::__ANON__: + sub16 0.000001s
Use of uninitialized value $Text::SimpleTable::LEFT_BORDER in concatenation (.) or string at /tmp/loop_over_bdir-3435738-CoXOQl/RSH-Logging-0.4.3-0/blib/lib/RSH/Logging/TextTable.pm line 240.
Use of uninitialized value $Text::SimpleTable::SEPARATOR in concatenation (.) or string at /tmp/loop_over_bdir-3435738-CoXOQl/RSH-Logging-0.4.3-0/blib/lib/RSH/Logging/TextTable.pm line 240.
Use of uninitialized value $Text::SimpleTable::RIGHT_BORDER in concatenation (.) or string at /tmp/loop_over_bdir-3435738-CoXOQl/RSH-Logging-0.4.3-0/blib/lib/RSH/Logging/TextTable.pm line 241.
DEBUG Logging.pm:407, RSH::Logging::__ANON__: + sub17 0.000001s
Use of uninitialized value $Text::SimpleTable::LEFT_BORDER in concatenation (.) or string at /tmp/loop_over_bdir-3435738-CoXOQl/RSH-Logging-0.4.3-0/blib/lib/RSH/Logging/TextTable.pm line 240.
Use of uninitialized value $Text::SimpleTable::SEPARATOR in concatenation (.) or string at /tmp/loop_over_bdir-3435738-CoXOQl/RSH-Logging-0.4.3-0/blib/lib/RSH/Logging/TextTable.pm line 240.
Use of uninitialized value $Text::SimpleTable::RIGHT_BORDER in concatenation (.) or string at /tmp/loop_over_bdir-3435738-CoXOQl/RSH-Logging-0.4.3-0/blib/lib/RSH/Logging/TextTable.pm line 241.
DEBUG Logging.pm:407, RSH::Logging::__ANON__: + sub18 0.000001s
Use of uninitialized value $Text::SimpleTable::LEFT_BORDER in concatenation (.) or string at /tmp/loop_over_bdir-3435738-CoXOQl/RSH-Logging-0.4.3-0/blib/lib/RSH/Logging/TextTable.pm line 240.
Use of uninitialized value $Text::SimpleTable::SEPARATOR in concatenation (.) or string at /tmp/loop_over_bdir-3435738-CoXOQl/RSH-Logging-0.4.3-0/blib/lib/RSH/Logging/TextTable.pm line 240.
Use of uninitialized value $Text::SimpleTable::RIGHT_BORDER in concatenation (.) or string at /tmp/loop_over_bdir-3435738-CoXOQl/RSH-Logging-0.4.3-0/blib/lib/RSH/Logging/TextTable.pm line 241.
DEBUG Logging.pm:407, RSH::Logging::__ANON__: + sub19 0.000001s
Use of uninitialized value $Text::SimpleTable::LEFT_BORDER in concatenation (.) or string at /tmp/loop_over_bdir-3435738-CoXOQl/RSH-Logging-0.4.3-0/blib/lib/RSH/Logging/TextTable.pm line 240.
Use of uninitialized value $Text::SimpleTable::SEPARATOR in concatenation (.) or string at /tmp/loop_over_bdir-3435738-CoXOQl/RSH-Logging-0.4.3-0/blib/lib/RSH/Logging/TextTable.pm line 240.
Use of uninitialized value $Text::SimpleTable::RIGHT_BORDER in concatenation (.) or string at /tmp/loop_over_bdir-3435738-CoXOQl/RSH-Logging-0.4.3-0/blib/lib/RSH/Logging/TextTable.pm line 241.
DEBUG Logging.pm:407, RSH::Logging::__ANON__: + sub20 0.000001s
Use of uninitialized value $Text::SimpleTable::LEFT_BORDER in concatenation (.) or string at /tmp/loop_over_bdir-3435738-CoXOQl/RSH-Logging-0.4.3-0/blib/lib/RSH/Logging/TextTable.pm line 240.
Use of uninitialized value $Text::SimpleTable::SEPARATOR in concatenation (.) or string at /tmp/loop_over_bdir-3435738-CoXOQl/RSH-Logging-0.4.3-0/blib/lib/RSH/Logging/TextTable.pm line 240.
Use of uninitialized value $Text::SimpleTable::RIGHT_BORDER in concatenation (.) or string at /tmp/loop_over_bdir-3435738-CoXOQl/RSH-Logging-0.4.3-0/blib/lib/RSH/Logging/TextTable.pm line 241.
DEBUG Logging.pm:407, RSH::Logging::__ANON__: + sub21 0.000001s
Use of uninitialized value $Text::SimpleTable::LEFT_BORDER in concatenation (.) or string at /tmp/loop_over_bdir-3435738-CoXOQl/RSH-Logging-0.4.3-0/blib/lib/RSH/Logging/TextTable.pm line 240.
Use of uninitialized value $Text::SimpleTable::SEPARATOR in concatenation (.) or string at /tmp/loop_over_bdir-3435738-CoXOQl/RSH-Logging-0.4.3-0/blib/lib/RSH/Logging/TextTable.pm line 240.
Use of uninitialized value $Text::SimpleTable::RIGHT_BORDER in concatenation (.) or string at /tmp/loop_over_bdir-3435738-CoXOQl/RSH-Logging-0.4.3-0/blib/lib/RSH/Logging/TextTable.pm line 241.
DEBUG Logging.pm:407, RSH::Logging::__ANON__: + sub22 0.000001s
Use of uninitialized value $Text::SimpleTable::LEFT_BORDER in concatenation (.) or string at /tmp/loop_over_bdir-3435738-CoXOQl/RSH-Logging-0.4.3-0/blib/lib/RSH/Logging/TextTable.pm line 240.
Use of uninitialized value $Text::SimpleTable::SEPARATOR in concatenation (.) or string at /tmp/loop_over_bdir-3435738-CoXOQl/RSH-Logging-0.4.3-0/blib/lib/RSH/Logging/TextTable.pm line 240.
Use of uninitialized value $Text::SimpleTable::RIGHT_BORDER in concatenation (.) or string at /tmp/loop_over_bdir-3435738-CoXOQl/RSH-Logging-0.4.3-0/blib/lib/RSH/Logging/TextTable.pm line 241.
DEBUG Logging.pm:407, RSH::Logging::__ANON__: + sub23 0.000001s
Use of uninitialized value $Text::SimpleTable::LEFT_BORDER in concatenation (.) or string at /tmp/loop_over_bdir-3435738-CoXOQl/RSH-Logging-0.4.3-0/blib/lib/RSH/Logging/TextTable.pm line 240.
Use of uninitialized value $Text::SimpleTable::SEPARATOR in concatenation (.) or string at /tmp/loop_over_bdir-3435738-CoXOQl/RSH-Logging-0.4.3-0/blib/lib/RSH/Logging/TextTable.pm line 240.
Use of uninitialized value $Text::SimpleTable::RIGHT_BORDER in concatenation (.) or string at /tmp/loop_over_bdir-3435738-CoXOQl/RSH-Logging-0.4.3-0/blib/lib/RSH/Logging/TextTable.pm line 241.
DEBUG Logging.pm:407, RSH::Logging::__ANON__: + sub24 0.000001s
Use of uninitialized value in repeat (x) at /tmp/loop_over_bdir-3435738-CoXOQl/RSH-Logging-0.4.3-0/blib/lib/RSH/Logging/TextTable.pm line 256.
Use of uninitialized value $Text::SimpleTable::BOTTOM_LEFT in concatenation (.) or string at /tmp/loop_over_bdir-3435738-CoXOQl/RSH-Logging-0.4.3-0/blib/lib/RSH/Logging/TextTable.pm line 261.
Use of uninitialized value $Text::SimpleTable::BOTTOM_SEPARATOR in concatenation (.) or string at /tmp/loop_over_bdir-3435738-CoXOQl/RSH-Logging-0.4.3-0/blib/lib/RSH/Logging/TextTable.pm line 261.
Use of uninitialized value in repeat (x) at /tmp/loop_over_bdir-3435738-CoXOQl/RSH-Logging-0.4.3-0/blib/lib/RSH/Logging/TextTable.pm line 256.
Use of uninitialized value $Text::SimpleTable::BOTTOM_RIGHT in concatenation (.) or string at /tmp/loop_over_bdir-3435738-CoXOQl/RSH-Logging-0.4.3-0/blib/lib/RSH/Logging/TextTable.pm line 262.
DEBUG Logging.pm:407, RSH::Logging::__ANON__:
DEBUG Logging.pm:407, RSH::Logging::__ANON__:
t/011.RSH-Logging-chunking.t .. ok
t/999.perlcritic.t ............ skipped: Not worrying about perl critic right now.
t/999.pod-coverage.t .......... ok
t/999.pod.t ................... ok
All tests successful.
Files=6, Tests=160, 2 wallclock secs ( 0.03 usr 0.01 sys + 1.34 cusr 0.27 csys = 1.65 CPU)
Result: PASS
------------------------------
PREREQUISITES
------------------------------
Prerequisite modules loaded:
requires:
Module Need Have
------------------- ----- --------
IO::File 0 1.52
Log::Log4perl 0 1.57
perl 5.008 5.038002
Scalar::Util 0 1.63
Test::More 0 1.302198
Text::SimpleTable 0 2.07
Time::HiRes 0 1.9775
build_requires:
Module Need Have
------------------- ----- --------
ExtUtils::MakeMaker 6.42 7.70
Test::More 0 1.302198
configure_requires:
Module Need Have
------------------- ----- --------
ExtUtils::MakeMaker 6.42 7.70
opt_requires:
Module Need Have
------------------- ----- --------
Test::Perl::Critic 0 1.04
Test::Pod 0 1.52
Test::Pod::Coverage 0 1.10
------------------------------
ENVIRONMENT AND OTHER CONTEXT
------------------------------
Environment variables:
AUTOMATED_TESTING = 1
LANG = en_US.UTF-8
LC_ADDRESS = de_DE.UTF-8
LC_IDENTIFICATION = de_DE.UTF-8
LC_MEASUREMENT = de_DE.UTF-8
LC_MONETARY = de_DE.UTF-8
LC_NAME = de_DE.UTF-8
LC_NUMERIC = de_DE.UTF-8
LC_PAPER = de_DE.UTF-8
LC_TELEPHONE = de_DE.UTF-8
LC_TIME = de_DE.UTF-8
PATH = /home/sand/bin:/usr/local/bin:/usr/local/sbin:/usr/sbin:/usr/bin:/sbin:/bin:/usr/games:/usr/local/games:/snap/bin:/usr/local/perl/bin:/usr/X11/bin
PERL = /tmp/basesmoker-reloperl-1xKn/bin/perl
PERL5LIB = /tmp/loop_over_bdir-3435738-CoXOQl/shishi-0.0.1-0/blib/arch:/tmp/loop_over_bdir-3435738-CoXOQl/shishi-0.0.1-0/blib/lib:/tmp/loop_over_bdir-3435738-CoXOQl/HTML-Menu-TreeView-1.22-0/blib/arch:/tmp/loop_over_bdir-3435738-CoXOQl/HTML-Menu-TreeView-1.22-0/blib/lib:/tmp/loop_over_bdir-3435738-CoXOQl/LiquidWeb-Storm-CLI-1.03-0/blib/arch:/tmp/loop_over_bdir-3435738-CoXOQl/LiquidWeb-Storm-CLI-1.03-0/blib/lib:/tmp/loop_over_bdir-3435738-CoXOQl/LCFG-Build-Skeleton-0.5.0-0/blib/arch:/tmp/loop_over_bdir-3435738-CoXOQl/LCFG-Build-Skeleton-0.5.0-0/blib/lib:/tmp/loop_over_bdir-3435738-CoXOQl/downsexta-0/blib/arch:/tmp/loop_over_bdir-3435738-CoXOQl/downsexta-0/blib/lib:/tmp/loop_over_bdir-3435738-CoXOQl/triceps-2.1.0-0/blib/arch:/tmp/loop_over_bdir-3435738-CoXOQl/triceps-2.1.0-0/blib/lib:/tmp/loop_over_bdir-3435738-CoXOQl/App-rmcd-0.280-0/blib/arch:/tmp/loop_over_bdir-3435738-CoXOQl/App-rmcd-0.280-0/blib/lib:/tmp/loop_over_bdir-3435738-CoXOQl/MP3-PodcastFetch-1.05-0/blib/arch:/tmp/loop_over_bdir-3435738-CoXOQl/MP3-PodcastFetch-1.05-0/blib/lib:/tmp/loop_over_bdir-3435738-CoXOQl/ProjectBuilder-0.14.1-0/blib/arch:/tmp/loop_over_bdir-3435738-CoXOQl/ProjectBuilder-0.14.1-0/blib/lib:/tmp/loop_over_bdir-3435738-CoXOQl/Devel-Required-0.16-0/blib/arch:/tmp/loop_over_bdir-3435738-CoXOQl/Devel-Required-0.16-0/blib/lib:/tmp/loop_over_bdir-3435738-CoXOQl/Sysync-0.35-0/blib/arch:/tmp/loop_over_bdir-3435738-CoXOQl/Sysync-0.35-0/blib/lib:/tmp/loop_over_bdir-3435738-CoXOQl/Lingua-BioYaTeA-0.11-0/blib/arch:/tmp/loop_over_bdir-3435738-CoXOQl/Lingua-BioYaTeA-0.11-0/blib/lib:/tmp/loop_over_bdir-3435738-CoXOQl/Lingua-YaTeA-0.626-0/blib/arch:/tmp/loop_over_bdir-3435738-CoXOQl/Lingua-YaTeA-0.626-0/blib/lib:/tmp/loop_over_bdir-3435738-CoXOQl/Net-Async-WebService-lxd-0.03-0/blib/arch:/tmp/loop_over_bdir-3435738-CoXOQl/Net-Async-WebService-lxd-0.03-0/blib/lib:/tmp/loop_over_bdir-3435738-CoXOQl/Business-Shipping-DataFiles-1.02-0/blib/arch:/tmp/loop_over_bdir-3435738-CoXOQl/Business-Shipping-DataFiles-1.02-0/blib/lib:/tmp/loop_over_bdir-3435738-CoXOQl/Dpkg-1.22.2-0/blib/arch:/tmp/loop_over_bdir-3435738-CoXOQl/Dpkg-1.22.2-0/blib/lib
PERL5OPT =
PERL5_CPANPLUS_IS_RUNNING = 3435746
PERL5_CPAN_IS_RUNNING = 3435746
PERL_CANARY_STABILITY_NOPROMPT = 1
PERL_MM_USE_DEFAULT = 1
PERL_USE_UNSAFE_INC = 1
SHELL = /usr/bin/zsh
TERM = screen
Perl special variables (and OS-specific diagnostics, for MSWin32):
$^X = /tmp/basesmoker-reloperl-1xKn/bin/perl
$UID/$EUID = 1005 / 1005
$GID = 1005 1005
$EGID = 1005 1005
Perl module toolchain versions installed:
Module Have
------------------- --------
CPAN 2.36
CPAN::Meta 2.150010
Cwd 3.89
ExtUtils::CBuilder 0.280238
ExtUtils::Command 7.70
ExtUtils::Install 2.22
ExtUtils::MakeMaker 7.70
ExtUtils::Manifest 1.73
ExtUtils::ParseXS 3.51
File::Spec 3.88
JSON 4.10
JSON::PP 4.16
Module::Build 0.4234
Module::Signature 0.88
Parse::CPAN::Meta 2.150010
Test2 1.302198
Test::Harness 3.48
Test::More 1.302198
YAML 1.30
YAML::Syck 1.34
version 0.9930
--
Summary of my perl5 (revision 5 version 38 subversion 2) configuration:
Commit id: 55dd2f792ffc8cefe614350a411f785374281b24
Platform:
osname=linux
osvers=6.2.0-37-generic
archname=x86_64-linux-ld
uname='linux k93jammy 6.2.0-37-generic #38~22.04.1-ubuntu smp preempt_dynamic thu nov 2 18:01:13 utc 2 x86_64 x86_64 x86_64 gnulinux '
config_args='-Dprefix=/home/sand/src/perl/repoperls/installed-perls/host/k93jammy/v5.38.2/5674 -Dmyhostname=k93jammy -Dinstallusrbinperl=n -Uversiononly -Dusedevel -des -Ui_db -Dlibswanted=cl pthread socket inet nsl gdbm dbm malloc dl ld sun m crypt sec util c cposix posix ucb BSD gdbm_compat -Uuseithreads -Duselongdouble -DEBUGGING=-g'
hint=recommended
useposix=true
d_sigaction=define
useithreads=undef
usemultiplicity=undef
use64bitint=define
use64bitall=define
uselongdouble=define
usemymalloc=n
default_inc_excludes_dot=define
Compiler:
cc='cc'
ccflags ='-fwrapv -fno-strict-aliasing -pipe -fstack-protector-strong -I/usr/local/include -D_LARGEFILE_SOURCE -D_FILE_OFFSET_BITS=64'
optimize='-O2 -g'
cppflags='-fwrapv -fno-strict-aliasing -pipe -fstack-protector-strong -I/usr/local/include'
ccversion=''
gccversion='11.4.0'
gccosandvers=''
intsize=4
longsize=8
ptrsize=8
doublesize=8
byteorder=12345678
doublekind=3
d_longlong=define
longlongsize=8
d_longdbl=define
longdblsize=16
longdblkind=3
ivtype='long'
ivsize=8
nvtype='long double'
nvsize=16
Off_t='off_t'
lseeksize=8
alignbytes=16
prototype=define
Linker and Libraries:
ld='cc'
ldflags =' -fstack-protector-strong -L/usr/local/lib'
libpth=/usr/local/lib /usr/lib/x86_64-linux-gnu /usr/lib /usr/lib64
libs=-lpthread -lnsl -ldl -lm -lcrypt -lutil -lc
perllibs=-lpthread -lnsl -ldl -lm -lcrypt -lutil -lc
libc=/lib/x86_64-linux-gnu/libc.so.6
so=so
useshrplib=false
libperl=libperl.a
gnulibc_version='2.35'
Dynamic Linking:
dlsrc=dl_dlopen.xs
dlext=so
d_dlsymun=undef
ccdlflags='-Wl,-E'
cccdlflags='-fPIC'
lddlflags='-shared -O2 -g -L/usr/local/lib -fstack-protector-strong'
Characteristics of this binary (from libperl):
Compile-time options:
HAS_LONG_DOUBLE
HAS_STRTOLD
HAS_TIMES
PERLIO_LAYERS
PERL_COPY_ON_WRITE
PERL_DONT_CREATE_GVSV
PERL_HASH_FUNC_SIPHASH13
PERL_HASH_USE_SBOX32
PERL_MALLOC_WRAP
PERL_OP_PARENT
PERL_PRESERVE_IVUV
PERL_USE_DEVEL
PERL_USE_SAFE_PUTENV
USE_64_BIT_ALL
USE_64_BIT_INT
USE_LARGE_FILES
USE_LOCALE
USE_LOCALE_COLLATE
USE_LOCALE_CTYPE
USE_LOCALE_NUMERIC
USE_LOCALE_TIME
USE_LONG_DOUBLE
USE_PERLIO
USE_PERL_ATOF
Built under linux
Compiled at Dec 21 2023 18:45:56
%ENV:
PERL="/tmp/basesmoker-reloperl-1xKn/bin/perl"
PERL5LIB="/tmp/loop_over_bdir-3435738-CoXOQl/shishi-0.0.1-0/blib/arch:/tmp/loop_over_bdir-3435738-CoXOQl/shishi-0.0.1-0/blib/lib:/tmp/loop_over_bdir-3435738-CoXOQl/HTML-Menu-TreeView-1.22-0/blib/arch:/tmp/loop_over_bdir-3435738-CoXOQl/HTML-Menu-TreeView-1.22-0/blib/lib:/tmp/loop_over_bdir-3435738-CoXOQl/LiquidWeb-Storm-CLI-1.03-0/blib/arch:/tmp/loop_over_bdir-3435738-CoXOQl/LiquidWeb-Storm-CLI-1.03-0/blib/lib:/tmp/loop_over_bdir-3435738-CoXOQl/LCFG-Build-Skeleton-0.5.0-0/blib/arch:/tmp/loop_over_bdir-3435738-CoXOQl/LCFG-Build-Skeleton-0.5.0-0/blib/lib:/tmp/loop_over_bdir-3435738-CoXOQl/downsexta-0/blib/arch:/tmp/loop_over_bdir-3435738-CoXOQl/downsexta-0/blib/lib:/tmp/loop_over_bdir-3435738-CoXOQl/triceps-2.1.0-0/blib/arch:/tmp/loop_over_bdir-3435738-CoXOQl/triceps-2.1.0-0/blib/lib:/tmp/loop_over_bdir-3435738-CoXOQl/App-rmcd-0.280-0/blib/arch:/tmp/loop_over_bdir-3435738-CoXOQl/App-rmcd-0.280-0/blib/lib:/tmp/loop_over_bdir-3435738-CoXOQl/MP3-PodcastFetch-1.05-0/blib/arch:/tmp/loop_over_bdir-3435738-CoXOQl/MP3-PodcastFetch-1.05-0/blib/lib:/tmp/loop_over_bdir-3435738-CoXOQl/ProjectBuilder-0.14.1-0/blib/arch:/tmp/loop_over_bdir-3435738-CoXOQl/ProjectBuilder-0.14.1-0/blib/lib:/tmp/loop_over_bdir-3435738-CoXOQl/Devel-Required-0.16-0/blib/arch:/tmp/loop_over_bdir-3435738-CoXOQl/Devel-Required-0.16-0/blib/lib:/tmp/loop_over_bdir-3435738-CoXOQl/Sysync-0.35-0/blib/arch:/tmp/loop_over_bdir-3435738-CoXOQl/Sysync-0.35-0/blib/lib:/tmp/loop_over_bdir-3435738-CoXOQl/Lingua-BioYaTeA-0.11-0/blib/arch:/tmp/loop_over_bdir-3435738-CoXOQl/Lingua-BioYaTeA-0.11-0/blib/lib:/tmp/loop_over_bdir-3435738-CoXOQl/Lingua-YaTeA-0.626-0/blib/arch:/tmp/loop_over_bdir-3435738-CoXOQl/Lingua-YaTeA-0.626-0/blib/lib:/tmp/loop_over_bdir-3435738-CoXOQl/Net-Async-WebService-lxd-0.03-0/blib/arch:/tmp/loop_over_bdir-3435738-CoXOQl/Net-Async-WebService-lxd-0.03-0/blib/lib:/tmp/loop_over_bdir-3435738-CoXOQl/Business-Shipping-DataFiles-1.02-0/blib/arch:/tmp/loop_over_bdir-3435738-CoXOQl/Business-Shipping-DataFiles-1.02-0/blib/lib:/tmp/loop_over_bdir-3435738-CoXOQl/Dpkg-1.22.2-0/blib/arch:/tmp/loop_over_bdir-3435738-CoXOQl/Dpkg-1.22.2-0/blib/lib"
PERL5OPT=""
PERL5_CPANPLUS_IS_RUNNING="3435746"
PERL5_CPAN_IS_RUNNING="3435746"
PERL_CANARY_STABILITY_NOPROMPT="1"
PERL_MM_USE_DEFAULT="1"
PERL_USE_UNSAFE_INC="1"
@INC:
/tmp/loop_over_bdir-3435738-CoXOQl/shishi-0.0.1-0/blib/arch
/tmp/loop_over_bdir-3435738-CoXOQl/shishi-0.0.1-0/blib/lib
/tmp/loop_over_bdir-3435738-CoXOQl/HTML-Menu-TreeView-1.22-0/blib/arch
/tmp/loop_over_bdir-3435738-CoXOQl/HTML-Menu-TreeView-1.22-0/blib/lib
/tmp/loop_over_bdir-3435738-CoXOQl/LiquidWeb-Storm-CLI-1.03-0/blib/arch
/tmp/loop_over_bdir-3435738-CoXOQl/LiquidWeb-Storm-CLI-1.03-0/blib/lib
/tmp/loop_over_bdir-3435738-CoXOQl/LCFG-Build-Skeleton-0.5.0-0/blib/arch
/tmp/loop_over_bdir-3435738-CoXOQl/LCFG-Build-Skeleton-0.5.0-0/blib/lib
/tmp/loop_over_bdir-3435738-CoXOQl/downsexta-0/blib/arch
/tmp/loop_over_bdir-3435738-CoXOQl/downsexta-0/blib/lib
/tmp/loop_over_bdir-3435738-CoXOQl/triceps-2.1.0-0/blib/arch
/tmp/loop_over_bdir-3435738-CoXOQl/triceps-2.1.0-0/blib/lib
/tmp/loop_over_bdir-3435738-CoXOQl/App-rmcd-0.280-0/blib/arch
/tmp/loop_over_bdir-3435738-CoXOQl/App-rmcd-0.280-0/blib/lib
/tmp/loop_over_bdir-3435738-CoXOQl/MP3-PodcastFetch-1.05-0/blib/arch
/tmp/loop_over_bdir-3435738-CoXOQl/MP3-PodcastFetch-1.05-0/blib/lib
/tmp/loop_over_bdir-3435738-CoXOQl/ProjectBuilder-0.14.1-0/blib/arch
/tmp/loop_over_bdir-3435738-CoXOQl/ProjectBuilder-0.14.1-0/blib/lib
/tmp/loop_over_bdir-3435738-CoXOQl/Devel-Required-0.16-0/blib/arch
/tmp/loop_over_bdir-3435738-CoXOQl/Devel-Required-0.16-0/blib/lib
/tmp/loop_over_bdir-3435738-CoXOQl/Sysync-0.35-0/blib/arch
/tmp/loop_over_bdir-3435738-CoXOQl/Sysync-0.35-0/blib/lib
/tmp/loop_over_bdir-3435738-CoXOQl/Lingua-BioYaTeA-0.11-0/blib/arch
/tmp/loop_over_bdir-3435738-CoXOQl/Lingua-BioYaTeA-0.11-0/blib/lib
/tmp/loop_over_bdir-3435738-CoXOQl/Lingua-YaTeA-0.626-0/blib/arch
/tmp/loop_over_bdir-3435738-CoXOQl/Lingua-YaTeA-0.626-0/blib/lib
/tmp/loop_over_bdir-3435738-CoXOQl/Net-Async-WebService-lxd-0.03-0/blib/arch
/tmp/loop_over_bdir-3435738-CoXOQl/Net-Async-WebService-lxd-0.03-0/blib/lib
/tmp/loop_over_bdir-3435738-CoXOQl/Business-Shipping-DataFiles-1.02-0/blib/arch
/tmp/loop_over_bdir-3435738-CoXOQl/Business-Shipping-DataFiles-1.02-0/blib/lib
/tmp/loop_over_bdir-3435738-CoXOQl/Dpkg-1.22.2-0/blib/arch
/tmp/loop_over_bdir-3435738-CoXOQl/Dpkg-1.22.2-0/blib/lib
/home/sand/src/perl/repoperls/installed-perls/host/k93jammy/v5.38.2/5674/lib/site_perl/5.38.2/x86_64-linux-ld
/home/sand/src/perl/repoperls/installed-perls/host/k93jammy/v5.38.2/5674/lib/site_perl/5.38.2
/home/sand/src/perl/repoperls/installed-perls/host/k93jammy/v5.38.2/5674/lib/5.38.2/x86_64-linux-ld
/home/sand/src/perl/repoperls/installed-perls/host/k93jammy/v5.38.2/5674/lib/5.38.2
.