SPVM-IO v0.214 Perl 5 v5.32.0 i686-linux-64int-ld

Status
Pass
From
David Cantrell (DCANTRELL)
Dist
SPVM-IO v0.214
Platform
Perl 5 v5.32.0 i686-linux-64int-ld
Date
2024-05-22T01:05:36
ID
65b174e4-17d7-11ef-be81-d7f4eb31905a
This distribution has been tested as part of the CPAN Testers
project, supporting the Perl programming language.  See
http://wiki.cpantesters.org/ for more information or email
questions to cpan-testers-discuss@perl.org


--
Dear Yuki Kimoto,

This is a computer-generated report for SPVM-IO-0.214
on perl 5.32.0, created by CPAN-Reporter-1.2018.

Thank you for uploading your work to CPAN.  Congratulations!
All tests were successful.

Sections of this report:

    * Tester comments
    * Program output
    * Prerequisites
    * Environment and other context

------------------------------
TESTER COMMENTS
------------------------------

Additional comments from tester:

this report is from an automated smoke testing program
and was not reviewed by a human for accuracy

------------------------------
PROGRAM OUTPUT
------------------------------

Output from '/usr/bin/make test':

PERL_DL_NONLAZY=1 "/home/david/cpantesting/perl-5.32.0-longdouble-int64/bin/perl" "-MExtUtils::Command::MM" "-MTest::Harness" "-e" "undef *Test::Harness::Switches; test_harness(0, 'blib/lib', 'blib/arch')" t/*.t
[2024-05-22 02:04:27.22159] [27163] [info] Listening at "http://*:44539"
[2024-05-22 02:04:27.65700] [27163] [trace] [Z88edyTyMYHY] GET "/hello"
[2024-05-22 02:04:27.67934] [27163] [trace] [Z88edyTyMYHY] 200 OK (0.022318s, 44.807/s)
t/01-01-Test-Tcp_and_Mojolicious.t ........... ok
[2024-05-22 02:04:46.64431] [27336] [info] Listening at "http://*:39927"
[2024-05-22 02:04:47.01487] [27336] [trace] [WssGv7m0CT5S] GET "/hello"
[2024-05-22 02:04:47.03001] [27336] [trace] [WssGv7m0CT5S] 200 OK (0.01512s, 66.138/s)
t/01-02-Test-Tcp_and_Mojolicious_and_SPVM.t .. ok
t/IO-File.t .................................. ok
t/IO-Select.t ................................ ok
[2024-05-22 02:05:00.84625] [27406] [info] Listening at "http://*:39499"
[2024-05-22 02:05:01.31955] [27406] [trace] [7Z4ixYTnLP2z] GET "/hello"
[2024-05-22 02:05:01.32648] [27406] [trace] [7Z4ixYTnLP2z] 200 OK (0.006891s, 145.117/s)
[2024-05-22 02:05:01.34983] [27406] [trace] [jajAW5VXZOUm] GET "/hello"
[2024-05-22 02:05:01.36461] [27406] [trace] [jajAW5VXZOUm] 200 OK (0.014748s, 67.806/s)
[2024-05-22 02:05:01.37320] [27406] [trace] [gBNqwmiN2QaH] GET "/hello"
[2024-05-22 02:05:01.37425] [27406] [trace] [gBNqwmiN2QaH] 200 OK (0.001028s, 972.763/s)
[2024-05-22 02:05:01.42909] [27406] [trace] [Jfj3H_SW_Q-p] GET "/hello"
[2024-05-22 02:05:01.43322] [27406] [trace] [Jfj3H_SW_Q-p] 200 OK (0.004114s, 243.072/s)
[2024-05-22 02:05:01.49776] [27406] [trace] [4P431iU2RrFD] GET "/"
[2024-05-22 02:05:01.50057] [27406] [trace] [4P431iU2RrFD] Template "not_found.development.html.ep" not found
[2024-05-22 02:05:01.50207] [27406] [trace] [4P431iU2RrFD] Template "not_found.html.ep" not found
[2024-05-22 02:05:01.50265] [27406] [trace] [4P431iU2RrFD] Rendering template "mojo/debug.html.ep"
[2024-05-22 02:05:01.67751] [27406] [trace] Your secret passphrase needs to be changed (see FAQ for more)
[2024-05-22 02:05:01.68334] [27406] [trace] [4P431iU2RrFD] 404 Not Found (0.18556s, 5.389/s)
[2024-05-22 02:05:01.74505] [27406] [trace] [bCONU-ZAQqaU] GET "/"
[2024-05-22 02:05:01.74669] [27406] [trace] [bCONU-ZAQqaU] Template "not_found.development.html.ep" not found
[2024-05-22 02:05:01.74781] [27406] [trace] [bCONU-ZAQqaU] Template "not_found.html.ep" not found
[2024-05-22 02:05:01.74861] [27406] [trace] [bCONU-ZAQqaU] Rendering cached template "mojo/debug.html.ep"
[2024-05-22 02:05:01.77038] [27406] [trace] [bCONU-ZAQqaU] 404 Not Found (0.025309s, 39.512/s)
t/IO-Socket-INET.t ........................... ok
[2024-05-22 02:05:07.53399] [27443] [info] Listening at "http://[::1]:39043"
[2024-05-22 02:05:07.70731] [27443] [trace] [eK2Lk7jSnXFi] GET "/hello"
[2024-05-22 02:05:07.72547] [27443] [trace] [eK2Lk7jSnXFi] 200 OK (0.018141s, 55.124/s)
[2024-05-22 02:05:07.73546] [27443] [trace] [vHiaS_f06Wms] GET "/hello"
[2024-05-22 02:05:07.74857] [27443] [trace] [vHiaS_f06Wms] 200 OK (0.013094s, 76.371/s)
[2024-05-22 02:05:07.76692] [27443] [trace] [THy1QB2HUT4I] GET "/hello"
[2024-05-22 02:05:07.78294] [27443] [trace] [THy1QB2HUT4I] 200 OK (0.015989s, 62.543/s)
[2024-05-22 02:05:07.80598] [27443] [trace] [U5p7UfmpUcPs] GET "/hello"
[2024-05-22 02:05:07.80736] [27443] [trace] [U5p7UfmpUcPs] 200 OK (0.001352s, 739.645/s)
[2024-05-22 02:05:07.84920] [27443] [trace] [eejzWguBA6zw] GET "/"
[2024-05-22 02:05:07.85333] [27443] [trace] [eejzWguBA6zw] Template "not_found.development.html.ep" not found
[2024-05-22 02:05:07.85496] [27443] [trace] [eejzWguBA6zw] Template "not_found.html.ep" not found
[2024-05-22 02:05:07.85616] [27443] [trace] [eejzWguBA6zw] Rendering template "mojo/debug.html.ep"
[2024-05-22 02:05:08.02675] [27443] [trace] Your secret passphrase needs to be changed (see FAQ for more)
[2024-05-22 02:05:08.04442] [27443] [trace] [eejzWguBA6zw] 404 Not Found (0.195199s, 5.123/s)
[2024-05-22 02:05:08.06441] [27443] [trace] [ncYSe4gyqRLn] GET "/"
[2024-05-22 02:05:08.07285] [27443] [trace] [ncYSe4gyqRLn] Template "not_found.development.html.ep" not found
[2024-05-22 02:05:08.08041] [27443] [trace] [ncYSe4gyqRLn] Template "not_found.html.ep" not found
[2024-05-22 02:05:08.08098] [27443] [trace] [ncYSe4gyqRLn] Rendering cached template "mojo/debug.html.ep"
[2024-05-22 02:05:08.10515] [27443] [trace] [ncYSe4gyqRLn] 404 Not Found (0.040704s, 24.568/s)
t/IO-Socket-INET6.t .......................... ok
[2024-05-22 02:05:13.51131] [27518] [info] Listening at "http://*:44269"
[2024-05-22 02:05:13.92326] [27518] [trace] [94It3uAZKHJn] GET "/hello"
[2024-05-22 02:05:13.92961] [27518] [trace] [94It3uAZKHJn] 200 OK (0.006341s, 157.704/s)
[2024-05-22 02:05:13.95116] [27518] [trace] [_PqeqxRudnex] GET "/hello"
[2024-05-22 02:05:13.95684] [27518] [trace] [_PqeqxRudnex] 200 OK (0.005642s, 177.242/s)
[2024-05-22 02:05:13.98936] [27518] [trace] [AuXTEDBxfFnK] GET "/hello"
[2024-05-22 02:05:14.00094] [27518] [trace] [AuXTEDBxfFnK] 200 OK (0.011535s, 86.693/s)
[2024-05-22 02:05:14.03846] [27518] [trace] [fFo8p8QMtCAC] GET "/hello"
[2024-05-22 02:05:14.04083] [27518] [trace] [fFo8p8QMtCAC] 200 OK (0.002332s, 428.816/s)
[2024-05-22 02:05:14.08547] [27518] [trace] [LkeTvXQv7WjX] GET "/"
[2024-05-22 02:05:14.08959] [27518] [trace] [LkeTvXQv7WjX] Template "not_found.development.html.ep" not found
[2024-05-22 02:05:14.09071] [27518] [trace] [LkeTvXQv7WjX] Template "not_found.html.ep" not found
[2024-05-22 02:05:14.09176] [27518] [trace] [LkeTvXQv7WjX] Rendering template "mojo/debug.html.ep"
[2024-05-22 02:05:14.21701] [27518] [trace] Your secret passphrase needs to be changed (see FAQ for more)
[2024-05-22 02:05:14.25060] [27518] [trace] [LkeTvXQv7WjX] 404 Not Found (0.165061s, 6.058/s)
[2024-05-22 02:05:14.32643] [27518] [trace] [6EH3uJBJlEk0] GET "/"
[2024-05-22 02:05:14.33274] [27518] [trace] [6EH3uJBJlEk0] Template "not_found.development.html.ep" not found
[2024-05-22 02:05:14.33873] [27518] [trace] [6EH3uJBJlEk0] Template "not_found.html.ep" not found
[2024-05-22 02:05:14.33927] [27518] [trace] [6EH3uJBJlEk0] Rendering cached template "mojo/debug.html.ep"
[2024-05-22 02:05:14.36333] [27518] [trace] [6EH3uJBJlEk0] 404 Not Found (0.036877s, 27.117/s)
t/IO-Socket-IP.t ............................. ok
[2024-05-22 02:05:20.46225] [27528] [info] Listening at "http://[::1]:34301"
[2024-05-22 02:05:20.75572] [27528] [trace] [Ia26Y0iNrbCm] GET "/hello"
[2024-05-22 02:05:20.76755] [27528] [trace] [Ia26Y0iNrbCm] 200 OK (0.004835s, 206.825/s)
[2024-05-22 02:05:20.83027] [27528] [trace] [8EdYPaENDeH2] GET "/hello"
[2024-05-22 02:05:20.83167] [27528] [trace] [8EdYPaENDeH2] 200 OK (0.00137s, 729.927/s)
[2024-05-22 02:05:20.84538] [27528] [trace] [_SsT_spEtVEa] GET "/hello"
[2024-05-22 02:05:20.86597] [27528] [trace] [_SsT_spEtVEa] 200 OK (0.020551s, 48.659/s)
[2024-05-22 02:05:20.88998] [27528] [trace] [UxLZL586jAKQ] GET "/hello"
[2024-05-22 02:05:20.89112] [27528] [trace] [UxLZL586jAKQ] 200 OK (0.00112s, 892.857/s)
[2024-05-22 02:05:20.94256] [27528] [trace] [8eiNd52IuGub] GET "/"
[2024-05-22 02:05:20.94797] [27528] [trace] [8eiNd52IuGub] Template "not_found.development.html.ep" not found
[2024-05-22 02:05:20.94899] [27528] [trace] [8eiNd52IuGub] Template "not_found.html.ep" not found
[2024-05-22 02:05:20.95683] [27528] [trace] [8eiNd52IuGub] Rendering template "mojo/debug.html.ep"
[2024-05-22 02:05:21.13471] [27528] [trace] Your secret passphrase needs to be changed (see FAQ for more)
[2024-05-22 02:05:21.15872] [27528] [trace] [8eiNd52IuGub] 404 Not Found (0.216123s, 4.627/s)
[2024-05-22 02:05:21.19909] [27528] [trace] [XyzT55z8aJUO] GET "/"
[2024-05-22 02:05:21.20156] [27528] [trace] [XyzT55z8aJUO] Template "not_found.development.html.ep" not found
[2024-05-22 02:05:21.20220] [27528] [trace] [XyzT55z8aJUO] Template "not_found.html.ep" not found
[2024-05-22 02:05:21.20314] [27528] [trace] [XyzT55z8aJUO] Rendering cached template "mojo/debug.html.ep"
[2024-05-22 02:05:21.22939] [27528] [trace] [XyzT55z8aJUO] 404 Not Found (0.030274s, 33.032/s)
t/IO-Socket-IP_IPv6.t ........................ ok
t/IO.t ....................................... ok
All tests successful.
Files=9, Tests=52, 60 wallclock secs ( 0.11 usr  0.02 sys + 14.73 cusr  3.77 csys = 18.63 CPU)
Result: PASS

------------------------------
PREREQUISITES
------------------------------

Prerequisite modules loaded:

requires:

    Module              Need     Have    
    ------------------- -------- --------
    SPVM                0.989040 0.990006
    SPVM::Go            0.005    0.007002
    SPVM::Math          0.11     1.001   
    SPVM::Sys           0.510    0.514001

build_requires:

    Module              Need     Have    
    ------------------- -------- --------
    ExtUtils::MakeMaker 0        7.70    
    IO                  1.55     1.55    
    Mojolicious         9.36     9.37    
    Test::TCP           2.22     2.22    

configure_requires:

    Module              Need     Have    
    ------------------- -------- --------
    SPVM                0.989040 0.990006


------------------------------
ENVIRONMENT AND OTHER CONTEXT
------------------------------

Environment variables:

    AUTOMATED_TESTING = 1
    LANG = en_GB.UTF-8
    LANGUAGE = en_GB:en
    LC_TERMINAL = iTerm2
    LC_TERMINAL_VERSION = 3.4.23
    NONINTERACTIVE_TESTING = 1
    PATH = /home/david/.cargo/bin:/home/david/perl5/perlbrew/bin:/home/david/perl5/perlbrew/perls/perl-5.32.0/bin:/home/david/bin:/usr/local/bin:/usr/bin:/bin:/usr/local/games:/usr/games
    PERL = 5.32.0-longdouble-int64
    PERL5LIB = 
    PERL5OPT = 
    PERL5_CPANPLUS_IS_RUNNING = 17228
    PERL5_CPAN_IS_RUNNING = 17228
    PERLBREW_HOME = /home/david/.perlbrew
    PERLBREW_MANPATH = /home/david/perl5/perlbrew/perls/perl-5.32.0/man
    PERLBREW_PATH = /home/david/perl5/perlbrew/bin:/home/david/perl5/perlbrew/perls/perl-5.32.0/bin
    PERLBREW_PERL = perl-5.32.0
    PERLBREW_ROOT = /home/david/perl5/perlbrew
    PERLBREW_SHELLRC_VERSION = 0.89
    PERLBREW_VERSION = 0.89
    PERLVER = 5.32.0-longdouble-int64
    PERL_INLINE_DIRECTORY = /home/david/.Inline-5.32.0-longdouble-int64
    PERL_MM_USE_DEFAULT = 1
    PERL_USE_UNSAFE_INC = 0
    SHELL = /bin/bash
    TERM = screen

Perl special variables (and OS-specific diagnostics, for MSWin32):

    $^X = /home/david/cpantesting/perl-5.32.0-longdouble-int64/bin/perl
    $UID/$EUID = 1000 / 1000
    $GID = 1000 24 25 27 29 30 44 46 109 1000
    $EGID = 1000 24 25 27 29 30 44 46 109 1000

Perl module toolchain versions installed:

    Module              Have    
    ------------------- --------
    CPAN                2.27    
    CPAN::Meta          2.150010
    Cwd                 3.75    
    ExtUtils::CBuilder  0.280236
    ExtUtils::Command   7.70    
    ExtUtils::Install   2.22    
    ExtUtils::MakeMaker 7.70    
    ExtUtils::Manifest  1.75    
    ExtUtils::ParseXS   3.51    
    File::Spec          3.75    
    JSON                4.10    
    JSON::PP            4.16    
    Module::Build       0.4234  
    Module::Signature   n/a     
    Parse::CPAN::Meta   2.150010
    Test::Harness       3.48    
    Test::More          1.302198
    YAML                1.30    
    YAML::Syck          n/a     
    version             0.9930  


--

Summary of my perl5 (revision 5 version 32 subversion 0) configuration:
   
  Platform:
    osname=linux
    osvers=5.10.0-11-686-pae
    archname=i686-linux-64int-ld
    uname='linux cpantesting-linux-32bit-utm 5.10.0-11-686-pae #1 smp debian 5.10.92-1 (2022-01-18) i686 gnulinux '
    config_args='-de -Dprefix=/home/david/cpantesting/perl-5.32.0-longdouble-int64 -Duselongdouble -Duse64bitint'
    hint=recommended
    useposix=true
    d_sigaction=define
    useithreads=undef
    usemultiplicity=undef
    use64bitint=define
    use64bitall=undef
    uselongdouble=define
    usemymalloc=n
    default_inc_excludes_dot=define
    bincompat5005=undef
  Compiler:
    cc='cc'
    ccflags ='-fwrapv -fno-strict-aliasing -pipe -fstack-protector-strong -I/usr/local/include -D_LARGEFILE_SOURCE -D_FILE_OFFSET_BITS=64 -D_FORTIFY_SOURCE=2'
    optimize='-O2'
    cppflags='-fwrapv -fno-strict-aliasing -pipe -fstack-protector-strong -I/usr/local/include'
    ccversion=''
    gccversion='10.2.1 20210110'
    gccosandvers=''
    intsize=4
    longsize=4
    ptrsize=4
    doublesize=8
    byteorder=12345678
    doublekind=3
    d_longlong=define
    longlongsize=8
    d_longdbl=define
    longdblsize=12
    longdblkind=3
    ivtype='long long'
    ivsize=8
    nvtype='long double'
    nvsize=12
    Off_t='off_t'
    lseeksize=8
    alignbytes=4
    prototype=define
  Linker and Libraries:
    ld='cc'
    ldflags =' -fstack-protector-strong -L/usr/local/lib'
    libpth=/usr/local/lib /usr/include/i386-linux-gnu /usr/lib /lib/i386-linux-gnu /lib/../lib /usr/lib/i386-linux-gnu /usr/lib/../lib /lib /lib64 /usr/lib64
    libs=-lpthread -lnsl -ldl -lm -lcrypt -lutil -lc
    perllibs=-lpthread -lnsl -ldl -lm -lcrypt -lutil -lc
    libc=libc-2.31.so
    so=so
    useshrplib=false
    libperl=libperl.a
    gnulibc_version='2.31'
  Dynamic Linking:
    dlsrc=dl_dlopen.xs
    dlext=so
    d_dlsymun=undef
    ccdlflags='-Wl,-E'
    cccdlflags='-fPIC'
    lddlflags='-shared -O2 -L/usr/local/lib -fstack-protector-strong'


Characteristics of this binary (from libperl): 
  Compile-time options:
    HAS_TIMES
    PERLIO_LAYERS
    PERL_COPY_ON_WRITE
    PERL_DONT_CREATE_GVSV
    PERL_MALLOC_WRAP
    PERL_OP_PARENT
    PERL_PRESERVE_IVUV
    USE_64_BIT_INT
    USE_LARGE_FILES
    USE_LOCALE
    USE_LOCALE_COLLATE
    USE_LOCALE_CTYPE
    USE_LOCALE_NUMERIC
    USE_LOCALE_TIME
    USE_LONG_DOUBLE
    USE_PERLIO
    USE_PERL_ATOF
  Built under linux
  Compiled at Feb  8 2022 00:09:35
  %ENV:
    PERL="5.32.0-longdouble-int64"
    PERL5LIB=""
    PERL5OPT=""
    PERL5_CPANPLUS_IS_RUNNING="17228"
    PERL5_CPAN_IS_RUNNING="17228"
    PERLBREW_HOME="/home/david/.perlbrew"
    PERLBREW_MANPATH="/home/david/perl5/perlbrew/perls/perl-5.32.0/man"
    PERLBREW_PATH="/home/david/perl5/perlbrew/bin:/home/david/perl5/perlbrew/perls/perl-5.32.0/bin"
    PERLBREW_PERL="perl-5.32.0"
    PERLBREW_ROOT="/home/david/perl5/perlbrew"
    PERLBREW_SHELLRC_VERSION="0.89"
    PERLBREW_VERSION="0.89"
    PERLVER="5.32.0-longdouble-int64"
    PERL_INLINE_DIRECTORY="/home/david/.Inline-5.32.0-longdouble-int64"
    PERL_MM_USE_DEFAULT="1"
    PERL_USE_UNSAFE_INC="0"
  @INC:
    /home/david/cpantesting/perl-5.32.0-longdouble-int64/lib/site_perl/5.32.0/i686-linux-64int-ld
    /home/david/cpantesting/perl-5.32.0-longdouble-int64/lib/site_perl/5.32.0
    /home/david/cpantesting/perl-5.32.0-longdouble-int64/lib/5.32.0/i686-linux-64int-ld
    /home/david/cpantesting/perl-5.32.0-longdouble-int64/lib/5.32.0