Monkey-Patch-Action v0.061 Perl 5 v5.14.4 x86_64-linux-thread-multi

Status
Pass
From
Nigel Horne
Dist
Monkey-Patch-Action v0.061
Platform
Perl 5 v5.14.4 x86_64-linux-thread-multi
Date
2019-11-19 03:33:48
ID
65aa6fd0-0a7d-11ea-b869-de4ec5d8730e
This distribution has been tested as part of the CPAN Testers
project, supporting the Perl programming language.  See
http://wiki.cpantesters.org/ for more information or email
questions to cpan-testers-discuss@perl.org


--
Dear perlancar,

This is a computer-generated report for Monkey-Patch-Action-0.061
on perl 5.14.4, created by CPAN-Reporter-1.2018.

Thank you for uploading your work to CPAN.  Congratulations!
All tests were successful.

Sections of this report:

    * Tester comments
    * Program output
    * Prerequisites
    * Environment and other context

------------------------------
TESTER COMMENTS
------------------------------

Additional comments from tester:

none provided

------------------------------
PROGRAM OUTPUT
------------------------------

Output from '/usr/bin/make test':

PERL_DL_NONLAZY=1 "/home/njh/perl5/perlbrew/perls/perl-5.14.4-thread/bin/perl5.14.4" "-MExtUtils::Command::MM" "-MTest::Harness" "-e" "undef *Test::Harness::Switches; test_harness(0, 'blib/lib', 'blib/arch')" t/*.t
t/00-compile.t ........... ok
t/author-critic.t ........ skipped: these tests are for testing by the author
t/author-pod-coverage.t .. skipped: these tests are for testing by the author
t/author-pod-syntax.t .... skipped: these tests are for testing by the author
t/patch_object.t ......... ok
Warning: unapplying patch to Foo::f1 (applied in t/patch_package.t:288) before a wrapping patch at /home/njh/.cpan/build/Monkey-Patch-Action-0.061-r8CrXK/blib/lib/Monkey/Patch/Action/Handle.pm line 88.
t/patch_package.t ........ ok
All tests successful.
Files=6, Tests=25,  2 wallclock secs ( 0.12 usr  0.49 sys +  0.96 cusr  0.36 csys =  1.93 CPU)
Result: PASS

------------------------------
PREREQUISITES
------------------------------

Prerequisite modules loaded:

requires:

    Module              Need     Have    
    ------------------- -------- --------
    Exporter            5.57     5.64_03 
    perl                5.010001 5.014004
    Scalar::Util        0        1.23    
    strict              0        1.04    
    Sub::Delete         0        1.00002 
    warnings            0        1.12    

build_requires:

    Module              Need     Have    
    ------------------- -------- --------
    ExtUtils::MakeMaker 0        7.38    
    File::Spec          0        3.33    
    IO::Handle          0        1.31    
    IPC::Open3          0        1.0901  
    Test::More          0.98     1.302168

configure_requires:

    Module              Need     Have    
    ------------------- -------- --------
    ExtUtils::MakeMaker 0        7.38    


------------------------------
ENVIRONMENT AND OTHER CONTEXT
------------------------------

Environment variables:

    LANG = C.UTF-8
    PATH = /home/njh/perl5/perlbrew/bin:/home/njh/perl5/perlbrew/perls/perl-5.14.4-thread/bin:/home/njh/perl5/perlbrew/bin:/home/njh/src/njh/smoker/bin:/usr/bin:/bin
    PERL5LIB = 
    PERL5OPT = 
    PERL5_CPANPLUS_IS_RUNNING = 23282
    PERL5_CPAN_IS_RUNNING = 23282
    PERL5_CPAN_IS_RUNNING_IN_RECURSION = 23280,23282
    PERLBREW_LIB = 
    PERLBREW_MANPATH = /home/njh/perl5/perlbrew/perls/perl-5.14.4-thread/man
    PERLBREW_PATH = /home/njh/perl5/perlbrew/bin:/home/njh/perl5/perlbrew/perls/perl-5.14.4-thread/bin
    PERLBREW_PERL = perl-5.14.4-thread
    PERLBREW_ROOT = /home/njh/perl5/perlbrew
    PERLBREW_SHELLRC_VERSION = 0.87
    PERLBREW_VERSION = 0.87
    PERL_LOCAL_LIB_ROOT = 
    SHELL = /usr/bin/bash
    TEMP = /tmp/user/1002
    TMPDIR = /tmp/user/1002

Perl special variables (and OS-specific diagnostics, for MSWin32):

    $^X = /home/njh/perl5/perlbrew/perls/perl-5.14.4-thread/bin/perl5.14.4
    $UID/$EUID = 1002 / 1002
    $GID = 1002 1002
    $EGID = 1002 1002

Perl module toolchain versions installed:

    Module              Have     
    ------------------- ---------
    CPAN                1.9600_01
    CPAN::Meta          2.143240 
    Cwd                 3.36     
    ExtUtils::CBuilder  0.280231 
    ExtUtils::Command   7.38     
    ExtUtils::Install   2.06     
    ExtUtils::MakeMaker 7.38     
    ExtUtils::Manifest  1.70     
    ExtUtils::ParseXS   2.2210   
    File::Spec          3.33     
    JSON                4.02     
    JSON::PP            4.04     
    Module::Build       0.3800   
    Module::Signature   n/a      
    Parse::CPAN::Meta   1.4414   
    Test::Harness       3.42     
    Test::More          1.302168 
    YAML                1.29     
    YAML::Syck          n/a      
    version             0.88     


--

Summary of my perl5 (revision 5 version 14 subversion 4) configuration:
   
  Platform:
    osname=linux, osvers=4.15.0-1025-oracle, archname=x86_64-linux-thread-multi
    uname='linux oracle1 4.15.0-1025-oracle #28-ubuntu smp mon sep 16 12:54:27 utc 2019 x86_64 x86_64 x86_64 gnulinux '
    config_args='-de -Dprefix=/home/njh/perl5/perlbrew/perls/perl-5.14.4-thread -Dusedevel -Dusethreads -Accflags= -Aeval:scriptdir=/home/njh/perl5/perlbrew/perls/perl-5.14.4-thread/bin'
    hint=recommended, useposix=true, d_sigaction=define
    useithreads=define, usemultiplicity=define
    useperlio=define, d_sfio=undef, uselargefiles=define, usesocks=undef
    use64bitint=define, use64bitall=define, uselongdouble=undef
    usemymalloc=n, bincompat5005=undef
  Compiler:
    cc='cc', ccflags ='-D_REENTRANT -D_GNU_SOURCE -fwrapv -fno-strict-aliasing -pipe -fstack-protector -I/usr/local/include -D_LARGEFILE_SOURCE -D_FILE_OFFSET_BITS=64',
    optimize='-O2',
    cppflags='-D_REENTRANT -D_GNU_SOURCE -fwrapv -fno-strict-aliasing -pipe -fstack-protector -I/usr/local/include'
    ccversion='', gccversion='7.4.0', gccosandvers=''
    intsize=4, longsize=8, ptrsize=8, doublesize=8, byteorder=12345678
    d_longlong=define, longlongsize=8, d_longdbl=define, longdblsize=16
    ivtype='long', ivsize=8, nvtype='double', nvsize=8, Off_t='off_t', lseeksize=8
    alignbytes=8, prototype=define
  Linker and Libraries:
    ld='cc', ldflags =' -fstack-protector -L/usr/local/lib'
    libpth=/usr/local/lib /lib/x86_64-linux-gnu /lib/../lib /usr/lib/x86_64-linux-gnu /usr/lib/../lib /lib /usr/lib
    libs=-lnsl -lgdbm -ldb -ldl -lm -lcrypt -lutil -lpthread -lc
    perllibs=-lnsl -ldl -lm -lcrypt -lutil -lpthread -lc
    libc=libc-2.27.so, so=so, useshrplib=false, libperl=libperl.a
    gnulibc_version='2.27'
  Dynamic Linking:
    dlsrc=dl_dlopen.xs, dlext=so, d_dlsymun=undef, ccdlflags='-Wl,-E'
    cccdlflags='-fPIC', lddlflags='-shared -O2 -L/usr/local/lib -fstack-protector'


Characteristics of this binary (from libperl): 
  Compile-time options: MULTIPLICITY PERL_DONT_CREATE_GVSV
                        PERL_IMPLICIT_CONTEXT PERL_MALLOC_WRAP
                        PERL_PRESERVE_IVUV PERL_USE_DEVEL USE_64_BIT_ALL
                        USE_64_BIT_INT USE_ITHREADS USE_LARGE_FILES
                        USE_PERLIO USE_PERL_ATOF USE_REENTRANT_API
  Locally applied patches:
	Devel::PatchPerl 1.64
  Built under linux
  Compiled at Sep 28 2019 07:07:46
  %ENV:
    PERL5LIB=""
    PERL5OPT=""
    PERL5_CPANPLUS_IS_RUNNING="23282"
    PERL5_CPAN_IS_RUNNING="23282"
    PERL5_CPAN_IS_RUNNING_IN_RECURSION="23280,23282"
    PERLBREW_LIB=""
    PERLBREW_MANPATH="/home/njh/perl5/perlbrew/perls/perl-5.14.4-thread/man"
    PERLBREW_PATH="/home/njh/perl5/perlbrew/bin:/home/njh/perl5/perlbrew/perls/perl-5.14.4-thread/bin"
    PERLBREW_PERL="perl-5.14.4-thread"
    PERLBREW_ROOT="/home/njh/perl5/perlbrew"
    PERLBREW_SHELLRC_VERSION="0.87"
    PERLBREW_VERSION="0.87"
    PERL_LOCAL_LIB_ROOT=""
  @INC:
    /home/njh/perl5/perlbrew/perls/perl-5.14.4-thread/lib/site_perl/5.14.4/x86_64-linux-thread-multi
    /home/njh/perl5/perlbrew/perls/perl-5.14.4-thread/lib/site_perl/5.14.4
    /home/njh/perl5/perlbrew/perls/perl-5.14.4-thread/lib/5.14.4/x86_64-linux-thread-multi
    /home/njh/perl5/perlbrew/perls/perl-5.14.4-thread/lib/5.14.4
    .