Const v0.002 Perl 5 v5.8.9 i386-freebsd

Status
Pass
From
Chris Williams (BINGOS)
Dist
Const v0.002
Platform
Perl 5 v5.8.9 i386-freebsd
Date
2010-07-14T20:21:33
ID
656aec84-8f85-11df-9cd8-308f90befd91
This distribution has been tested as part of the CPAN Testers
project, supporting the Perl programming language.  See
http://wiki.cpantesters.org/ for more information or email
questions to cpan-testers-discuss@perl.org


--

Dear LEONT,
    
This is a computer-generated error report created automatically by
CPANPLUS, version 0.9007. Testers personal comments may appear 
at the end of this report.

MAKE TEST passed:
# Testing Const 0.002, Perl 5.008009, /usr/home/cpan/pit/bare/perl-5.8.9/bin/perl
t/00-load.t ....... ok
t/10-basics.t ..... ok
t/pod-coverage.t .. skipped: Test::Pod::Coverage 1.08 required for testing POD coverage
t/pod.t ........... skipped: Test::Pod 1.22 required for testing POD
All tests successful.
Files=4, Tests=15,  0 wallclock secs ( 0.04 usr  0.06 sys +  0.16 cusr  0.06 csys =  0.32 CPU)
Result: PASS

[MSG] [Wed Jul 14 21:21:33 2010] Sending test report for 'Const-0.002'

This report was machine-generated by CPANPLUS::Dist::YACSmoke 0.58.
Powered by minismokebox version 0.26

------------------------------
ENVIRONMENT AND OTHER CONTEXT
------------------------------

Environment variables:

    AUTOMATED_TESTING = 1
    PATH = /sbin:/bin:/usr/sbin:/usr/bin:/usr/games:/usr/local/sbin:/usr/local/bin:/home/cpan/bin
    PERL5LIB = :/usr/home/cpan/pit/bare/conf/perl-5.8.9/.cpanplus/5.8.9/build/Sub-Uplevel-0.22/blib/lib:/usr/home/cpan/pit/bare/conf/perl-5.8.9/.cpanplus/5.8.9/build/Sub-Uplevel-0.22/blib/arch:/usr/home/cpan/pit/bare/conf/perl-5.8.9/.cpanplus/5.8.9/build/Test-Exception-0.29/blib/lib:/usr/home/cpan/pit/bare/conf/perl-5.8.9/.cpanplus/5.8.9/build/Test-Exception-0.29/blib/arch:/usr/home/cpan/pit/bare/conf/perl-5.8.9/.cpanplus/5.8.9/build/Const-0.002/blib/lib:/usr/home/cpan/pit/bare/conf/perl-5.8.9/.cpanplus/5.8.9/build/Const-0.002/blib/arch
    PERL5_CPANPLUS_IS_RUNNING = 45230
    PERL5_CPANPLUS_IS_VERSION = 0.9007
    PERL5_MINISMOKEBOX = 0.26
    PERL5_YACSMOKE_BASE = /usr/home/cpan/pit/bare/conf/perl-5.8.9
    PERL_EXTUTILS_AUTOINSTALL = --defaultdeps
    PERL_MM_USE_DEFAULT = 1
    SHELL = /usr/local/bin/bash
    TERM = screen

Perl special variables (and OS-specific diagnostics, for MSWin32):

    Perl: $^X = /usr/home/cpan/pit/bare/perl-5.8.9/bin/perl
    UID:  $<  = 1003
    EUID: $>  = 1003
    GID:  $(  = 1003 1003 1003
    EGID: $)  = 1003 1003 1003


-------------------------------


--

Summary of my perl5 (revision 5 version 8 subversion 9) configuration:
  Platform:
    osname=freebsd, osvers=7.2-release, archname=i386-freebsd
    uname='freebsd wintermute.staffordshire.gov.uk 7.2-release freebsd 7.2-release #0: fri may 1 08:49:13 utc 2009 root@walker.cse.buffalo.edu:usrobjusrsrcsysgeneric i386 '
    config_args='-de -Dprefix=/usr/home/cpan/pit/bare/perl-5.8.9'
    hint=recommended, useposix=true, d_sigaction=define
    usethreads=undef use5005threads=undef useithreads=undef usemultiplicity=undef
    useperlio=define d_sfio=undef uselargefiles=define usesocks=undef
    use64bitint=undef use64bitall=undef uselongdouble=undef
    usemymalloc=n, bincompat5005=undef
  Compiler:
    cc='cc', ccflags ='-DHAS_FPSETMASK -DHAS_FLOATINGPOINT_H -fno-strict-aliasing -pipe -I/usr/local/include',
    optimize='-O',
    cppflags='-DHAS_FPSETMASK -DHAS_FLOATINGPOINT_H -fno-strict-aliasing -pipe -I/usr/local/include'
    ccversion='', gccversion='4.2.1 20070719  [FreeBSD]', gccosandvers=''
    intsize=4, longsize=4, ptrsize=4, doublesize=8, byteorder=1234
    d_longlong=define, longlongsize=8, d_longdbl=define, longdblsize=12
    ivtype='long', ivsize=4, nvtype='double', nvsize=8, Off_t='off_t', lseeksize=8
    alignbytes=4, prototype=define
  Linker and Libraries:
    ld='cc', ldflags ='-Wl,-E  -L/usr/local/lib'
    libpth=/usr/lib /usr/local/lib
    libs=-lgdbm -lm -lcrypt -lutil -lc
    perllibs=-lm -lcrypt -lutil -lc
    libc=, so=so, useshrplib=false, libperl=libperl.a
    gnulibc_version=''
  Dynamic Linking:
    dlsrc=dl_dlopen.xs, dlext=so, d_dlsymun=undef, ccdlflags=' '
    cccdlflags='-DPIC -fPIC', lddlflags='-shared  -L/usr/local/lib'


Characteristics of this binary (from libperl): 
  Compile-time options: PERL_MALLOC_WRAP USE_FAST_STDIO USE_LARGE_FILES
                        USE_PERLIO
  Built under freebsd
  Compiled at Oct  9 2009 23:44:35
  %ENV:
    PERL5LIB=":/usr/home/cpan/pit/bare/conf/perl-5.8.9/.cpanplus/5.8.9/build/Sub-Uplevel-0.22/blib/lib:/usr/home/cpan/pit/bare/conf/perl-5.8.9/.cpanplus/5.8.9/build/Sub-Uplevel-0.22/blib/arch:/usr/home/cpan/pit/bare/conf/perl-5.8.9/.cpanplus/5.8.9/build/Test-Exception-0.29/blib/lib:/usr/home/cpan/pit/bare/conf/perl-5.8.9/.cpanplus/5.8.9/build/Test-Exception-0.29/blib/arch:/usr/home/cpan/pit/bare/conf/perl-5.8.9/.cpanplus/5.8.9/build/Const-0.002/blib/lib:/usr/home/cpan/pit/bare/conf/perl-5.8.9/.cpanplus/5.8.9/build/Const-0.002/blib/arch"
    PERL5_CPANPLUS_IS_RUNNING="45230"
    PERL5_CPANPLUS_IS_VERSION="0.9007"
    PERL5_MINISMOKEBOX="0.26"
    PERL5_YACSMOKE_BASE="/usr/home/cpan/pit/bare/conf/perl-5.8.9"
    PERL_EXTUTILS_AUTOINSTALL="--defaultdeps"
    PERL_MM_USE_DEFAULT="1"
  @INC:
    /usr/home/cpan/pit/bare/conf/perl-5.8.9/.cpanplus/5.8.9/build/Sub-Uplevel-0.22/blib/lib
    /usr/home/cpan/pit/bare/conf/perl-5.8.9/.cpanplus/5.8.9/build/Sub-Uplevel-0.22/blib/arch
    /usr/home/cpan/pit/bare/conf/perl-5.8.9/.cpanplus/5.8.9/build/Test-Exception-0.29/blib/lib
    /usr/home/cpan/pit/bare/conf/perl-5.8.9/.cpanplus/5.8.9/build/Test-Exception-0.29/blib/arch
    /usr/home/cpan/pit/bare/conf/perl-5.8.9/.cpanplus/5.8.9/build/Const-0.002/blib/lib
    /usr/home/cpan/pit/bare/conf/perl-5.8.9/.cpanplus/5.8.9/build/Const-0.002/blib/arch
    /usr/home/cpan/pit/bare/perl-5.8.9/lib/5.8.9/i386-freebsd
    /usr/home/cpan/pit/bare/perl-5.8.9/lib/5.8.9
    /usr/home/cpan/pit/bare/perl-5.8.9/lib/site_perl/5.8.9/i386-freebsd
    /usr/home/cpan/pit/bare/perl-5.8.9/lib/site_perl/5.8.9
    .