App-Oozie v0.016 Perl 5 v5.28.3 x86_64-linux
- Status
- Pass
- From
- Slaven Rezić
- Dist
-
App-Oozie v0.016
- Platform
- Perl 5 v5.28.3 x86_64-linux
- Date
- 2023-12-05 17:26:15
- ID
- 64b2a43c-9393-11ee-92a3-ef206e8775ea
This distribution has been tested as part of the CPAN Testers
project, supporting the Perl programming language. See
http://wiki.cpantesters.org/ for more information or email
questions to cpan-testers-discuss@perl.org
--
Dear Burak Gursoy,
This is a computer-generated report for App-Oozie-0.016
on perl 5.28.3, created by CPAN-Reporter-1.2018.
Thank you for uploading your work to CPAN. Congratulations!
All tests were successful.
Sections of this report:
* Tester comments
* Program output
* Prerequisites
* Environment and other context
------------------------------
TESTER COMMENTS
------------------------------
Additional comments from tester:
none provided
------------------------------
PROGRAM OUTPUT
------------------------------
Output from '/usr/bin/make test':
PERL_DL_NONLAZY=1 "/opt/perl-5.28.3/bin/perl" "-MExtUtils::Command::MM" "-MTest::Harness" "-e" "undef *Test::Harness::Switches; test_harness(0, 'blib/lib', 'blib/arch')" t/*.t
t/00-compile.t ........... ok
#
# Versions for all modules listed in MYMETA.json (including optional ones):
#
# === Configure Requires ===
#
# Module Want Have
# ------------------- ---- ----
# ExtUtils::MakeMaker any 7.70
#
# === Build Requires ===
#
# Module Want Have
# ------------------- ---- ----
# ExtUtils::MakeMaker any 7.70
#
# === Test Requires ===
#
# Module Want Have
# ------------------- ---- --------
# ExtUtils::MakeMaker any 7.70
# File::Spec any 3.75
# IO::Handle any 1.51
# IPC::Open3 any 1.20
# Test::More any 1.302196
#
# === Test Recommends ===
#
# Module Want Have
# ---------- -------- --------
# CPAN::Meta 2.120900 2.150010
#
# === Runtime Requires ===
#
# Module Want Have
# -------------------------------- ----- --------
# AppConfig any 1.71
# Archive::Zip any 1.68
# Carp any 1.50
# Carp::Always any 0.16
# Clone any 0.46
# Config::General any 2.65
# Config::Properties any 1.80
# Cwd any 3.75
# Data::Dumper any 2.183
# Date::Format any 2.24
# Date::Parse any 2.33
# DateTime any 1.65
# DateTime::Format::Duration any 1.04
# DateTime::Format::Strptime any 1.79
# Email::Valid any 1.203
# Exporter any 5.74
# Fcntl any 1.13
# File::Basename any 2.85
# File::Copy any 2.33
# File::Find any 1.34
# File::Find::Rule any 0.34
# File::Path any 2.18
# File::Spec any 3.75
# File::Spec::Functions any 3.75
# File::Temp any 0.2311
# Getopt::Long any 2.57
# Git::Repository any 1.325
# Graph::Directed any undef
# Hash::Flatten any 1.19
# IO::Interactive any 1.023
# IPC::Cmd any 1.00
# JSON any 4.10
# List::MoreUtils any 0.430
# List::Util any 1.63
# Log::Log4perl any 1.57
# Moo any 2.005005
# Moo::Role any 2.005005
# MooX::Options 4.103 4.103
# Net::Hadoop::Oozie any 0.116
# Net::Hadoop::WebHDFS::LWP 0.011 0.011
# Net::Hadoop::YARN::NameNode::JMX any 0.203
# Path::Tiny any 0.144
# Ref::Util any 0.204
# Scalar::Util any 1.63
# Sub::Quote any 2.006006
# Sys::Hostname any 1.22
# Template any 3.101
# Template::Base any 3.100
# Text::Glob any 0.11
# Text::ParseWords any 3.31
# Text::Trim any 1.04
# Time::Duration any 1.21
# Time::HiRes any 1.9764
# Type::Library any 2.004000
# Type::Tiny any 2.004000
# Type::Utils any 2.004000
# Types::Standard any 2.004000
# XML::Compile::Cache any 1.06
# XML::Compile::Util any 1.63
# XML::LibXML any 2.0207
# XML::LibXML::Simple any 1.01
# XML::Twig any 3.52
# YAML::XS any 0.88
# base any 2.27
# constant any 1.33
# namespace::autoclean any 0.29
# overload any 1.30
# parent any 0.241
# perl 5.014 5.028003
# strict any 1.11
# warnings any 1.42
#
t/00-report-prereqs.t .... ok
t/author-critic.t ........ skipped: these tests are for testing by the author
t/author-distmeta.t ...... skipped: these tests are for testing by the author
t/author-pod-coverage.t .. skipped: these tests are for testing by the author
t/author-pod-syntax.t .... skipped: these tests are for testing by the author
t/use.t .................. ok
All tests successful.
Files=7, Tests=47, 11 wallclock secs ( 0.02 usr 0.02 sys + 9.30 cusr 1.68 csys = 11.02 CPU)
Result: PASS
------------------------------
PREREQUISITES
------------------------------
Prerequisite modules loaded:
requires:
Module Need Have
-------------------------------- ----- --------
AppConfig 0 1.71
Archive::Zip 0 1.68
base 0 2.27
Carp 0 1.50
Carp::Always 0 0.16
Clone 0 0.46
Config::General 0 2.65
Config::Properties 0 1.80
constant 0 1.33
Cwd 0 3.75
Data::Dumper 0 2.183
Date::Format 0 2.24
Date::Parse 0 2.33
DateTime 0 1.65
DateTime::Format::Duration 0 1.04
DateTime::Format::Strptime 0 1.79
Email::Valid 0 1.203
Exporter 0 5.74
Fcntl 0 1.13
File::Basename 0 2.85
File::Copy 0 2.33
File::Find 0 1.34
File::Find::Rule 0 0.34
File::Path 0 2.18
File::Spec 0 3.75
File::Spec::Functions 0 3.75
File::Temp 0 0.2311
Getopt::Long 0 2.57
Git::Repository 0 1.325
Graph::Directed 0 0
Hash::Flatten 0 1.19
IO::Interactive 0 1.023
IPC::Cmd 0 1.00
JSON 0 4.10
List::MoreUtils 0 0.430
List::Util 0 1.63
Log::Log4perl 0 1.57
Moo 0 2.005005
Moo::Role 0 2.005005
MooX::Options 4.103 4.103
namespace::autoclean 0 0.29
Net::Hadoop::Oozie 0 0.116
Net::Hadoop::WebHDFS::LWP 0.011 0.011
Net::Hadoop::YARN::NameNode::JMX 0 0.203
overload 0 1.30
parent 0 0.241
Path::Tiny 0 0.144
perl 5.014 5.028003
Ref::Util 0 0.204
Scalar::Util 0 1.63
strict 0 1.11
Sub::Quote 0 2.006006
Sys::Hostname 0 1.22
Template 0 3.101
Template::Base 0 3.100
Text::Glob 0 0.11
Text::ParseWords 0 3.31
Text::Trim 0 1.04
Time::Duration 0 1.21
Time::HiRes 0 1.9764
Type::Library 0 2.004000
Type::Tiny 0 2.004000
Type::Utils 0 2.004000
Types::Standard 0 2.004000
warnings 0 1.42
XML::Compile::Cache 0 1.06
XML::Compile::Util 0 1.63
XML::LibXML 0 2.0207
XML::LibXML::Simple 0 1.01
XML::Twig 0 3.52
YAML::XS 0 0.88
build_requires:
Module Need Have
-------------------------------- ----- --------
ExtUtils::MakeMaker 0 7.70
File::Spec 0 3.75
IO::Handle 0 1.51
IPC::Open3 0 1.20
Test::More 0 1.302196
configure_requires:
Module Need Have
-------------------------------- ----- --------
ExtUtils::MakeMaker 0 7.70
------------------------------
ENVIRONMENT AND OTHER CONTEXT
------------------------------
Environment variables:
LANG = en_US.UTF-8
PATH = /usr/local/bin:/usr/bin:/bin:/usr/local/sbin:/usr/sbin:/sbin:/home/cpansand/bin/linux-gnu:/home/cpansand/bin/sh:/home/cpansand/bin:/usr/games:/home/cpansand/devel:/home/eserte/src/srezic-misc/scripts
PERL5LIB =
PERL5OPT =
PERL5_CPANPLUS_IS_RUNNING = 3510537
PERL5_CPAN_IS_RUNNING = 3510537
PERL5_CPAN_IS_RUNNING_IN_RECURSION = 3507437,3510537
PERLDOC = -MPod::Perldoc::ToTextOverstrike
PERL_BATCH = yes
PERL_CANARY_STABILITY_NOPROMPT = 1
PERL_CPAN_REPORTER_CONFIG = /var/tmp/cpansmoker-1023/2023120517/cpanreporter_000_config.ini
PERL_EXTUTILS_AUTOINSTALL = --defaultdeps
PERL_USE_UNSAFE_INC = 1
SHELL = /usr/bin/zsh
TERM = screen
TMPDIR = /var/tmp/cpansmoker-1023/2023120517
Perl special variables (and OS-specific diagnostics, for MSWin32):
$^X = /opt/perl-5.28.3/bin/perl
$UID/$EUID = 1023 / 1023
$GID = 1023 1023
$EGID = 1023 1023
Perl module toolchain versions installed:
Module Have
------------------- --------
CPAN 2.20
CPAN::Meta 2.150010
Cwd 3.75
ExtUtils::CBuilder 0.280236
ExtUtils::Command 7.70
ExtUtils::Install 2.22
ExtUtils::MakeMaker 7.70
ExtUtils::Manifest 1.75
ExtUtils::ParseXS 3.51
File::Spec 3.75
JSON 4.10
JSON::PP 4.13
Module::Build 0.4234
Module::Signature n/a
Parse::CPAN::Meta 2.150010
Test::Harness 3.48
Test::More 1.302196
YAML 1.30
YAML::Syck 1.34
version 0.9930
--
Summary of my perl5 (revision 5 version 28 subversion 3) configuration:
Platform:
osname=linux
osvers=5.19.9-200.fc36.x86_64
archname=x86_64-linux
uname='linux cloud4.bbbike.org 5.19.9-200.fc36.x86_64 #1 smp preempt_dynamic thu sep 15 09:49:52 utc 2022 x86_64 x86_64 x86_64 gnulinux '
config_args='-ds -e -Dprefix=/opt/perl-5.28.3 -Dcf_email=srezic@cpan.org'
hint=recommended
useposix=true
d_sigaction=define
useithreads=undef
usemultiplicity=undef
use64bitint=define
use64bitall=define
uselongdouble=undef
usemymalloc=n
default_inc_excludes_dot=define
bincompat5005=undef
Compiler:
cc='cc'
ccflags ='-fwrapv -fno-strict-aliasing -pipe -fstack-protector-strong -I/usr/local/include -D_LARGEFILE_SOURCE -D_FILE_OFFSET_BITS=64 -D_FORTIFY_SOURCE=2'
optimize='-O2'
cppflags='-fwrapv -fno-strict-aliasing -pipe -fstack-protector-strong -I/usr/local/include'
ccversion=''
gccversion='12.2.1 20220819 (Red Hat 12.2.1-2)'
gccosandvers=''
intsize=4
longsize=8
ptrsize=8
doublesize=8
byteorder=12345678
doublekind=3
d_longlong=define
longlongsize=8
d_longdbl=define
longdblsize=16
longdblkind=3
ivtype='long'
ivsize=8
nvtype='double'
nvsize=8
Off_t='off_t'
lseeksize=8
alignbytes=8
prototype=define
Linker and Libraries:
ld='cc'
ldflags =' -fstack-protector-strong -L/usr/local/lib'
libpth=/usr/local/lib /usr/lib /lib/../lib64 /usr/lib/../lib64 /lib /lib64 /usr/lib64 /usr/local/lib64
libs=-lpthread -ldb -ldl -lm -lcrypt -lutil -lc
perllibs=-lpthread -ldl -lm -lcrypt -lutil -lc
libc=/lib/../lib64/libc.so.6
so=so
useshrplib=false
libperl=libperl.a
gnulibc_version='2.35'
Dynamic Linking:
dlsrc=dl_dlopen.xs
dlext=so
d_dlsymun=undef
ccdlflags='-Wl,-E'
cccdlflags='-fPIC'
lddlflags='-shared -O2 -L/usr/local/lib -fstack-protector-strong'
Characteristics of this binary (from libperl):
Compile-time options:
HAS_TIMES
PERLIO_LAYERS
PERL_COPY_ON_WRITE
PERL_DONT_CREATE_GVSV
PERL_MALLOC_WRAP
PERL_OP_PARENT
PERL_PRESERVE_IVUV
USE_64_BIT_ALL
USE_64_BIT_INT
USE_LARGE_FILES
USE_LOCALE
USE_LOCALE_COLLATE
USE_LOCALE_CTYPE
USE_LOCALE_NUMERIC
USE_LOCALE_TIME
USE_PERLIO
USE_PERL_ATOF
Locally applied patches:
Devel::PatchPerl 2.08
Built under linux
Compiled at Sep 24 2022 07:25:13
%ENV:
PERL5LIB=""
PERL5OPT=""
PERL5_CPANPLUS_IS_RUNNING="3510537"
PERL5_CPAN_IS_RUNNING="3510537"
PERL5_CPAN_IS_RUNNING_IN_RECURSION="3507437,3510537"
PERLDOC="-MPod::Perldoc::ToTextOverstrike"
PERL_BATCH="yes"
PERL_CANARY_STABILITY_NOPROMPT="1"
PERL_CPAN_REPORTER_CONFIG="/var/tmp/cpansmoker-1023/2023120517/cpanreporter_000_config.ini"
PERL_EXTUTILS_AUTOINSTALL="--defaultdeps"
PERL_USE_UNSAFE_INC="1"
@INC:
/opt/perl-5.28.3/lib/site_perl/5.28.3/x86_64-linux
/opt/perl-5.28.3/lib/site_perl/5.28.3
/opt/perl-5.28.3/lib/5.28.3/x86_64-linux
/opt/perl-5.28.3/lib/5.28.3
.