CPAN-Testers-WWW-Reports v3.60 Perl 5 v5.27.5 MSWin32-x86-multi-thread-64int

Status
Pass
From
Alexandr Ciornii (CHORNY)
Dist
CPAN-Testers-WWW-Reports v3.60
Platform
Perl 5 v5.27.5 MSWin32-x86-multi-thread-64int
Date
2018-03-29T19:21:26
ID
641317b7-6c23-1014-90a4-d00b07398678
This distribution has been tested as part of the CPAN Testers
project, supporting the Perl programming language.  See
http://wiki.cpantesters.org/ for more information or email
questions to cpan-testers-discuss@perl.org


--
Dear Barbie,

This is a computer-generated report for CPAN-Testers-WWW-Reports-3.60
on perl 5.27.5, created by CPAN-Reporter-1.2018.

Thank you for uploading your work to CPAN.  Congratulations!
All tests were successful.

Sections of this report:

    * Tester comments
    * Program output
    * Prerequisites
    * Environment and other context

------------------------------
TESTER COMMENTS
------------------------------

Additional comments from tester:

this report is from an automated smoke testing program
and was not reviewed by a human for accuracy

------------------------------
PROGRAM OUTPUT
------------------------------

Output from 'C:\STRAWB~1\c\bin\gmake.exe test':

"C:\Strawberry275\perl\bin\perl.exe" "-MExtUtils::Command::MM" "-MTest::Harness" "-e" "undef *Test::Harness::Switches; test_harness(0, 'blib\lib', 'blib\arch')" t/*.t
Any::Moose is deprecated. Please use Moo instead at C:/Strawberry275/perl/site/lib/Crypt/Random/Source/Strong/Win32.pm line 3.
t/00use.t ......... ok
t/90podtest.t ..... ok
Any::Moose is deprecated. Please use Moo instead at C:/Strawberry275/perl/site/lib/Crypt/Random/Source/Strong/Win32.pm line 3.
t/91podcover.t .... ok
Any::Moose is deprecated. Please use Moo instead at C:/Strawberry275/perl/site/lib/Crypt/Random/Source/Strong/Win32.pm line 3.
t/94metatest.t .... ok
t/95changedate.t .. ok
Any::Moose is deprecated. Please use Moo instead at C:/Strawberry275/perl/site/lib/Crypt/Random/Source/Strong/Win32.pm line 3.
t/96metatest.t .... ok
All tests successful.
Files=6, Tests=141, 38 wallclock secs ( 0.05 usr +  0.13 sys =  0.18 CPU)
Result: PASS

------------------------------
PREREQUISITES
------------------------------

Prerequisite modules loaded:

requires:

    Module                            Need Have    
    --------------------------------- ---- --------
    Carp                              0    1.43    
    CGI                               0    4.38    
    Class::Accessor::Fast             0    0.51    
    Clone                             0    0.39    
    CPAN::Testers::Common::Article    0    0.46    
    CPAN::Testers::Common::Utils      0    0.003   
    CPAN::Testers::Fact::LegacyReport 0    1.999003
    CPAN::Testers::Fact::TestSummary  0    1.999003
    Cwd                               0    3.74    
    Data::Dumper                      0    2.167_02
    Data::FlexSerializer              0    1.10    
    Email::Address                    0    1.909   
    File::Basename                    0    2.85    
    File::Find::Rule                  0    0.34    
    File::Path                        0    2.15    
    File::Slurp                       0    9999.19 
    GD::Graph::colour                 0    1.10    
    GD::Graph::lines                  0    1.15    
    Getopt::Long                      0    2.5     
    HTML::Entities                    0    3.69    
    IO::File                          0    1.16    
    JSON::XS                          0    3.04    
    Labyrinth                         5.32 5.32    
  ! Labyrinth::DIUtils::ImageMagick   5.04 n/a     
    Labyrinth::Plugin::Core           5.19 5.19    
    Labyrinth::Plugin::CPAN           3.54 3.56    
    Labyrinth::Plugin::Requests       1.08 1.08    
    Metabase::Resource                0    0.025   
    Sort::Versions                    0    1.62    
    Test::More                        0    1.302133
    Time::Local                       0    1.25    
    Try::Tiny                         0    0.30    
    version                           0    0.9918  
    WWW::Mechanize                    0    1.87    
    XML::RSS                          0    1.60    
    YAML::XS                          0    0.69    

build_requires:

    Module                            Need Have    
    --------------------------------- ---- --------
    ExtUtils::MakeMaker               0    7.32    
    IO::File                          0    1.16    
    Test::More                        0.70 1.302133


------------------------------
ENVIRONMENT AND OTHER CONTEXT
------------------------------

Environment variables:

    AUTOMATED_TESTING = 1
    COMSPEC = C:\WINDOWS\system32\cmd.exe
    NUMBER_OF_PROCESSORS = 1
    PATH = C:\WINDOWS\system32;C:\WINDOWS;C:\WINDOWS\System32\Wbem;C:\Git\cmd;C:\Strawberry275\c\bin;C:\Strawberry275\perl\site\bin;C:\Strawberry275\perl\bin
    PERL5LIB = C:\STRAWB~1\cpan\build\Labyrinth-Plugin-Requests-1.08-0/blib/arch;C:\STRAWB~1\cpan\build\Labyrinth-Plugin-Requests-1.08-0/blib/lib;C:\STRAWB~1\cpan\build\Labyrinth-Plugin-CPAN-3.56-0/blib/arch;C:\STRAWB~1\cpan\build\Labyrinth-Plugin-CPAN-3.56-0/blib/lib;C:\STRAWB~1\cpan\build\Data-FlexSerializer-1.10-0/blib/arch;C:\STRAWB~1\cpan\build\Data-FlexSerializer-1.10-0/blib/lib;C:\STRAWB~1\cpan\build\Constant-FromGlobal-0.09-0/blib/arch;C:\STRAWB~1\cpan\build\Constant-FromGlobal-0.09-0/blib/lib;C:\STRAWB~1\cpan\build\CPAN-Testers-Common-Utils-0.003-0/blib/arch;C:\STRAWB~1\cpan\build\CPAN-Testers-Common-Utils-0.003-0/blib/lib;C:\STRAWB~1\cpan\build\CPAN-Testers-Common-Article-0.46-0/blib/arch;C:\STRAWB~1\cpan\build\CPAN-Testers-Common-Article-0.46-0/blib/lib
    PERL5OPT = 
    PERL5_CPANPLUS_IS_RUNNING = 45292
    PERL5_CPAN_IS_RUNNING = 45292
    PERL5_CPAN_IS_RUNNING_IN_RECURSION = 1444,45292
    PERL_CR_SMOKER_CURRENT = CPAN-Testers-WWW-Reports-3.60
    PERL_CR_SMOKER_RUNONCE = 1
    PERL_EXTUTILS_AUTOINSTALL = --defaultdeps
    PERL_MM_USE_DEFAULT = 1
    PERL_USE_UNSAFE_INC = 1
    PROCESSOR_IDENTIFIER = x86 Family 16 Model 5 Stepping 3, AuthenticAMD
    TEMP = C:\DOCUME~1\a\LOCALS~1\Temp

Perl special variables (and OS-specific diagnostics, for MSWin32):

    $^X = C:\Strawberry275\perl\bin\perl.exe
    $UID/$EUID = 0 / 0
    $GID = 0
    $EGID = 0
    Win32::GetOSName = WinXP/.Net
    Win32::GetOSVersion = Service Pack 3, 5, 1, 2600, 2, 3, 0, 256, 1
    Win32::FsType = NTFS
    Win32::IsAdminUser = 1

Perl module toolchain versions installed:

    Module              Have    
    ------------------- --------
    CPAN                2.18    
    CPAN::Meta          2.150010
    Cwd                 3.74    
    ExtUtils::CBuilder  0.280230
    ExtUtils::Command   7.32    
    ExtUtils::Install   2.14    
    ExtUtils::MakeMaker 7.32    
    ExtUtils::Manifest  1.70    
    ExtUtils::ParseXS   3.35    
    File::Spec          3.74    
    JSON                2.97001 
    JSON::PP            2.97001 
    Module::Build       0.4224  
    Module::Signature   0.81    
    Parse::CPAN::Meta   2.150010
    Test::Harness       3.41    
    Test::More          1.302133
    YAML                1.24    
    YAML::Syck          1.30    
    version             0.9918  


--

Summary of my perl5 (revision 5 version 27 subversion 5) configuration:
   
  Platform:
    osname=MSWin32
    osvers=4.0
    archname=MSWin32-x86-multi-thread-64int
    uname='Win32 strawberry-perl 5.27.5.1-beta1 #1 Sun Mar 18 14:36:18 2018 i386'
    config_args='undef'
    hint=recommended
    useposix=true
    d_sigaction=undef
    useithreads=define
    usemultiplicity=define
    use64bitint=define
    use64bitall=undef
    uselongdouble=undef
    usemymalloc=n
    default_inc_excludes_dot=define
    bincompat5005=undef
  Compiler:
    cc='gcc'
    ccflags =' -s -O2 -DWIN32 -D__USE_MINGW_ANSI_STDIO -DPERL_TEXTMODE_SCRIPTS -DPERL_IMPLICIT_CONTEXT -DPERL_IMPLICIT_SYS -DUSE_PERLIO -fwrapv -fno-strict-aliasing -mms-bitfields'
    optimize='-s -O2'
    cppflags='-DWIN32'
    ccversion=''
    gccversion='7.1.0'
    gccosandvers=''
    intsize=4
    longsize=4
    ptrsize=4
    doublesize=8
    byteorder=12345678
    doublekind=3
    d_longlong=define
    longlongsize=8
    d_longdbl=define
    longdblsize=12
    longdblkind=3
    ivtype='long long'
    ivsize=8
    nvtype='double'
    nvsize=8
    Off_t='long long'
    lseeksize=8
    alignbytes=8
    prototype=define
  Linker and Libraries:
    ld='g++'
    ldflags ='-s -L"C:\STRAWB~1\perl\lib\CORE" -L"C:\STRAWB~1\c\lib"'
    libpth=C:\STRAWB~1\c\lib C:\STRAWB~1\c\i686-w64-mingw32\lib C:\STRAWB~1\c\lib\gcc\i686-w64-mingw32\7.1.0
    libs= -lmoldname -lkernel32 -luser32 -lgdi32 -lwinspool -lcomdlg32 -ladvapi32 -lshell32 -lole32 -loleaut32 -lnetapi32 -luuid -lws2_32 -lmpr -lwinmm -lversion -lodbc32 -lodbccp32 -lcomctl32
    perllibs= -lmoldname -lkernel32 -luser32 -lgdi32 -lwinspool -lcomdlg32 -ladvapi32 -lshell32 -lole32 -loleaut32 -lnetapi32 -luuid -lws2_32 -lmpr -lwinmm -lversion -lodbc32 -lodbccp32 -lcomctl32
    libc=
    so=dll
    useshrplib=true
    libperl=libperl527.a
    gnulibc_version=''
  Dynamic Linking:
    dlsrc=dl_win32.xs
    dlext=xs.dll
    d_dlsymun=undef
    ccdlflags=' '
    cccdlflags=' '
    lddlflags='-mdll -s -L"C:\STRAWB~1\perl\lib\CORE" -L"C:\STRAWB~1\c\lib"'


Characteristics of this binary (from libperl): 
  Compile-time options:
    HAS_TIMES
    HAVE_INTERP_INTERN
    MULTIPLICITY
    PERLIO_LAYERS
    PERL_COPY_ON_WRITE
    PERL_DONT_CREATE_GVSV
    PERL_IMPLICIT_CONTEXT
    PERL_IMPLICIT_SYS
    PERL_MALLOC_WRAP
    PERL_OP_PARENT
    PERL_PRESERVE_IVUV
    USE_64_BIT_INT
    USE_ITHREADS
    USE_LARGE_FILES
    USE_LOCALE
    USE_LOCALE_COLLATE
    USE_LOCALE_CTYPE
    USE_LOCALE_NUMERIC
    USE_LOCALE_TIME
    USE_PERLIO
    USE_PERL_ATOF
  Built under MSWin32
  Compiled at Mar 18 2018 14:46:37
  %ENV:
    PERL5LIB="C:\STRAWB~1\cpan\build\Labyrinth-Plugin-Requests-1.08-0/blib/arch;C:\STRAWB~1\cpan\build\Labyrinth-Plugin-Requests-1.08-0/blib/lib;C:\STRAWB~1\cpan\build\Labyrinth-Plugin-CPAN-3.56-0/blib/arch;C:\STRAWB~1\cpan\build\Labyrinth-Plugin-CPAN-3.56-0/blib/lib;C:\STRAWB~1\cpan\build\Data-FlexSerializer-1.10-0/blib/arch;C:\STRAWB~1\cpan\build\Data-FlexSerializer-1.10-0/blib/lib;C:\STRAWB~1\cpan\build\Constant-FromGlobal-0.09-0/blib/arch;C:\STRAWB~1\cpan\build\Constant-FromGlobal-0.09-0/blib/lib;C:\STRAWB~1\cpan\build\CPAN-Testers-Common-Utils-0.003-0/blib/arch;C:\STRAWB~1\cpan\build\CPAN-Testers-Common-Utils-0.003-0/blib/lib;C:\STRAWB~1\cpan\build\CPAN-Testers-Common-Article-0.46-0/blib/arch;C:\STRAWB~1\cpan\build\CPAN-Testers-Common-Article-0.46-0/blib/lib"
    PERL5_CPANPLUS_IS_RUNNING="45292"
    PERL5_CPAN_IS_RUNNING="45292"
    PERL5_CPAN_IS_RUNNING_IN_RECURSION="1444,45292"
    PERL_CR_SMOKER_CURRENT="CPAN-Testers-WWW-Reports-3.60"
    PERL_CR_SMOKER_RUNONCE="1"
    PERL_EXTUTILS_AUTOINSTALL="--defaultdeps"
    PERL_MM_USE_DEFAULT="1"
    PERL_USE_UNSAFE_INC="1"
  @INC:
    C:\STRAWB~1\cpan\build\Labyrinth-Plugin-Requests-1.08-0/blib/arch
    C:\STRAWB~1\cpan\build\Labyrinth-Plugin-Requests-1.08-0/blib/lib
    C:\STRAWB~1\cpan\build\Labyrinth-Plugin-CPAN-3.56-0/blib/arch
    C:\STRAWB~1\cpan\build\Labyrinth-Plugin-CPAN-3.56-0/blib/lib
    C:\STRAWB~1\cpan\build\Data-FlexSerializer-1.10-0/blib/arch
    C:\STRAWB~1\cpan\build\Data-FlexSerializer-1.10-0/blib/lib
    C:\STRAWB~1\cpan\build\Constant-FromGlobal-0.09-0/blib/arch
    C:\STRAWB~1\cpan\build\Constant-FromGlobal-0.09-0/blib/lib
    C:\STRAWB~1\cpan\build\CPAN-Testers-Common-Utils-0.003-0/blib/arch
    C:\STRAWB~1\cpan\build\CPAN-Testers-Common-Utils-0.003-0/blib/lib
    C:\STRAWB~1\cpan\build\CPAN-Testers-Common-Article-0.46-0/blib/arch
    C:\STRAWB~1\cpan\build\CPAN-Testers-Common-Article-0.46-0/blib/lib
    C:/Strawberry275/perl/site/lib
    C:/Strawberry275/perl/vendor/lib
    C:/Strawberry275/perl/lib
    .