CPANPLUS v0.9916 Perl 5 v5.43.3 i86pc-solaris-64

Status
Pass
From
Carlos Guevara
Dist
CPANPLUS v0.9916
Platform
Perl 5 v5.43.3 i86pc-solaris-64
Date
2025-09-04 17:41:30
ID
63d00364-89b6-11f0-a335-fd0404ab1f81
This distribution has been tested as part of the CPAN Testers
project, supporting the Perl programming language.  See
http://wiki.cpantesters.org/ for more information or email
questions to cpan-testers-discuss@perl.org


--
Dear Chris Williams,

This is a computer-generated report for CPANPLUS-0.9916
on perl 5.43.3, created by CPAN-Reporter-1.2020.

Thank you for uploading your work to CPAN.  Congratulations!
All tests were successful.

Sections of this report:

    * Tester comments
    * Program output
    * Prerequisites
    * Environment and other context

------------------------------
TESTER COMMENTS
------------------------------

Additional comments from tester:

this report is from an automated smoke testing program
and was not reviewed by a human for accuracy

------------------------------
PROGRAM OUTPUT
------------------------------

Output from '/usr/bin/make test':

PERL_DL_NONLAZY=1 "/export/home/cpan/bin/perl/bin/perl5.43.3" "-MExtUtils::Command::MM" "-MTest::Harness" "-e" "undef *Test::Harness::Switches; test_harness(0, 'inc', 'blib/lib', 'blib/arch')" t/*.t
t/08_CPANPLUS-Backend.t ....................... ok
t/00_CPANPLUS-Internals-Utils.t ............... ok
t/01_CPANPLUS-Configure.t ..................... ok
t/02_CPANPLUS-Internals.t ..................... ok
t/031_CPANPLUS-Internals-Source-SQLite.t ...... ok
t/032_CPANPLUS-Internals-Source-via-sqlite.t .. ok
t/03_CPANPLUS-Internals-Source.t .............. ok
t/04_CPANPLUS-Module.t ........................ ok
t/05_CPANPLUS-Internals-Fetch.t ............... ok
t/06_CPANPLUS-Internals-Constants.t ........... ok
t/07_CPANPLUS-Internals-Extract.t ............. ok
t/09_CPANPLUS-Internals-Search.t .............. ok
t/10_CPANPLUS-Error.t ......................... ok
t/15_CPANPLUS-Shell.t ......................... ok
t/19_CPANPLUS-Dist.t .......................... ok
t/20_CPANPLUS-Dist-MM.t ....................... ok
t/21_CPANPLUS-Dist-No-Build.t ................. ok
t/25_CPANPLUS.t ............................... ok
t/30_CPANPLUS-Internals-Selfupdate.t .......... ok
t/40_CPANPLUS-Internals-Report.t .............. ok
All tests successful.
Files=20, Tests=1842, 33 wallclock secs ( 0.19 usr  0.06 sys + 16.04 cusr  6.92 csys = 23.20 CPU)
Result: PASS

------------------------------
PREREQUISITES
------------------------------

Prerequisite modules loaded:

requires:

    Module                    Need    Have      
    ------------------------- ------- ----------
    Archive::Extract          0.16    0.88      
    Archive::Tar              1.23    3.04      
    Digest::SHA               0.0     6.04      
    ExtUtils::Install         1.42    2.22      
    File::Fetch               0.15_02 1.08      
    File::Spec                0.82    3.94      
    IO::Zlib                  1.04    1.15      
    IPC::Cmd                  0.36    1.04      
    Locale::Maketext::Simple  0.01    0.21_01   
    Log::Message              0.01    0.08      
    Module::CoreList          2.22    5.20250920
    Module::Load              0.10    0.36      
    Module::Load::Conditional 0.50    0.74      
    Module::Loaded            0.01    0.08      
    Module::Pluggable         2.4     6.3       
    Object::Accessor          0.44    0.48      
    Package::Constants        0.01    0.06      
    Params::Check             0.36    0.38      
    Parse::CPAN::Meta         1.4200  2.150010  
    Storable                  0.0     3.38      
    Term::UI                  0.18    0.50      
    Test::Harness             2.62    3.52      
    Test::More                0.47    1.302214  
    version                   0.77    0.9933    

build_requires:

    Module                    Need    Have      
    ------------------------- ------- ----------
    ExtUtils::MakeMaker       6.36    7.76      


------------------------------
ENVIRONMENT AND OTHER CONTEXT
------------------------------

Environment variables:

    AUTOMATED_TESTING = 1
    DATE_MANIP_TEST_DM5 = 1
    LANG = en_US.UTF-8
    LC_ALL = C
    NONINTERACTIVE_TESTING = 1
    NO_NETWORK_TESTING = 1
    PATH = /export/home/cpan/bin/perl/bin:/usr/bin:/usr/sbin:/sbin:/opt/ooce/bin:/usr/gnu/bin
    PERL5LIB = 
    PERL5OPT = 
    PERL5_CPANPLUS_IS_RUNNING = 3320
    PERL5_CPAN_IS_RUNNING = 3320
    PERL_MM_USE_DEFAULT = 1
    PERL_PERTURB_KEYS = 0
    PERL_USE_UNSAFE_INC = 1
    SHELL = /bin/sh
    TERM = screen

Perl special variables (and OS-specific diagnostics, for MSWin32):

    $^X = /export/home/cpan/bin/perl/bin/perl5.43.3
    $UID/$EUID = 101 / 101
    $GID = 1 1
    $EGID = 1 1

Perl module toolchain versions installed:

    Module              Have    
    ------------------- --------
    CPAN                2.38    
    CPAN::Meta          2.150010
    Cwd                 3.94    
    ExtUtils::CBuilder  0.280242
    ExtUtils::Command   7.76    
    ExtUtils::Install   2.22    
    ExtUtils::MakeMaker 7.76    
    ExtUtils::Manifest  1.75    
    ExtUtils::ParseXS   3.60    
    File::Spec          3.94    
    JSON                4.10    
    JSON::PP            4.16    
    Module::Build       0.4234  
    Module::Signature   n/a     
    Parse::CPAN::Meta   2.150010
    Test2               1.302214
    Test::Harness       3.52    
    Test::More          1.302214
    YAML                1.31    
    YAML::Syck          1.34    
    version             0.9933  


--

Summary of my perl5 (revision 5 version 43 subversion 3) configuration:
  Commit id: 934f1799d94811927734c8097aee3d6a4889e4e9
  Platform:
    osname=solaris
    osvers=2.11
    archname=i86pc-solaris-64
    uname='sunos cjg-omniosce 5.11 omnios-r151052-92934720d80 i86pc i386 i86pc '
    config_args='-des -Dprefix=/export/home/cpan/bin/perl -Dscriptdir=/export/home/cpan/bin/perl/bin -Dusedevel -Duse64bitall -Dcc=gcc'
    hint=recommended
    useposix=true
    d_sigaction=define
    useithreads=undef
    usemultiplicity=undef
    use64bitint=define
    use64bitall=define
    uselongdouble=undef
    usemymalloc=n
    default_inc_excludes_dot=define
  Compiler:
    cc='gcc'
    ccflags ='-m64 -fwrapv -fno-strict-aliasing -pipe -fstack-protector-strong -D_LARGEFILE_SOURCE -D_FILE_OFFSET_BITS=64 -D_FORTIFY_SOURCE=2'
    optimize='-O'
    cppflags='-m64 -fwrapv -fno-strict-aliasing -pipe -fstack-protector-strong'
    ccversion=''
    gccversion='14.2.0'
    gccosandvers=''
    intsize=4
    longsize=8
    ptrsize=8
    doublesize=8
    byteorder=12345678
    doublekind=3
    d_longlong=define
    longlongsize=8
    d_longdbl=define
    longdblsize=16
    longdblkind=3
    ivtype='long'
    ivsize=8
    nvtype='double'
    nvsize=8
    Off_t='off_t'
    lseeksize=8
    alignbytes=8
    prototype=define
  Linker and Libraries:
    ld='gcc'
    ldflags =' -m64 -fstack-protector-strong -L/usr/gnu/lib '
    libpth=/opt/gcc-14/lib /usr/lib /usr/gnu/lib /usr/ccs/lib
    libs=-lpthread -lsocket -lnsl -ldl -lm -lc
    perllibs=-lpthread -lsocket -lnsl -ldl -lm -lc
    libc=/lib/libc.so
    so=so
    useshrplib=true
    libperl=libperl.so
    gnulibc_version=''
  Dynamic Linking:
    dlsrc=dl_dlopen.xs
    dlext=so
    d_dlsymun=undef
    ccdlflags='  -R /export/home/cpan/bin/perl/lib/5.43.3/i86pc-solaris-64/CORE'
    cccdlflags='-fPIC'
    lddlflags=' -shared -m64 -L/usr/gnu/lib -fstack-protector-strong'


Characteristics of this binary (from libperl): 
  Compile-time options:
    HAS_LONG_DOUBLE
    HAS_STRTOLD
    HAS_TIMES
    PERLIO_LAYERS
    PERL_COPY_ON_WRITE
    PERL_DONT_CREATE_GVSV
    PERL_HASH_FUNC_SIPHASH13
    PERL_HASH_USE_SBOX32
    PERL_MALLOC_WRAP
    PERL_OP_PARENT
    PERL_PRESERVE_IVUV
    PERL_USE_DEVEL
    PERL_USE_SAFE_PUTENV
    USE_64_BIT_ALL
    USE_64_BIT_INT
    USE_LARGE_FILES
    USE_LOCALE
    USE_LOCALE_COLLATE
    USE_LOCALE_CTYPE
    USE_LOCALE_NUMERIC
    USE_LOCALE_TIME
    USE_PERLIO
    USE_PERL_ATOF
  Built under solaris
  Compiled at Sep  4 2025 06:44:33
  %ENV:
    PERL5LIB=""
    PERL5OPT=""
    PERL5_CPANPLUS_IS_RUNNING="3320"
    PERL5_CPAN_IS_RUNNING="3320"
    PERL_MM_USE_DEFAULT="1"
    PERL_PERTURB_KEYS="0"
    PERL_USE_UNSAFE_INC="1"
  @INC:
    /export/home/cpan/bin/perl/lib/site_perl/5.43.3/i86pc-solaris-64
    /export/home/cpan/bin/perl/lib/site_perl/5.43.3
    /export/home/cpan/bin/perl/lib/5.43.3/i86pc-solaris-64
    /export/home/cpan/bin/perl/lib/5.43.3
    .