Report for Slurm-Sacctmgr-1.1.0

Back
From: metabase:user:30f4dfbe-2aae-11df-837a-5e0a49663a4f
Subject: PASS Slurm-Sacctmgr-1.1.0 v5.20.1 Mac OS X
Date: 2016-08-07T10:04:54Z

This distribution has been tested as part of the CPAN Testers
project, supporting the Perl programming language.  See
http://wiki.cpantesters.org/ for more information or email
questions to cpan-testers-discuss@perl.org


--
Dear Tom Payerle,

This is a computer-generated report for Slurm-Sacctmgr-1.1.0
on perl 5.20.1, created by CPAN-Reporter-1.2018.

Thank you for uploading your work to CPAN.  Congratulations!
All tests were successful.

Sections of this report:

    * Tester comments
    * Program output
    * Prerequisites
    * Environment and other context

------------------------------
TESTER COMMENTS
------------------------------

Additional comments from tester:

this report is from an automated smoke testing program
and was not reviewed by a human for accuracy

------------------------------
PROGRAM OUTPUT
------------------------------

Output from '/sw/bin/make test':

PERL_DL_NONLAZY=1 "/Users/hornenj/perl5/perlbrew/perls/perl-5.20.1/bin/perl" "-MExtUtils::Command::MM" "-MTest::Harness" "-e" "undef *Test::Harness::Switches; test_harness(0, 'blib/lib', 'blib/arch')" t/*.t
t/000_Slurm-Sacctmgr-use.t .......... ok
t/050_pod.t ......................... skipped: Author tests not required for installation
[VERBOSE] /Users/hornenj/.cpan/build/Slurm-Sacctmgr-1.1.0-uLjXNc/t/helpers/echo_cmdline_to_stderr create cluster test-cluster
[VERBOSE] /Users/hornenj/.cpan/build/Slurm-Sacctmgr-1.1.0-uLjXNc/t/helpers/echo_cmdline_to_stderr show user cluster='test-cluster' --readonly
[VERBOSE] /Users/hornenj/.cpan/build/Slurm-Sacctmgr-1.1.0-uLjXNc/t/helpers/echo_cmdline_to_stderr show user cluster='test-cluster' --parsable2 --noheader --readonly
[DRYRUN] /Users/hornenj/.cpan/build/Slurm-Sacctmgr-1.1.0-uLjXNc/t/helpers/echo_cmdline_to_stderr create cluster test-cluster
t/100_Slurm-Sacctmgr-basic.t ........ ok
t/110_lowlevel-utilities.t .......... ok
t/150_Slurm-Sacctmgr-taint.t ........ ok
[DRYRUN] /Users/hornenj/.cpan/build/Slurm-Sacctmgr-1.1.0-uLjXNc/t/helpers/echo_cmdline -i add account cluster=yottascale name=abc124 organization=nsa parent=special
[DRYRUN] /Users/hornenj/.cpan/build/Slurm-Sacctmgr-1.1.0-uLjXNc/t/helpers/echo_cmdline -i modify account where account=abc124 cluster=yottascale organization=nsa set parent=topsecret rawusage=0
[DRYRUN] /Users/hornenj/.cpan/build/Slurm-Sacctmgr-1.1.0-uLjXNc/t/helpers/echo_cmdline -i delete account where account=abc124 cluster=yottascale
[DRYRUN] /Users/hornenj/.cpan/build/Slurm-Sacctmgr-1.1.0-uLjXNc/t/helpers/echo_cmdline -i add account cluster=yottascale name=abc124 organization=nsa parent=special
[DRYRUN] /Users/hornenj/.cpan/build/Slurm-Sacctmgr-1.1.0-uLjXNc/t/helpers/echo_cmdline -i modify account where account=abc124 cluster=yottascale organization=nsa set parent=topsecret rawusage=0
[DRYRUN] /Users/hornenj/.cpan/build/Slurm-Sacctmgr-1.1.0-uLjXNc/t/helpers/echo_cmdline -i delete account where account=abc124 cluster=yottascale
t/200_Slurm-SAAccount-echo.t ........ ok
t/205_Slurm-SAAssoc-echo.t .......... ok
[DRYRUN] /Users/hornenj/.cpan/build/Slurm-Sacctmgr-1.1.0-uLjXNc/t/helpers/echo_cmdline -i add cluster cluster=yottascale controlhost=ys-master1 controlport=6817 cpucount=20000000 nodecount=1000000 nodenames=compute-[0-99999] rpc=7168
[DRYRUN] /Users/hornenj/.cpan/build/Slurm-Sacctmgr-1.1.0-uLjXNc/t/helpers/echo_cmdline -i add cluster cluster=yottascale controlhost=ys-master1 controlport=6817 nodenames=compute-[0-99999] rpc=7168 tres=cpu=20000000,node=1000000
[DRYRUN] /Users/hornenj/.cpan/build/Slurm-Sacctmgr-1.1.0-uLjXNc/t/helpers/echo_cmdline -i add cluster cluster=yottascale controlhost=ys-master1 controlport=6817 nodenames=compute-[0-99999] rpc=7168 tres=cpu=20000000,node=1000000
[DRYRUN] /Users/hornenj/.cpan/build/Slurm-Sacctmgr-1.1.0-uLjXNc/t/helpers/echo_cmdline -i modify cluster where cluster=yottascale set classificiation=virtual
[DRYRUN] /Users/hornenj/.cpan/build/Slurm-Sacctmgr-1.1.0-uLjXNc/t/helpers/echo_cmdline -i modify cluster where cluster=yottascale set cpucount=20000010
[DRYRUN] /Users/hornenj/.cpan/build/Slurm-Sacctmgr-1.1.0-uLjXNc/t/helpers/echo_cmdline -i modify cluster where cluster=yottascale set tres=cpu=20000020,node=1000001
[DRYRUN] /Users/hornenj/.cpan/build/Slurm-Sacctmgr-1.1.0-uLjXNc/t/helpers/echo_cmdline -i delete cluster where cluster=yottascale
[DRYRUN] /Users/hornenj/.cpan/build/Slurm-Sacctmgr-1.1.0-uLjXNc/t/helpers/echo_cmdline -i add cluster cluster=yottascale controlhost=ys-master1 controlport=6817 cpucount=20000000 nodecount=1000000 nodenames=compute-[0-99999] rpc=7168
[DRYRUN] /Users/hornenj/.cpan/build/Slurm-Sacctmgr-1.1.0-uLjXNc/t/helpers/echo_cmdline -i add cluster cluster=yottascale controlhost=ys-master1 controlport=6817 nodenames=compute-[0-99999] rpc=7168 tres=cpu=20000000,node=1000000
[DRYRUN] /Users/hornenj/.cpan/build/Slurm-Sacctmgr-1.1.0-uLjXNc/t/helpers/echo_cmdline -i add cluster cluster=yottascale controlhost=ys-master1 controlport=6817 nodenames=compute-[0-99999] rpc=7168 tres=cpu=20000000,node=1000000
[DRYRUN] /Users/hornenj/.cpan/build/Slurm-Sacctmgr-1.1.0-uLjXNc/t/helpers/echo_cmdline -i modify cluster where cluster=yottascale set classificiation=virtual
[DRYRUN] /Users/hornenj/.cpan/build/Slurm-Sacctmgr-1.1.0-uLjXNc/t/helpers/echo_cmdline -i modify cluster where cluster=yottascale set cpucount=20000010
[DRYRUN] /Users/hornenj/.cpan/build/Slurm-Sacctmgr-1.1.0-uLjXNc/t/helpers/echo_cmdline -i modify cluster where cluster=yottascale set tres=cpu=20000020,node=1000001
[DRYRUN] /Users/hornenj/.cpan/build/Slurm-Sacctmgr-1.1.0-uLjXNc/t/helpers/echo_cmdline -i delete cluster where cluster=yottascale
t/210_Slurm-SACluster-echo.t ........ ok
t/230_Slurm-SAEvent-echo.t .......... ok
[DRYRUN] /Users/hornenj/.cpan/build/Slurm-Sacctmgr-1.1.0-uLjXNc/t/helpers/echo_cmdline -i add qos 'description=high-priority qos' gracetime=10 grpcpumins=60000 grpcpus=1000 grpjobs=200 grpnodes=100 grpsubmitjobs=150 grpwall=40000 maxcpumins=120000 maxcpus=2000 maxjobs=400 maxnodes=300 maxsubmitjobs=275 maxwall=80000 name=high-priority preempt=scavenger,normal preemptmode=cluster priority=10 usagefactor=2
[DRYRUN] /Users/hornenj/.cpan/build/Slurm-Sacctmgr-1.1.0-uLjXNc/t/helpers/echo_cmdline -i delete qos where name=high-priority
[DRYRUN] /Users/hornenj/.cpan/build/Slurm-Sacctmgr-1.1.0-uLjXNc/t/helpers/echo_cmdline -i modify qos where name=high-priority set priority=75
[DRYRUN] /Users/hornenj/.cpan/build/Slurm-Sacctmgr-1.1.0-uLjXNc/t/helpers/echo_cmdline -i add qos 'description=high-priority qos' gracetime=10 grpcpumins=60000 grpcpus=1000 grpjobs=200 grpnodes=100 grpsubmitjobs=150 grpwall=40000 maxcpumins=120000 maxcpus=2000 maxjobs=400 maxnodes=300 maxsubmitjobs=275 maxwall=80000 name=high-priority preempt=scavenger,normal preemptmode=cluster priority=10 usagefactor=2
[DRYRUN] /Users/hornenj/.cpan/build/Slurm-Sacctmgr-1.1.0-uLjXNc/t/helpers/echo_cmdline -i delete qos where name=high-priority
[DRYRUN] /Users/hornenj/.cpan/build/Slurm-Sacctmgr-1.1.0-uLjXNc/t/helpers/echo_cmdline -i modify qos where name=high-priority set priority=75
t/260_Slurm-SACQos-echo.t ........... ok
[DRYRUN] /Users/hornenj/.cpan/build/Slurm-Sacctmgr-1.1.0-uLjXNc/t/helpers/echo_cmdline -i add resource allocated=100 cluster=yottascale count=10 description=test name=abaqus percentallowed=100 server=flexlm.umd.edu servertype=flexlm type=License
[DRYRUN] /Users/hornenj/.cpan/build/Slurm-Sacctmgr-1.1.0-uLjXNc/t/helpers/echo_cmdline -i modify resource where name=abaqus set count=20
[DRYRUN] /Users/hornenj/.cpan/build/Slurm-Sacctmgr-1.1.0-uLjXNc/t/helpers/echo_cmdline -i delete resource where name=abaqus
[DRYRUN] /Users/hornenj/.cpan/build/Slurm-Sacctmgr-1.1.0-uLjXNc/t/helpers/echo_cmdline -i add resource allocated=100 cluster=yottascale count=10 description=test name=abaqus percentallowed=100 server=flexlm.umd.edu servertype=flexlm type=License
[DRYRUN] /Users/hornenj/.cpan/build/Slurm-Sacctmgr-1.1.0-uLjXNc/t/helpers/echo_cmdline -i modify resource where name=abaqus set count=20
[DRYRUN] /Users/hornenj/.cpan/build/Slurm-Sacctmgr-1.1.0-uLjXNc/t/helpers/echo_cmdline -i delete resource where name=abaqus
t/262_Slurm-SAResource-echo.t ....... ok
t/265_Slurm-SATransaction-echo.t .... ok
t/267_Slurm-SATres-echo.t ........... ok
[DRYRUN] /Users/hornenj/.cpan/build/Slurm-Sacctmgr-1.1.0-uLjXNc/t/helpers/echo_cmdline -i add user adminlevel=Admin defaultaccount=nsa user=george
[DRYRUN] /Users/hornenj/.cpan/build/Slurm-Sacctmgr-1.1.0-uLjXNc/t/helpers/echo_cmdline -i modify user where user=george set defaultaccount=abc124 rawusage=0
[DRYRUN] /Users/hornenj/.cpan/build/Slurm-Sacctmgr-1.1.0-uLjXNc/t/helpers/echo_cmdline -i delete user where name=george
[DRYRUN] /Users/hornenj/.cpan/build/Slurm-Sacctmgr-1.1.0-uLjXNc/t/helpers/echo_cmdline -i add user adminlevel=Admin defaultaccount=nsa user=george
[DRYRUN] /Users/hornenj/.cpan/build/Slurm-Sacctmgr-1.1.0-uLjXNc/t/helpers/echo_cmdline -i modify user where user=george set defaultaccount=abc124 rawusage=0
[DRYRUN] /Users/hornenj/.cpan/build/Slurm-Sacctmgr-1.1.0-uLjXNc/t/helpers/echo_cmdline -i delete user where name=george
t/270_Slurm-SAUser-echo.t ........... ok
t/280_Slurm-SAWCKey-echo.t .......... ok
t/500_Slurm-SAAccount-parse.t ....... ok
t/505_Slurm-SAAssoc-parse.t ......... ok
t/510_Slurm-SACluster-parse.t ....... ok
t/530_Slurm-SAEvent-parse.t ......... ok
t/560_Slurm-SAQos-parse.t ........... ok
t/562_Slurm-SAResource-parse.t ...... ok
t/565_Slurm-SATransaction-parse.t ... ok
t/567_Slurm-SATres-parse.t .......... ok
t/570_Slurm-SAUser-parse.t .......... ok
t/580_Slurm-SAWCKey-parse.t ......... ok
[DRYRUN] /Users/hornenj/.cpan/build/Slurm-Sacctmgr-1.1.0-uLjXNc/t/helpers/fake_sacctmgr_show+echo -i add account account=xxx 'description=new account' organization=xx
[DRYRUN] /Users/hornenj/.cpan/build/Slurm-Sacctmgr-1.1.0-uLjXNc/t/helpers/fake_sacctmgr_show+echo -i delete account where account=aaa
[DRYRUN] /Users/hornenj/.cpan/build/Slurm-Sacctmgr-1.1.0-uLjXNc/t/helpers/fake_sacctmgr_show+echo -i delete account where account=aab
[DRYRUN] /Users/hornenj/.cpan/build/Slurm-Sacctmgr-1.1.0-uLjXNc/t/helpers/fake_sacctmgr_show+echo -i delete account where account=bbb
[DRYRUN] /Users/hornenj/.cpan/build/Slurm-Sacctmgr-1.1.0-uLjXNc/t/helpers/fake_sacctmgr_show+echo -i delete account where account=ccc
[DRYRUN] /Users/hornenj/.cpan/build/Slurm-Sacctmgr-1.1.0-uLjXNc/t/helpers/fake_sacctmgr_show+echo -i modify account where account=aaa set 'description=new desc' 'organization=new org'
[DRYRUN] /Users/hornenj/.cpan/build/Slurm-Sacctmgr-1.1.0-uLjXNc/t/helpers/fake_sacctmgr_show+echo -i modify account where account=aab set 'description=new desc' 'organization=new org'
[DRYRUN] /Users/hornenj/.cpan/build/Slurm-Sacctmgr-1.1.0-uLjXNc/t/helpers/fake_sacctmgr_show+echo -i modify account where account=bbb set 'description=new desc' 'organization=new org'
[DRYRUN] /Users/hornenj/.cpan/build/Slurm-Sacctmgr-1.1.0-uLjXNc/t/helpers/fake_sacctmgr_show+echo -i modify account where account=ccc set 'description=new desc' 'organization=new org'
[DRYRUN] /Users/hornenj/.cpan/build/Slurm-Sacctmgr-1.1.0-uLjXNc/t/helpers/fake_sacctmgr_show+echo -i add account account=xxx 'description=new account' extra_flag=772 organization=xx
[DRYRUN] /Users/hornenj/.cpan/build/Slurm-Sacctmgr-1.1.0-uLjXNc/t/helpers/fake_sacctmgr_show+echo -i modify account where account=aaa set extra_flag=772
[DRYRUN] /Users/hornenj/.cpan/build/Slurm-Sacctmgr-1.1.0-uLjXNc/t/helpers/fake_sacctmgr_show+echo -i modify account where account=aab set extra_flag=772 'organization=new org'
[DRYRUN] /Users/hornenj/.cpan/build/Slurm-Sacctmgr-1.1.0-uLjXNc/t/helpers/fake_sacctmgr_show+echo -i modify account where account=bbb set 'description=new desc' extra_flag=772
[DRYRUN] /Users/hornenj/.cpan/build/Slurm-Sacctmgr-1.1.0-uLjXNc/t/helpers/fake_sacctmgr_show+echo -i modify account where account=ccc set 'description=new desc' extra_flag=772 'organization=new org'
[DRYRUN] /Users/hornenj/.cpan/build/Slurm-Sacctmgr-1.1.0-uLjXNc/t/helpers/fake_sacctmgr_show+echo -i modify account where account=aab set 'organization=new org'
[DRYRUN] /Users/hornenj/.cpan/build/Slurm-Sacctmgr-1.1.0-uLjXNc/t/helpers/fake_sacctmgr_show+echo -i modify account where account=bbb set 'description=new desc'
[DRYRUN] /Users/hornenj/.cpan/build/Slurm-Sacctmgr-1.1.0-uLjXNc/t/helpers/fake_sacctmgr_show+echo -i modify account where account=ccc set 'description=new desc' 'organization=new org'
[DRYRUN] /Users/hornenj/.cpan/build/Slurm-Sacctmgr-1.1.0-uLjXNc/t/helpers/fake_sacctmgr_show+echo -i add account account=xxx 'description=new account' organization=xx
[DRYRUN] /Users/hornenj/.cpan/build/Slurm-Sacctmgr-1.1.0-uLjXNc/t/helpers/fake_sacctmgr_show+echo -i delete account where account=aaa
[DRYRUN] /Users/hornenj/.cpan/build/Slurm-Sacctmgr-1.1.0-uLjXNc/t/helpers/fake_sacctmgr_show+echo -i delete account where account=aab
[DRYRUN] /Users/hornenj/.cpan/build/Slurm-Sacctmgr-1.1.0-uLjXNc/t/helpers/fake_sacctmgr_show+echo -i delete account where account=bbb
[DRYRUN] /Users/hornenj/.cpan/build/Slurm-Sacctmgr-1.1.0-uLjXNc/t/helpers/fake_sacctmgr_show+echo -i delete account where account=ccc
[DRYRUN] /Users/hornenj/.cpan/build/Slurm-Sacctmgr-1.1.0-uLjXNc/t/helpers/fake_sacctmgr_show+echo -i modify account where account=aaa set 'description=new desc' 'organization=new org'
[DRYRUN] /Users/hornenj/.cpan/build/Slurm-Sacctmgr-1.1.0-uLjXNc/t/helpers/fake_sacctmgr_show+echo -i modify account where account=aab set 'description=new desc' 'organization=new org'
[DRYRUN] /Users/hornenj/.cpan/build/Slurm-Sacctmgr-1.1.0-uLjXNc/t/helpers/fake_sacctmgr_show+echo -i modify account where account=bbb set 'description=new desc' 'organization=new org'
[DRYRUN] /Users/hornenj/.cpan/build/Slurm-Sacctmgr-1.1.0-uLjXNc/t/helpers/fake_sacctmgr_show+echo -i modify account where account=ccc set 'description=new desc' 'organization=new org'
[DRYRUN] /Users/hornenj/.cpan/build/Slurm-Sacctmgr-1.1.0-uLjXNc/t/helpers/fake_sacctmgr_show+echo -i add account account=xxx 'description=new account' extra_flag=772 organization=xx
[DRYRUN] /Users/hornenj/.cpan/build/Slurm-Sacctmgr-1.1.0-uLjXNc/t/helpers/fake_sacctmgr_show+echo -i modify account where account=aaa set extra_flag=772
[DRYRUN] /Users/hornenj/.cpan/build/Slurm-Sacctmgr-1.1.0-uLjXNc/t/helpers/fake_sacctmgr_show+echo -i modify account where account=aab set extra_flag=772 'organization=new org'
[DRYRUN] /Users/hornenj/.cpan/build/Slurm-Sacctmgr-1.1.0-uLjXNc/t/helpers/fake_sacctmgr_show+echo -i modify account where account=bbb set 'description=new desc' extra_flag=772
[DRYRUN] /Users/hornenj/.cpan/build/Slurm-Sacctmgr-1.1.0-uLjXNc/t/helpers/fake_sacctmgr_show+echo -i modify account where account=ccc set 'description=new desc' extra_flag=772 'organization=new org'
[DRYRUN] /Users/hornenj/.cpan/build/Slurm-Sacctmgr-1.1.0-uLjXNc/t/helpers/fake_sacctmgr_show+echo -i modify account where account=aab set 'organization=new org'
[DRYRUN] /Users/hornenj/.cpan/build/Slurm-Sacctmgr-1.1.0-uLjXNc/t/helpers/fake_sacctmgr_show+echo -i modify account where account=bbb set 'description=new desc'
[DRYRUN] /Users/hornenj/.cpan/build/Slurm-Sacctmgr-1.1.0-uLjXNc/t/helpers/fake_sacctmgr_show+echo -i modify account where account=ccc set 'description=new desc' 'organization=new org'
t/600_Slurm-SAAccount-foo_me.t ...... ok
t/605_Slurm-SAAssoc-foo_me.t ........ ok
[DRYRUN] /Users/hornenj/.cpan/build/Slurm-Sacctmgr-1.1.0-uLjXNc/t/helpers/fake_sacctmgr_show+echo -i add cluster classification=new cluster=newcluster controlhost=new-master controlport=6818 cpucount=1600 flags=virtual nodecount=100 rpc=7169
[DRYRUN] /Users/hornenj/.cpan/build/Slurm-Sacctmgr-1.1.0-uLjXNc/t/helpers/fake_sacctmgr_show+echo -i delete cluster where cluster=test1
[DRYRUN] /Users/hornenj/.cpan/build/Slurm-Sacctmgr-1.1.0-uLjXNc/t/helpers/fake_sacctmgr_show+echo -i delete cluster where cluster=yottascale
[DRYRUN] /Users/hornenj/.cpan/build/Slurm-Sacctmgr-1.1.0-uLjXNc/t/helpers/fake_sacctmgr_show+echo -i modify cluster where cluster=test1 set 'classification=newer class' flags=deprecated
[DRYRUN] /Users/hornenj/.cpan/build/Slurm-Sacctmgr-1.1.0-uLjXNc/t/helpers/fake_sacctmgr_show+echo -i modify cluster where cluster=yottascale set 'classification=newer class' flags=deprecated
[DRYRUN] /Users/hornenj/.cpan/build/Slurm-Sacctmgr-1.1.0-uLjXNc/t/helpers/fake_sacctmgr_show+echo -i add cluster classification=new cluster=newcluster controlhost=new-master controlport=6818 cpucount=1600 extra_flag=772 flags=virtual nodecount=100 rpc=7169
[DRYRUN] /Users/hornenj/.cpan/build/Slurm-Sacctmgr-1.1.0-uLjXNc/t/helpers/fake_sacctmgr_show+echo -i modify cluster where cluster=test1 set extra_flag=772
[DRYRUN] /Users/hornenj/.cpan/build/Slurm-Sacctmgr-1.1.0-uLjXNc/t/helpers/fake_sacctmgr_show+echo -i modify cluster where cluster=yottascale set extra_flag=772 flags=updated
[DRYRUN] /Users/hornenj/.cpan/build/Slurm-Sacctmgr-1.1.0-uLjXNc/t/helpers/fake_sacctmgr_show+echo -i modify cluster where cluster=yottascale set flags=updated
[DRYRUN] /Users/hornenj/.cpan/build/Slurm-Sacctmgr-1.1.0-uLjXNc/t/helpers/fake_sacctmgr_show+echo -i add cluster classification=new cluster=newcluster controlhost=new-master controlport=6818 flags=virtual rpc=7169 tres=cpu=1600,mem=12800000,node=100
[DRYRUN] /Users/hornenj/.cpan/build/Slurm-Sacctmgr-1.1.0-uLjXNc/t/helpers/fake_sacctmgr_show+echo -i delete cluster where cluster=test1
[DRYRUN] /Users/hornenj/.cpan/build/Slurm-Sacctmgr-1.1.0-uLjXNc/t/helpers/fake_sacctmgr_show+echo -i delete cluster where cluster=yottascale
[DRYRUN] /Users/hornenj/.cpan/build/Slurm-Sacctmgr-1.1.0-uLjXNc/t/helpers/fake_sacctmgr_show+echo -i modify cluster where cluster=test1 set 'classification=newer class' flags=deprecated
[DRYRUN] /Users/hornenj/.cpan/build/Slurm-Sacctmgr-1.1.0-uLjXNc/t/helpers/fake_sacctmgr_show+echo -i modify cluster where cluster=yottascale set 'classification=newer class' flags=deprecated
[DRYRUN] /Users/hornenj/.cpan/build/Slurm-Sacctmgr-1.1.0-uLjXNc/t/helpers/fake_sacctmgr_show+echo -i add cluster classification=new cluster=newcluster controlhost=new-master controlport=6818 extra_flag=772 flags=virtual rpc=7169 tres=cpu=1600,mem=12800000,node=100
[DRYRUN] /Users/hornenj/.cpan/build/Slurm-Sacctmgr-1.1.0-uLjXNc/t/helpers/fake_sacctmgr_show+echo -i modify cluster where cluster=test1 set extra_flag=772
[DRYRUN] /Users/hornenj/.cpan/build/Slurm-Sacctmgr-1.1.0-uLjXNc/t/helpers/fake_sacctmgr_show+echo -i modify cluster where cluster=yottascale set extra_flag=772 flags=updated
[DRYRUN] /Users/hornenj/.cpan/build/Slurm-Sacctmgr-1.1.0-uLjXNc/t/helpers/fake_sacctmgr_show+echo -i modify cluster where cluster=yottascale set flags=updated
t/610_Slurm_SACluster-foo_me.t ...... ok
t/630_Slurm-SAEvent-foo_me.t ........ ok
[DRYRUN] /Users/hornenj/.cpan/build/Slurm-Sacctmgr-1.1.0-uLjXNc/t/helpers/fake_sacctmgr_show+echo -i add qos 'description=GPU qos' gracetime=57 grpcpumins=1000000 grpcpus=1000 grpjobs=200 grpnodes=50 grpsubmitjobs=100 id=4 maxcpumins=60000 maxcpus=2000 maxcpusperuser=500 maxjobs=300 maxnodes=100 maxnodesperuser=25 maxsubmitjobs=150 maxwall=6000 mincpus=10 name=gpu preempt=scavenger preemptmode=cluster priority=25 usagefactor=3
[DRYRUN] /Users/hornenj/.cpan/build/Slurm-Sacctmgr-1.1.0-uLjXNc/t/helpers/fake_sacctmgr_show+echo -i delete qos where name=high-priority
[DRYRUN] /Users/hornenj/.cpan/build/Slurm-Sacctmgr-1.1.0-uLjXNc/t/helpers/fake_sacctmgr_show+echo -i delete qos where name=scavenger
[DRYRUN] /Users/hornenj/.cpan/build/Slurm-Sacctmgr-1.1.0-uLjXNc/t/helpers/fake_sacctmgr_show+echo -i delete qos where name=standard
[DRYRUN] /Users/hornenj/.cpan/build/Slurm-Sacctmgr-1.1.0-uLjXNc/t/helpers/fake_sacctmgr_show+echo -i modify qos where name=high-priority set 'description=new desc' 'organization=new org'
[DRYRUN] /Users/hornenj/.cpan/build/Slurm-Sacctmgr-1.1.0-uLjXNc/t/helpers/fake_sacctmgr_show+echo -i modify qos where name=scavenger set 'description=new desc' 'organization=new org'
[DRYRUN] /Users/hornenj/.cpan/build/Slurm-Sacctmgr-1.1.0-uLjXNc/t/helpers/fake_sacctmgr_show+echo -i modify qos where name=standard set 'description=new desc' 'organization=new org'
[DRYRUN] /Users/hornenj/.cpan/build/Slurm-Sacctmgr-1.1.0-uLjXNc/t/helpers/fake_sacctmgr_show+echo -i add qos 'description=GPU qos' gracetime=57 grpjobs=200 grpsubmitjobs=100 grptres=cpu=1000,node=50 grptresmins=cpu=1000000 id=4 maxjobs=300 maxsubmitjobs=150 maxtresmins=cpu=60000 maxtresperjob=cpu=2000,node=100 maxtresperuser=cpu=500,node=25 maxwall=6000 mintresperjob=cpu=10,node=1 name=gpu preempt=scavenger preemptmode=cluster priority=25 usagefactor=3
[DRYRUN] /Users/hornenj/.cpan/build/Slurm-Sacctmgr-1.1.0-uLjXNc/t/helpers/fake_sacctmgr_show+echo -i delete qos where name=high-priority
[DRYRUN] /Users/hornenj/.cpan/build/Slurm-Sacctmgr-1.1.0-uLjXNc/t/helpers/fake_sacctmgr_show+echo -i delete qos where name=scavenger
[DRYRUN] /Users/hornenj/.cpan/build/Slurm-Sacctmgr-1.1.0-uLjXNc/t/helpers/fake_sacctmgr_show+echo -i delete qos where name=standard
[DRYRUN] /Users/hornenj/.cpan/build/Slurm-Sacctmgr-1.1.0-uLjXNc/t/helpers/fake_sacctmgr_show+echo -i modify qos where name=high-priority set 'description=new desc' 'organization=new org'
[DRYRUN] /Users/hornenj/.cpan/build/Slurm-Sacctmgr-1.1.0-uLjXNc/t/helpers/fake_sacctmgr_show+echo -i modify qos where name=scavenger set 'description=new desc' 'organization=new org'
[DRYRUN] /Users/hornenj/.cpan/build/Slurm-Sacctmgr-1.1.0-uLjXNc/t/helpers/fake_sacctmgr_show+echo -i modify qos where name=standard set 'description=new desc' 'organization=new org'
t/660_Slurm-SAQos-foo_me.t .......... ok
[DRYRUN] /Users/hornenj/.cpan/build/Slurm-Sacctmgr-1.1.0-uLjXNc/t/helpers/fake_sacctmgr_show+echo -i add resource cluster=yottascale count=10 description=test name=abaqus percentallowed=100 server=flexlm.umd.edu servertype=flexlm type=License
[DRYRUN] /Users/hornenj/.cpan/build/Slurm-Sacctmgr-1.1.0-uLjXNc/t/helpers/fake_sacctmgr_show+echo -i delete resource where cluster=yottascale name=foo
[DRYRUN] /Users/hornenj/.cpan/build/Slurm-Sacctmgr-1.1.0-uLjXNc/t/helpers/fake_sacctmgr_show+echo -i delete resource where cluster=yottascale name=matlab
[DRYRUN] /Users/hornenj/.cpan/build/Slurm-Sacctmgr-1.1.0-uLjXNc/t/helpers/fake_sacctmgr_show+echo -i delete resource where cluster=testcluster name=matlab
[DRYRUN] /Users/hornenj/.cpan/build/Slurm-Sacctmgr-1.1.0-uLjXNc/t/helpers/fake_sacctmgr_show+echo -i modify resource where cluster=yottascale name=foo set count=999
[DRYRUN] /Users/hornenj/.cpan/build/Slurm-Sacctmgr-1.1.0-uLjXNc/t/helpers/fake_sacctmgr_show+echo -i modify resource where cluster=yottascale name=matlab set count=999
[DRYRUN] /Users/hornenj/.cpan/build/Slurm-Sacctmgr-1.1.0-uLjXNc/t/helpers/fake_sacctmgr_show+echo -i modify resource where cluster=testcluster name=matlab set count=999
[DRYRUN] /Users/hornenj/.cpan/build/Slurm-Sacctmgr-1.1.0-uLjXNc/t/helpers/fake_sacctmgr_show+echo -i add resource cluster=yottascale count=10 description=test extra_flag=772 name=abaqus percentallowed=100 server=flexlm.umd.edu servertype=flexlm type=License
[DRYRUN] /Users/hornenj/.cpan/build/Slurm-Sacctmgr-1.1.0-uLjXNc/t/helpers/fake_sacctmgr_show+echo -i modify resource where cluster=yottascale name=foo set extra_flag=772
[DRYRUN] /Users/hornenj/.cpan/build/Slurm-Sacctmgr-1.1.0-uLjXNc/t/helpers/fake_sacctmgr_show+echo -i modify resource where cluster=yottascale name=matlab set count=999 extra_flag=772
[DRYRUN] /Users/hornenj/.cpan/build/Slurm-Sacctmgr-1.1.0-uLjXNc/t/helpers/fake_sacctmgr_show+echo -i modify resource where cluster=testcluster name=matlab set count=999 'description=new descr' extra_flag=772
[DRYRUN] /Users/hornenj/.cpan/build/Slurm-Sacctmgr-1.1.0-uLjXNc/t/helpers/fake_sacctmgr_show+echo -i modify resource where cluster=yottascale name=matlab set count=999
[DRYRUN] /Users/hornenj/.cpan/build/Slurm-Sacctmgr-1.1.0-uLjXNc/t/helpers/fake_sacctmgr_show+echo -i modify resource where cluster=testcluster name=matlab set count=999 'description=new descr'
[DRYRUN] /Users/hornenj/.cpan/build/Slurm-Sacctmgr-1.1.0-uLjXNc/t/helpers/fake_sacctmgr_show+echo -i add resource cluster=yottascale count=10 description=test name=abaqus percentallowed=100 server=flexlm.umd.edu servertype=flexlm type=License
[DRYRUN] /Users/hornenj/.cpan/build/Slurm-Sacctmgr-1.1.0-uLjXNc/t/helpers/fake_sacctmgr_show+echo -i delete resource where cluster=yottascale name=foo
[DRYRUN] /Users/hornenj/.cpan/build/Slurm-Sacctmgr-1.1.0-uLjXNc/t/helpers/fake_sacctmgr_show+echo -i delete resource where cluster=yottascale name=matlab
[DRYRUN] /Users/hornenj/.cpan/build/Slurm-Sacctmgr-1.1.0-uLjXNc/t/helpers/fake_sacctmgr_show+echo -i delete resource where cluster=testcluster name=matlab
[DRYRUN] /Users/hornenj/.cpan/build/Slurm-Sacctmgr-1.1.0-uLjXNc/t/helpers/fake_sacctmgr_show+echo -i modify resource where cluster=yottascale name=foo set count=999
[DRYRUN] /Users/hornenj/.cpan/build/Slurm-Sacctmgr-1.1.0-uLjXNc/t/helpers/fake_sacctmgr_show+echo -i modify resource where cluster=yottascale name=matlab set count=999
[DRYRUN] /Users/hornenj/.cpan/build/Slurm-Sacctmgr-1.1.0-uLjXNc/t/helpers/fake_sacctmgr_show+echo -i modify resource where cluster=testcluster name=matlab set count=999
[DRYRUN] /Users/hornenj/.cpan/build/Slurm-Sacctmgr-1.1.0-uLjXNc/t/helpers/fake_sacctmgr_show+echo -i add resource cluster=yottascale count=10 description=test extra_flag=772 name=abaqus percentallowed=100 server=flexlm.umd.edu servertype=flexlm type=License
[DRYRUN] /Users/hornenj/.cpan/build/Slurm-Sacctmgr-1.1.0-uLjXNc/t/helpers/fake_sacctmgr_show+echo -i modify resource where cluster=yottascale name=foo set extra_flag=772
[DRYRUN] /Users/hornenj/.cpan/build/Slurm-Sacctmgr-1.1.0-uLjXNc/t/helpers/fake_sacctmgr_show+echo -i modify resource where cluster=yottascale name=matlab set count=999 extra_flag=772
[DRYRUN] /Users/hornenj/.cpan/build/Slurm-Sacctmgr-1.1.0-uLjXNc/t/helpers/fake_sacctmgr_show+echo -i modify resource where cluster=testcluster name=matlab set count=999 'description=new descr' extra_flag=772
[DRYRUN] /Users/hornenj/.cpan/build/Slurm-Sacctmgr-1.1.0-uLjXNc/t/helpers/fake_sacctmgr_show+echo -i modify resource where cluster=yottascale name=matlab set count=999
[DRYRUN] /Users/hornenj/.cpan/build/Slurm-Sacctmgr-1.1.0-uLjXNc/t/helpers/fake_sacctmgr_show+echo -i modify resource where cluster=testcluster name=matlab set count=999 'description=new descr'
t/662_Slurm-SAResource-foo_me.t ..... ok
t/665_Slurm-SATransaction-foo_me.t .. ok
t/667_Slurm-SATres-foo_me.t ......... ok
[DRYRUN] /Users/hornenj/.cpan/build/Slurm-Sacctmgr-1.1.0-uLjXNc/t/helpers/fake_sacctmgr_show+echo -i add user adminlevel=Administrator defaultaccount=abc124 user=xxx
[DRYRUN] /Users/hornenj/.cpan/build/Slurm-Sacctmgr-1.1.0-uLjXNc/t/helpers/fake_sacctmgr_show+echo -i delete user where user=aaa
[DRYRUN] /Users/hornenj/.cpan/build/Slurm-Sacctmgr-1.1.0-uLjXNc/t/helpers/fake_sacctmgr_show+echo -i delete user where user=bbb
[DRYRUN] /Users/hornenj/.cpan/build/Slurm-Sacctmgr-1.1.0-uLjXNc/t/helpers/fake_sacctmgr_show+echo -i delete user where user=ccc
[DRYRUN] /Users/hornenj/.cpan/build/Slurm-Sacctmgr-1.1.0-uLjXNc/t/helpers/fake_sacctmgr_show+echo -i delete user where user=ddd
[DRYRUN] /Users/hornenj/.cpan/build/Slurm-Sacctmgr-1.1.0-uLjXNc/t/helpers/fake_sacctmgr_show+echo -i modify user where user=aaa set adminlevel=Admin defaultaccount=newacct
[DRYRUN] /Users/hornenj/.cpan/build/Slurm-Sacctmgr-1.1.0-uLjXNc/t/helpers/fake_sacctmgr_show+echo -i modify user where user=bbb set adminlevel=Admin defaultaccount=newacct
[DRYRUN] /Users/hornenj/.cpan/build/Slurm-Sacctmgr-1.1.0-uLjXNc/t/helpers/fake_sacctmgr_show+echo -i modify user where user=ccc set adminlevel=Admin defaultaccount=newacct
[DRYRUN] /Users/hornenj/.cpan/build/Slurm-Sacctmgr-1.1.0-uLjXNc/t/helpers/fake_sacctmgr_show+echo -i modify user where user=ddd set adminlevel=Admin defaultaccount=newacct
[DRYRUN] /Users/hornenj/.cpan/build/Slurm-Sacctmgr-1.1.0-uLjXNc/t/helpers/fake_sacctmgr_show+echo -i add user adminlevel=Administrator defaultaccount=abc124 extra_flag=772 user=xxx
[DRYRUN] /Users/hornenj/.cpan/build/Slurm-Sacctmgr-1.1.0-uLjXNc/t/helpers/fake_sacctmgr_show+echo -i modify user where user=aaa set extra_flag=772
[DRYRUN] /Users/hornenj/.cpan/build/Slurm-Sacctmgr-1.1.0-uLjXNc/t/helpers/fake_sacctmgr_show+echo -i modify user where user=bbb set defaultaccount=newacct extra_flag=772
[DRYRUN] /Users/hornenj/.cpan/build/Slurm-Sacctmgr-1.1.0-uLjXNc/t/helpers/fake_sacctmgr_show+echo -i modify user where user=ccc set adminlevel=SuperUser defaultaccount=newacct extra_flag=772
[DRYRUN] /Users/hornenj/.cpan/build/Slurm-Sacctmgr-1.1.0-uLjXNc/t/helpers/fake_sacctmgr_show+echo -i modify user where user=ddd set extra_flag=772
[DRYRUN] /Users/hornenj/.cpan/build/Slurm-Sacctmgr-1.1.0-uLjXNc/t/helpers/fake_sacctmgr_show+echo -i modify user where user=bbb set defaultaccount=newacct
[DRYRUN] /Users/hornenj/.cpan/build/Slurm-Sacctmgr-1.1.0-uLjXNc/t/helpers/fake_sacctmgr_show+echo -i modify user where user=ccc set adminlevel=SuperUser defaultaccount=newacct
[DRYRUN] /Users/hornenj/.cpan/build/Slurm-Sacctmgr-1.1.0-uLjXNc/t/helpers/fake_sacctmgr_show+echo -i add user adminlevel=Administrator defaultaccount=abc124 user=xxx
[DRYRUN] /Users/hornenj/.cpan/build/Slurm-Sacctmgr-1.1.0-uLjXNc/t/helpers/fake_sacctmgr_show+echo -i delete user where user=aaa
[DRYRUN] /Users/hornenj/.cpan/build/Slurm-Sacctmgr-1.1.0-uLjXNc/t/helpers/fake_sacctmgr_show+echo -i delete user where user=bbb
[DRYRUN] /Users/hornenj/.cpan/build/Slurm-Sacctmgr-1.1.0-uLjXNc/t/helpers/fake_sacctmgr_show+echo -i delete user where user=ccc
[DRYRUN] /Users/hornenj/.cpan/build/Slurm-Sacctmgr-1.1.0-uLjXNc/t/helpers/fake_sacctmgr_show+echo -i delete user where user=ddd
[DRYRUN] /Users/hornenj/.cpan/build/Slurm-Sacctmgr-1.1.0-uLjXNc/t/helpers/fake_sacctmgr_show+echo -i modify user where user=aaa set adminlevel=Admin defaultaccount=newacct
[DRYRUN] /Users/hornenj/.cpan/build/Slurm-Sacctmgr-1.1.0-uLjXNc/t/helpers/fake_sacctmgr_show+echo -i modify user where user=bbb set adminlevel=Admin defaultaccount=newacct
[DRYRUN] /Users/hornenj/.cpan/build/Slurm-Sacctmgr-1.1.0-uLjXNc/t/helpers/fake_sacctmgr_show+echo -i modify user where user=ccc set adminlevel=Admin defaultaccount=newacct
[DRYRUN] /Users/hornenj/.cpan/build/Slurm-Sacctmgr-1.1.0-uLjXNc/t/helpers/fake_sacctmgr_show+echo -i modify user where user=ddd set adminlevel=Admin defaultaccount=newacct
[DRYRUN] /Users/hornenj/.cpan/build/Slurm-Sacctmgr-1.1.0-uLjXNc/t/helpers/fake_sacctmgr_show+echo -i add user adminlevel=Administrator defaultaccount=abc124 extra_flag=772 user=xxx
[DRYRUN] /Users/hornenj/.cpan/build/Slurm-Sacctmgr-1.1.0-uLjXNc/t/helpers/fake_sacctmgr_show+echo -i modify user where user=aaa set extra_flag=772
[DRYRUN] /Users/hornenj/.cpan/build/Slurm-Sacctmgr-1.1.0-uLjXNc/t/helpers/fake_sacctmgr_show+echo -i modify user where user=bbb set defaultaccount=newacct extra_flag=772
[DRYRUN] /Users/hornenj/.cpan/build/Slurm-Sacctmgr-1.1.0-uLjXNc/t/helpers/fake_sacctmgr_show+echo -i modify user where user=ccc set adminlevel=SuperUser defaultaccount=newacct extra_flag=772
[DRYRUN] /Users/hornenj/.cpan/build/Slurm-Sacctmgr-1.1.0-uLjXNc/t/helpers/fake_sacctmgr_show+echo -i modify user where user=ddd set extra_flag=772
[DRYRUN] /Users/hornenj/.cpan/build/Slurm-Sacctmgr-1.1.0-uLjXNc/t/helpers/fake_sacctmgr_show+echo -i modify user where user=bbb set defaultaccount=newacct
[DRYRUN] /Users/hornenj/.cpan/build/Slurm-Sacctmgr-1.1.0-uLjXNc/t/helpers/fake_sacctmgr_show+echo -i modify user where user=ccc set adminlevel=SuperUser defaultaccount=newacct
t/670_Slurm-SAUser-foo_me.t ......... ok
t/680_Slurm-SAWCKey-foo_me.t ........ ok
[DRYRUN] /Users/hornenj/.cpan/build/Slurm-Sacctmgr-1.1.0-uLjXNc/t/helpers/fake_sacctmgr_show+echo -i modify account where cluster=yottascale name=abc124 set rawusage=0
[DRYRUN] /Users/hornenj/.cpan/build/Slurm-Sacctmgr-1.1.0-uLjXNc/t/helpers/fake_sacctmgr_show+echo -i modify account where cluster=test-cluster name=test-account set rawusage=0
[DRYRUN] /Users/hornenj/.cpan/build/Slurm-Sacctmgr-1.1.0-uLjXNc/t/helpers/fake_sacctmgr_show+echo -i modify account where cluster=yottascale name=abc124 set grpcpumins=13571024
[DRYRUN] /Users/hornenj/.cpan/build/Slurm-Sacctmgr-1.1.0-uLjXNc/t/helpers/fake_sacctmgr_show+echo -i modify account where cluster=yottascale name=abc124 set grpcpumins=13571025
[DRYRUN] /Users/hornenj/.cpan/build/Slurm-Sacctmgr-1.1.0-uLjXNc/t/helpers/fake_sacctmgr_show+echo -i modify account where cluster=yottascale name=abc124 set grpcpumins=13571026
[DRYRUN] /Users/hornenj/.cpan/build/Slurm-Sacctmgr-1.1.0-uLjXNc/t/helpers/fake_sacctmgr_show+echo -i modify account where cluster=yottascale name=abc124 set grpcpumins=13571027
[DRYRUN] /Users/hornenj/.cpan/build/Slurm-Sacctmgr-1.1.0-uLjXNc/t/helpers/fake_sacctmgr_show+echo -i modify account where cluster=yottascale name=abc124 set rawusage=0
[DRYRUN] /Users/hornenj/.cpan/build/Slurm-Sacctmgr-1.1.0-uLjXNc/t/helpers/fake_sacctmgr_show+echo -i modify account where cluster=test-cluster name=test-account set rawusage=0
[DRYRUN] /Users/hornenj/.cpan/build/Slurm-Sacctmgr-1.1.0-uLjXNc/t/helpers/fake_sacctmgr_show+echo -i modify account where cluster=yottascale name=abc124 set grptresmins=cpu=13571024
[DRYRUN] /Users/hornenj/.cpan/build/Slurm-Sacctmgr-1.1.0-uLjXNc/t/helpers/fake_sacctmgr_show+echo -i modify account where cluster=yottascale name=abc124 set grptresmins=cpu=13571025
[DRYRUN] /Users/hornenj/.cpan/build/Slurm-Sacctmgr-1.1.0-uLjXNc/t/helpers/fake_sacctmgr_show+echo -i modify account where cluster=yottascale name=abc124 set grptresmins=cpu=13571026
[DRYRUN] /Users/hornenj/.cpan/build/Slurm-Sacctmgr-1.1.0-uLjXNc/t/helpers/fake_sacctmgr_show+echo -i modify account where cluster=yottascale name=abc124 set grptresmins=cpu=13571027,mem=100000
t/800_Slurm-SAAccount-extra.t ....... ok
All tests successful.
Files=36, Tests=886, 104 wallclock secs ( 0.22 usr  0.07 sys + 12.75 cusr 23.61 csys = 36.65 CPU)
Result: PASS

------------------------------
PREREQUISITES
------------------------------

Prerequisite modules loaded:

requires:

    Module              Need  Have    
    ------------------- ----- --------
    base                0     2.22    
    Carp                0     1.36    
    Class::Accessor     0     0.34    
    perl                5.006 5.020001
    POSIX               0     1.38_03 
    strict              0     1.08    
    version             0     0.9912  
    warnings            0     1.23    

build_requires:

    Module              Need  Have    
    ------------------- ----- --------
    Cwd                 0     3.48    
    File::Basename      0     2.85    
    Test::More          0     1.001014

configure_requires:

    Module              Need  Have    
    ------------------- ----- --------
    ExtUtils::MakeMaker 0     7.06    


------------------------------
ENVIRONMENT AND OTHER CONTEXT
------------------------------

Environment variables:

    AUTOMATED_TESTING = 1
    LANG = en_US.UTF-8
    LC_ALL = POSIX
    LDFLAGS = 
    PATH = /Users/hornenj/perl5/perlbrew/bin:/Users/hornenj/perl5/perlbrew/perls/perl-5.20.1/bin:/Users/hornenj/perl5/perlbrew/bin:/Users/hornenj/bin:/sw/lib/perl5/ExtUtils:/sw/bin:/am/ncbiapdata/bin:/usr/bin:/bin:/usr/X11R6/bin:/netopt/ncbi_tools/bin:/usr/local/ncbi/blast/bin:/net/traces01.be-md.ncbi.nlm.nih.gov/trace_software/vdb/mac/release/x86_64/bin
    PERL5LIB = 
    PERL5OPT = 
    PERL5_CPANPLUS_IS_RUNNING = 83853
    PERL5_CPAN_IS_RUNNING = 83853
    PERL5_MINISMOKEBOX = 0.58
    PERLBREW_BASHRC_VERSION = 0.76
    PERLBREW_HOME = /Users/hornenj/.perlbrew
    PERLBREW_LIB = 
    PERLBREW_MANPATH = /Users/hornenj/perl5/perlbrew/perls/perl-5.20.1/man
    PERLBREW_PATH = /Users/hornenj/perl5/perlbrew/bin:/Users/hornenj/perl5/perlbrew/perls/perl-5.20.1/bin
    PERLBREW_PERL = perl-5.20.1
    PERLBREW_ROOT = /Users/hornenj/perl5/perlbrew
    PERLBREW_VERSION = 0.76
    PERL_EXTUTILS_AUTOINSTALL = --defaultdeps
    PERL_LOCAL_LIB_ROOT = 
    PERL_MM_USE_DEFAULT = 1
    SHELL = /bin/bash
    TERM = xterm-256color
    TMPDIR = /var/folders/pz/pd7y1qjs6s3cbk170cw50fjc000c61/T/
    ac_cv_path_INTLTOOL_PERL = /usr/bin/perl

Perl special variables (and OS-specific diagnostics, for MSWin32):

    $^X = /Users/hornenj/perl5/perlbrew/perls/perl-5.20.1/bin/perl
    $UID/$EUID = 12481 / 12481
    $GID = 14 14 5344 37191 527 241
    $EGID = 14 14 5344 37191 527 241

Perl module toolchain versions installed:

    Module              Have    
    ------------------- --------
    CPAN                2.05    
    CPAN::Meta          2.150005
    Cwd                 3.48    
    ExtUtils::CBuilder  0.280223
    ExtUtils::Command   7.06    
    ExtUtils::Install   2.04    
    ExtUtils::MakeMaker 7.06    
    ExtUtils::Manifest  1.70    
    ExtUtils::ParseXS   3.30    
    File::Spec          3.48    
    JSON                2.90    
    JSON::PP            2.27300 
    Module::Build       0.4214  
    Module::Signature   n/a     
    Parse::CPAN::Meta   1.4422  
    Test::Harness       3.35    
    Test::More          1.001014
    YAML                1.15    
    YAML::Syck          1.29    
    version             0.9912  


--

Summary of my perl5 (revision 5 version 20 subversion 1) configuration:
   
  Platform:
    osname=darwin, osvers=12.5.0, archname=darwin-thread-multi-2level
    uname='darwin ncbimac2008.ncbi.nlm.nih.gov 12.5.0 darwin kernel version 12.5.0: sun sep 29 13:33:47 pdt 2013; root:xnu-2050.48.12~1release_x86_64 x86_64 '
    config_args='-de -Dprefix=/Users/hornenj/perl5/perlbrew/perls/perl-5.20.1 -Duseithreads -Dusemultiplicity -Accflags=-O2 -W -Wformat=2 -Wswitch -Wshadow -Wwrite-strings -Wuninitialized -Wall -pipe -mtune=native -march=native -fomit-frame-pointer -msse2 -msse -mmmx -pedantic -D_FORTIFY_SOURCE=2 -Wpointer-arith -Wstrict-prototypes -fstack-protector -Wstack-protector -Wextra -Wbad-function-cast -Wcast-align -Wcast-qual -Wdisabled-optimization -Wendif-labels -Wfloat-equal -Wformat-nonliteral -Winline -Wmissing-declarations -Wmissing-prototypes -Wnested-externs -Wpointer-arith -Wundef -Wformat-security -fassociative-math -Acc=cc -Aeval:scriptdir=/Users/hornenj/perl5/perlbrew/perls/perl-5.20.1/bin'
    hint=recommended, useposix=true, d_sigaction=define
    useithreads=define, usemultiplicity=define
    use64bitint=define, use64bitall=define, uselongdouble=undef
    usemymalloc=n, bincompat5005=undef
  Compiler:
    cc=' cc', ccflags ='-fno-common -DPERL_DARWIN -O2 -W -Wformat=2 -Wswitch -Wshadow -Wwrite-strings -Wuninitialized -Wall -pipe -mtune=native -march=native -fomit-frame-pointer -msse2 -msse -mmmx -pedantic -D_FORTIFY_SOURCE=2 -Wpointer-arith -Wstrict-prototypes -fstack-protector -Wstack-protector -Wextra -Wbad-function-cast -Wcast-align -Wcast-qual -Wdisabled-optimization -Wendif-labels -Wfloat-equal -Wformat-nonliteral -Winline -Wmissing-declarations -Wmissing-prototypes -Wnested-externs -Wpointer-arith -Wundef -Wformat-security -fassociative-math -fno-strict-aliasing -I/usr/local/include',
    optimize='-O3',
    cppflags='-fno-common -DPERL_DARWIN -O2 -W -Wformat=2 -Wswitch -Wshadow -Wwrite-strings -Wuninitialized -Wall -pipe -mtune=native -march=native -fomit-frame-pointer -msse2 -msse -mmmx -pedantic -D_FORTIFY_SOURCE=2 -Wpointer-arith -Wstrict-prototypes -fstack-protector -Wstack-protector -Wextra -Wbad-function-cast -Wcast-align -Wcast-qual -Wdisabled-optimization -Wendif-labels -Wfloat-equal -Wformat-nonliteral -Winline -Wmissing-declarations -Wmissing-prototypes -Wnested-externs -Wpointer-arith -Wundef -Wformat-security -fassociative-math -fno-strict-aliasing -I/usr/local/include'
    ccversion='', gccversion='4.2.1 Compatible Apple LLVM 4.2 (clang-425.0.24)', gccosandvers=''
    intsize=4, longsize=8, ptrsize=8, doublesize=8, byteorder=12345678
    d_longlong=define, longlongsize=8, d_longdbl=define, longdblsize=16
    ivtype='long', ivsize=8, nvtype='double', nvsize=8, Off_t='off_t', lseeksize=8
    alignbytes=8, prototype=define
  Linker and Libraries:
    ld='env MACOSX_DEPLOYMENT_TARGET=10.3 cc', ldflags =' -fstack-protector -L/usr/local/lib'
    libpth=/usr/local/lib /usr/bin/../lib/clang/4.2/lib /usr/lib
    libs=-ldbm -ldl -lm -lutil -lc
    perllibs=-ldl -lm -lutil -lc
    libc=, so=dylib, useshrplib=false, libperl=libperl.a
    gnulibc_version=''
  Dynamic Linking:
    dlsrc=dl_dlopen.xs, dlext=bundle, d_dlsymun=undef, ccdlflags=' '
    cccdlflags=' ', lddlflags=' -bundle -undefined dynamic_lookup -L/usr/local/lib -fstack-protector'


Characteristics of this binary (from libperl): 
  Compile-time options: HAS_TIMES MULTIPLICITY PERLIO_LAYERS
                        PERL_DONT_CREATE_GVSV
                        PERL_HASH_FUNC_ONE_AT_A_TIME_HARD
                        PERL_IMPLICIT_CONTEXT PERL_MALLOC_WRAP
                        PERL_NEW_COPY_ON_WRITE PERL_PRESERVE_IVUV
                        USE_64_BIT_ALL USE_64_BIT_INT USE_ITHREADS
                        USE_LARGE_FILES USE_LOCALE USE_LOCALE_COLLATE
                        USE_LOCALE_CTYPE USE_LOCALE_NUMERIC USE_PERLIO
                        USE_PERL_ATOF USE_REENTRANT_API
  Built under darwin
  Compiled at Sep 15 2014 09:27:45
  %ENV:
    PERL5LIB=""
    PERL5OPT=""
    PERL5_CPANPLUS_IS_RUNNING="83853"
    PERL5_CPAN_IS_RUNNING="83853"
    PERL5_MINISMOKEBOX="0.58"
    PERLBREW_BASHRC_VERSION="0.76"
    PERLBREW_HOME="/Users/hornenj/.perlbrew"
    PERLBREW_LIB=""
    PERLBREW_MANPATH="/Users/hornenj/perl5/perlbrew/perls/perl-5.20.1/man"
    PERLBREW_PATH="/Users/hornenj/perl5/perlbrew/bin:/Users/hornenj/perl5/perlbrew/perls/perl-5.20.1/bin"
    PERLBREW_PERL="perl-5.20.1"
    PERLBREW_ROOT="/Users/hornenj/perl5/perlbrew"
    PERLBREW_VERSION="0.76"
    PERL_EXTUTILS_AUTOINSTALL="--defaultdeps"
    PERL_LOCAL_LIB_ROOT=""
    PERL_MM_USE_DEFAULT="1"
  @INC:
    /Users/hornenj/perl5/perlbrew/perls/perl-5.20.1/lib/site_perl/5.20.1/darwin-thread-multi-2level
    /Users/hornenj/perl5/perlbrew/perls/perl-5.20.1/lib/site_perl/5.20.1
    /Users/hornenj/perl5/perlbrew/perls/perl-5.20.1/lib/5.20.1/darwin-thread-multi-2level
    /Users/hornenj/perl5/perlbrew/perls/perl-5.20.1/lib/5.20.1
    .