PDF-API2 v2.041 Perl 5 v5.28.2 x86_64-linux-thread-multi-ld
- Status
- Pass
- From
- Nigel Horne
- Dist
-
PDF-API2 v2.041
- Platform
- Perl 5 v5.28.2 x86_64-linux-thread-multi-ld
- Date
- 2021-09-17 11:21:22
- ID
- 638e6626-17a9-11ec-8f9c-8696126b4120
This distribution has been tested as part of the CPAN Testers
project, supporting the Perl programming language. See
http://wiki.cpantesters.org/ for more information or email
questions to cpan-testers-discuss@perl.org
--
Dear Steve Simms,
This is a computer-generated report for PDF-API2-2.041
on perl 5.28.2, created by CPAN-Reporter-1.2018.
Thank you for uploading your work to CPAN. Congratulations!
All tests were successful.
Sections of this report:
* Tester comments
* Program output
* Prerequisites
* Environment and other context
------------------------------
TESTER COMMENTS
------------------------------
Additional comments from tester:
none provided
------------------------------
PROGRAM OUTPUT
------------------------------
Output from '/usr/bin/make test':
PERL_DL_NONLAZY=1 "/home/njh/perl5/perlbrew/perls/perl-5.28.2-thread-multi-ld/bin/perl5.28.2" "-MExtUtils::Command::MM" "-MTest::Harness" "-e" "undef *Test::Harness::Switches; test_harness(0, 'blib/lib', 'blib/arch')" t/*.t
t/00-all-usable.t ........... ok
t/01-basic.t ................ ok
t/02-xrefstm.t .............. ok
t/03-xrefstm-index.t ........ ok
t/annotate.t ................ ok
t/author-critic.t ........... skipped: these tests are for testing by the author
t/author-pod-syntax.t ....... skipped: these tests are for testing by the author
t/barcode.t ................. ok
t/bbox.t .................... ok
t/circular-references.t ..... ok
t/cmap.t .................... ok
t/content.t ................. ok
t/cs-webcolor.t ............. ok
t/deprecations.t ............ ok
t/extgstate.t ............... ok
t/filter-ascii85decode.t .... ok
t/filter-asciihexdecode.t ... ok
t/filter-runlengthdecode.t .. ok
t/font-corefont.t ........... ok
t/font-synfont.t ............ ok
t/font-ttf.t ................ ok
t/font-type1.t .............. ok
t/gd.t ...................... ok
t/gif.t ..................... ok
t/jpg.t ..................... ok
t/lite.t .................... ok
t/outline.t ................. ok
t/page.t .................... ok
t/papersizes.t .............. ok
t/pdf.t ..................... ok
t/png.t ..................... ok
t/pnm.t ..................... ok
t/rt120397.t ................ ok
t/rt120450.t ................ ok
t/rt126274.t ................ ok
t/rt67767.t ................. ok
t/rt69503.t ................. ok
t/string.t .................. ok
t/text.t .................... ok
t/tiff.t .................... ok
t/viewer-preferences.t ...... ok
All tests successful.
Files=41, Tests=601, 38 wallclock secs ( 0.50 usr 0.15 sys + 33.20 cusr 2.49 csys = 36.34 CPU)
Result: PASS
------------------------------
PREREQUISITES
------------------------------
Prerequisite modules loaded:
requires:
Module Need Have
------------------- -------- --------
Compress::Zlib 1.0 2.102
Font::TTF 0 1.06
perl 5.010000 5.028002
build_requires:
Module Need Have
------------------- -------- --------
ExtUtils::MakeMaker 0 7.62
Test::Exception 0 0.43
Test::Memory::Cycle 0 1.06
configure_requires:
Module Need Have
------------------- -------- --------
ExtUtils::MakeMaker 0 7.62
------------------------------
ENVIRONMENT AND OTHER CONTEXT
------------------------------
Environment variables:
LANG = C.UTF-8
LC_TERMINAL = iTerm2
LC_TERMINAL_VERSION = 3.4.10
NONINTERACTIVE_TESTING = 1
PATH = /home/njh/perl5/perlbrew/bin:/home/njh/perl5/perlbrew/perls/perl-5.28.2-thread-multi-ld/bin:/usr/local/sbin:/usr/local/bin:/usr/sbin:/usr/bin:/sbin:/bin:/usr/games:/usr/local/games:/snap/bin
PERL5LIB =
PERL5OPT =
PERL5_CPANPLUS_IS_RUNNING = 23533
PERL5_CPAN_IS_RUNNING = 23533
PERLBREW_LIB =
PERLBREW_MANPATH = /home/njh/perl5/perlbrew/perls/perl-5.28.2-thread-multi-ld/man
PERLBREW_PATH = /home/njh/perl5/perlbrew/bin:/home/njh/perl5/perlbrew/perls/perl-5.28.2-thread-multi-ld/bin
PERLBREW_PERL = perl-5.28.2-thread-multi-ld
PERLBREW_ROOT = /home/njh/perl5/perlbrew
PERLBREW_VERSION = 0.92
PERL_LOCAL_LIB_ROOT =
PERL_MM_USE_DEFAULT = 1
PERL_USE_UNSAFE_INC = 1
SHELL = /bin/bash
TEMP = /tmp/user/1002
TMPDIR = /tmp/user/1002
Perl special variables (and OS-specific diagnostics, for MSWin32):
$^X = /home/njh/perl5/perlbrew/perls/perl-5.28.2-thread-multi-ld/bin/perl5.28.2
$UID/$EUID = 1002 / 1002
$GID = 1002 120 1002
$EGID = 1002 120 1002
Perl module toolchain versions installed:
Module Have
------------------- --------
CPAN 2.27
CPAN::Meta 2.150010
Cwd 3.74
ExtUtils::CBuilder 0.280236
ExtUtils::Command 7.62
ExtUtils::Install 2.14
ExtUtils::MakeMaker 7.62
ExtUtils::Manifest 1.70
ExtUtils::ParseXS 3.39
File::Spec 3.74
JSON 4.02
JSON::PP 2.97001
Module::Build 0.4229
Module::Signature 0.87
Parse::CPAN::Meta 2.150010
Test::Harness 3.42
Test::More 1.302186
YAML 1.30
YAML::Syck 1.32
version 0.9929
--
Summary of my perl5 (revision 5 version 28 subversion 2) configuration:
Platform:
osname=linux
osvers=4.15.0-1025-oracle
archname=x86_64-linux-thread-multi-ld
uname='linux oracle1 4.15.0-1025-oracle #28-ubuntu smp mon sep 16 12:54:27 utc 2019 x86_64 x86_64 x86_64 gnulinux '
config_args='-de -Dprefix=/home/njh/perl5/perlbrew/perls/perl-5.28.2-thread-multi-ld -Dusedevel -Dusemultiplicity -Duselongdouble -Dusethreads -Accflags=-O2 -W -Wformat=2 -Wswitch -Wshadow -Wwrite-strings -Wuninitialized -Wall -pipe -fomit-frame-pointer -pedantic -D_FORTIFY_SOURCE=2 -Wpointer-arith -Wstrict-prototypes -fstack-protector -Wstack-protector -Wextra -Wbad-function-cast -Wcast-align -Wcast-qual -Wdisabled-optimization -Wendif-labels -Wfloat-equal -Wformat-nonliteral -Winline -Wmissing-declarations -Wmissing-prototypes -Wnested-externs -Wpointer-arith -Wundef -Wformat-security -ftree-vectorize -msse -mfpmath=sse -msse2 -mssse3 -msse4.1 -msse4.2 -maes -fdiagnostics-color=auto -mtune=native -march=native -Aeval:scriptdir=/home/njh/perl5/perlbrew/perls/perl-5.28.2-thread-multi-ld/bin'
hint=recommended
useposix=true
d_sigaction=define
useithreads=define
usemultiplicity=define
use64bitint=define
use64bitall=define
uselongdouble=define
usemymalloc=n
default_inc_excludes_dot=define
bincompat5005=undef
Compiler:
cc='cc'
ccflags ='-D_REENTRANT -D_GNU_SOURCE -O2 -W -Wformat=2 -Wswitch -Wshadow -Wwrite-strings -Wuninitialized -Wall -pipe -fomit-frame-pointer -pedantic -D_FORTIFY_SOURCE=2 -Wpointer-arith -Wstrict-prototypes -fstack-protector -Wstack-protector -Wextra -Wbad-function-cast -Wcast-align -Wcast-qual -Wdisabled-optimization -Wendif-labels -Wfloat-equal -Wformat-nonliteral -Winline -Wmissing-declarations -Wmissing-prototypes -Wnested-externs -Wpointer-arith -Wundef -Wformat-security -ftree-vectorize -msse -mfpmath=sse -msse2 -mssse3 -msse4.1 -msse4.2 -maes -fdiagnostics-color=auto -mtune=native -march=native -fwrapv -fno-strict-aliasing -fstack-protector-strong -I/usr/local/include -D_LARGEFILE_SOURCE -D_FILE_OFFSET_BITS=64'
optimize='-O2'
cppflags='-D_REENTRANT -D_GNU_SOURCE -O2 -W -Wformat=2 -Wswitch -Wshadow -Wwrite-strings -Wuninitialized -Wall -pipe -fomit-frame-pointer -pedantic -D_FORTIFY_SOURCE=2 -Wpointer-arith -Wstrict-prototypes -fstack-protector -Wstack-protector -Wextra -Wbad-function-cast -Wcast-align -Wcast-qual -Wdisabled-optimization -Wendif-labels -Wfloat-equal -Wformat-nonliteral -Winline -Wmissing-declarations -Wmissing-prototypes -Wnested-externs -Wpointer-arith -Wundef -Wformat-security -ftree-vectorize -msse -mfpmath=sse -msse2 -mssse3 -msse4.1 -msse4.2 -maes -fdiagnostics-color=auto -mtune=native -march=native -fwrapv -fno-strict-aliasing -fstack-protector-strong -I/usr/local/include'
ccversion=''
gccversion='7.4.0'
gccosandvers=''
intsize=4
longsize=8
ptrsize=8
doublesize=8
byteorder=12345678
doublekind=3
d_longlong=define
longlongsize=8
d_longdbl=define
longdblsize=16
longdblkind=3
ivtype='long'
ivsize=8
nvtype='long double'
nvsize=16
Off_t='off_t'
lseeksize=8
alignbytes=16
prototype=define
Linker and Libraries:
ld='cc'
ldflags =' -fstack-protector-strong -L/usr/local/lib'
libpth=/usr/local/lib /usr/lib/gcc/x86_64-linux-gnu/7/include-fixed /usr/include/x86_64-linux-gnu /usr/lib /lib/x86_64-linux-gnu /lib/../lib /usr/lib/x86_64-linux-gnu /usr/lib/../lib /lib
libs=-lpthread -lnsl -lgdbm -ldb -ldl -lm -lcrypt -lutil -lc
perllibs=-lpthread -lnsl -ldl -lm -lcrypt -lutil -lc
libc=libc-2.27.so
so=so
useshrplib=false
libperl=libperl.a
gnulibc_version='2.27'
Dynamic Linking:
dlsrc=dl_dlopen.xs
dlext=so
d_dlsymun=undef
ccdlflags='-Wl,-E'
cccdlflags='-fPIC'
lddlflags='-shared -O2 -L/usr/local/lib -fstack-protector-strong'
Characteristics of this binary (from libperl):
Compile-time options:
HAS_TIMES
MULTIPLICITY
PERLIO_LAYERS
PERL_COPY_ON_WRITE
PERL_DONT_CREATE_GVSV
PERL_IMPLICIT_CONTEXT
PERL_MALLOC_WRAP
PERL_OP_PARENT
PERL_PRESERVE_IVUV
PERL_USE_DEVEL
USE_64_BIT_ALL
USE_64_BIT_INT
USE_ITHREADS
USE_LARGE_FILES
USE_LOCALE
USE_LOCALE_COLLATE
USE_LOCALE_CTYPE
USE_LOCALE_NUMERIC
USE_LOCALE_TIME
USE_LONG_DOUBLE
USE_PERLIO
USE_PERL_ATOF
USE_REENTRANT_API
Locally applied patches:
Devel::PatchPerl 1.64
Built under linux
Compiled at Sep 21 2019 13:32:30
%ENV:
PERL5LIB=""
PERL5OPT=""
PERL5_CPANPLUS_IS_RUNNING="23533"
PERL5_CPAN_IS_RUNNING="23533"
PERLBREW_LIB=""
PERLBREW_MANPATH="/home/njh/perl5/perlbrew/perls/perl-5.28.2-thread-multi-ld/man"
PERLBREW_PATH="/home/njh/perl5/perlbrew/bin:/home/njh/perl5/perlbrew/perls/perl-5.28.2-thread-multi-ld/bin"
PERLBREW_PERL="perl-5.28.2-thread-multi-ld"
PERLBREW_ROOT="/home/njh/perl5/perlbrew"
PERLBREW_VERSION="0.92"
PERL_LOCAL_LIB_ROOT=""
PERL_MM_USE_DEFAULT="1"
PERL_USE_UNSAFE_INC="1"
@INC:
/home/njh/perl5/perlbrew/perls/perl-5.28.2-thread-multi-ld/lib/site_perl/5.28.2/x86_64-linux-thread-multi-ld
/home/njh/perl5/perlbrew/perls/perl-5.28.2-thread-multi-ld/lib/site_perl/5.28.2
/home/njh/perl5/perlbrew/perls/perl-5.28.2-thread-multi-ld/lib/5.28.2/x86_64-linux-thread-multi-ld
/home/njh/perl5/perlbrew/perls/perl-5.28.2-thread-multi-ld/lib/5.28.2
.