Test-Moose-More v0.050 Perl 5 v5.41.4 x86_64-linux-thread-multi-ld

Status
Pass
From
Andreas J. König (ANDK)
Dist
Test-Moose-More v0.050
Platform
Perl 5 v5.41.4 x86_64-linux-thread-multi-ld
Date
2024-09-30 04:35:14
ID
6324dd0e-7ee5-11ef-a64a-bf2bfa99bebd
This distribution has been tested as part of the CPAN Testers
project, supporting the Perl programming language.  See
http://wiki.cpantesters.org/ for more information or email
questions to cpan-testers-discuss@perl.org


--
Dear Chris Weyl,

This is a computer-generated report for Test-Moose-More-0.050
on perl 5.41.4, created by CPAN-Reporter-1.2020.

Thank you for uploading your work to CPAN.  Congratulations!
All tests were successful.

Sections of this report:

    * Tester comments
    * Program output
    * Prerequisites
    * Environment and other context

------------------------------
TESTER COMMENTS
------------------------------

Additional comments from tester:

this report is from an automated smoke testing program
and was not reviewed by a human for accuracy

------------------------------
PROGRAM OUTPUT
------------------------------

Output from '/usr/bin/make test':

PERL_DL_NONLAZY=1 "/tmp/basesmoker-reloperl-gULU/bin/perl" "-MExtUtils::Command::MM" "-MTest::Harness" "-e" "undef *Test::Harness::Switches; test_harness(0, 'blib/lib', 'blib/arch')" t/*.t t/attribute_options_ok/*.t t/is_class_ok/*.t t/validate_attribute/*.t t/validate_class/*.t t/validate_role/*.t t/validate_thing/*.t t/wrapped/*.t
t/00-check-deps.t ...................................... ok
t/00-compile.t ......................................... ok
# 
# Versions for all modules listed in MYMETA.json (including optional ones):
# 
# === Configure Requires ===
# 
#     Module              Want Have
#     ------------------- ---- ----
#     ExtUtils::MakeMaker  any 7.70
# 
# === Build Requires ===
# 
#     Module              Want Have
#     ------------------- ---- ----
#     ExtUtils::MakeMaker  any 7.70
# 
# === Test Requires ===
# 
#     Module                  Want     Have
#     ---------------------- ----- --------
#     ExtUtils::MakeMaker      any     7.70
#     File::Spec               any     3.93
#     IO::Handle               any     1.55
#     IPC::Open3               any     1.22
#     List::Util              1.45     1.66
#     Moose                    any   2.2207
#     Moose::Meta::Attribute   any   2.2207
#     Moose::Role              any   2.2207
#     Moose::Util::MetaRole    any   2.2207
#     TAP::SimpleOutput      0.009    0.009
#     Test::Builder::Tester    any 1.302204
#     Test::CheckDeps        0.010    0.010
#     Test::More              0.94 1.302204
#     namespace::autoclean     any     0.29
# 
# === Test Recommends ===
# 
#     Module         Want     Have
#     ---------- -------- --------
#     CPAN::Meta 2.120900 2.150010
# 
# === Runtime Requires ===
# 
#     Module                       Want     Have
#     ---------------------------- ---- --------
#     Carp                          any     1.54
#     Data::OptList                 any    0.114
#     List::MoreUtils               any    0.430
#     List::Util                   1.45     1.66
#     Moose::Util                   any   2.2207
#     Moose::Util::TypeConstraints  any   2.2207
#     Scalar::Util                  any     1.66
#     Sub::Exporter::Progressive    any 0.001013
#     Syntax::Keyword::Junction     any 0.003009
#     Test::Builder                 any 1.302204
#     Test::Moose                   any   2.2207
#     Test::More                   0.94 1.302204
#     strict                        any     1.13
#     warnings                      any     1.70
# 
t/00-report-prereqs.t .................................. ok
t/attribute_options_ok/basic.t ......................... ok
t/attribute_options_ok/subtest-wrapper.t ............... ok
t/check_sugar.t ........................................ ok
t/definition_context.t ................................. ok
t/does_metaroles_ok.t .................................. ok
t/does_not_metaroles_ok.t .............................. ok
t/does_not_ok.t ........................................ ok
t/does_ok.t ............................................ ok
t/has_attribute_ok.t ................................... ok
t/is_anon_ok.t ......................................... ok
t/is_class_ok/basic.t .................................. ok
t/is_class_ok/moose-meta-attribute-should-be-moosey.t .. ok
t/is_immutable_ok.t .................................... ok
t/is_not_anon_ok.t ..................................... ok
t/is_role_ok.t ......................................... ok
t/meta_ok.t ............................................ ok
t/method_from_pkg_ok.t ................................. ok
t/method_is_accessor_ok.t .............................. ok
t/method_is_not_accessor_ok.t .......................... ok
t/method_not_from_pkg_ok.t ............................. ok
t/method_ok.t .......................................... ok
t/no_meta_ok.t ......................................... ok
t/pristine_ok.t ........................................ ok
t/requires_method_ok.t ................................. ok
t/subtest-1.t .......................................... ok
t/validate_attribute/basic.t ........................... ok
t/validate_attribute/coerce.t .......................... ok
t/validate_attribute/in_roles.t ........................ ok
t/validate_attribute/lazy.t ............................ ok
t/validate_attribute/required.t ........................ ok
t/validate_class/basic.t ............................... ok
t/validate_class/metaclasses.t ......................... ok
t/validate_class/metaroles.t ........................... ok
t/validate_class/methods.t ............................. ok
t/validate_role/basic.t ................................ ok
t/validate_role/compose.t .............................. ok
t/validate_role/metaclasses.t .......................... ok
t/validate_role/metaroles.t ............................ ok
t/validate_thing/metaclasses.t ......................... ok
t/validate_thing/methods.t ............................. ok
t/validate_thing/sugar.t ............................... ok
t/wrapped/in_roles.t ................................... ok
All tests successful.

Test Summary Report
-------------------
t/00-check-deps.t                                    (Wstat: 0 Tests: 32 Failed: 0)
  TODO passed:   32
Files=45, Tests=235, 11 wallclock secs ( 0.12 usr  0.06 sys +  9.94 cusr  1.23 csys = 11.35 CPU)
Result: PASS

------------------------------
PREREQUISITES
------------------------------

Prerequisite modules loaded:

requires:

    Module                       Need  Have    
    ---------------------------- ----- --------
    Carp                         0     1.54    
    Data::OptList                0     0.114   
    List::MoreUtils              0     0.430   
    List::Util                   1.45  1.66    
    Moose::Util                  0     2.2207  
    Moose::Util::TypeConstraints 0     2.2207  
    perl                         5.006 5.041004
    Scalar::Util                 0     1.66    
    strict                       0     1.13    
    Sub::Exporter::Progressive   0     0.001013
    Syntax::Keyword::Junction    0     0.003009
    Test::Builder                0     1.302204
    Test::Moose                  0     2.2207  
    Test::More                   0.94  1.302204
    warnings                     0     1.70    

build_requires:

    Module                       Need  Have    
    ---------------------------- ----- --------
    ExtUtils::MakeMaker          0     7.70    
    File::Spec                   0     3.93    
    IO::Handle                   0     1.55    
    IPC::Open3                   0     1.22    
    List::Util                   1.45  1.66    
    Moose                        0     2.2207  
    Moose::Meta::Attribute       0     2.2207  
    Moose::Role                  0     2.2207  
    Moose::Util::MetaRole        0     2.2207  
    namespace::autoclean         0     0.29    
    TAP::SimpleOutput            0.009 0.009   
    Test::Builder::Tester        0     1.302204
    Test::CheckDeps              0.010 0.010   
    Test::More                   0.94  1.302204

configure_requires:

    Module                       Need  Have    
    ---------------------------- ----- --------
    ExtUtils::MakeMaker          0     7.70    
    perl                         5.006 5.041004


------------------------------
ENVIRONMENT AND OTHER CONTEXT
------------------------------

Environment variables:

    AUTOMATED_TESTING = 1
    LANG = en_US.UTF-8
    LC_ADDRESS = de_DE.UTF-8
    LC_IDENTIFICATION = de_DE.UTF-8
    LC_MEASUREMENT = de_DE.UTF-8
    LC_MONETARY = de_DE.UTF-8
    LC_NAME = de_DE.UTF-8
    LC_NUMERIC = de_DE.UTF-8
    LC_PAPER = de_DE.UTF-8
    LC_TELEPHONE = de_DE.UTF-8
    LC_TIME = de_DE.UTF-8
    PATH = /home/sand/bin:/usr/local/bin:/usr/local/sbin:/usr/sbin:/usr/bin:/sbin:/bin:/usr/games:/usr/local/games:/snap/bin:/usr/local/perl/bin:/usr/X11/bin
    PERL5LIB = 
    PERL5OPT = 
    PERL5_CPANPLUS_IS_RUNNING = 2470
    PERL5_CPAN_IS_RUNNING = 2470
    PERL_CANARY_STABILITY_NOPROMPT = 1
    PERL_MM_USE_DEFAULT = 1
    PERL_USE_UNSAFE_INC = 1
    SHELL = /usr/bin/zsh
    TERM = screen

Perl special variables (and OS-specific diagnostics, for MSWin32):

    $^X = /tmp/basesmoker-reloperl-gULU/bin/perl
    $UID/$EUID = 1005 / 1005
    $GID = 1005 1005
    $EGID = 1005 1005

Perl module toolchain versions installed:

    Module              Have    
    ------------------- --------
    CPAN                2.37    
    CPAN::Meta          2.150010
    Cwd                 3.92    
    ExtUtils::CBuilder  0.280240
    ExtUtils::Command   7.70    
    ExtUtils::Install   2.22    
    ExtUtils::MakeMaker 7.70    
    ExtUtils::Manifest  1.75    
    ExtUtils::ParseXS   3.54    
    File::Spec          3.93    
    JSON                4.10    
    JSON::PP            4.16    
    Module::Build       0.4234  
    Module::Signature   0.89    
    Parse::CPAN::Meta   2.150010
    Test2               1.302204
    Test::Harness       3.50    
    Test::More          1.302204
    YAML                1.31    
    YAML::Syck          1.34    
    version             0.9933  


--

Summary of my perl5 (revision 5 version 41 subversion 4) configuration:
  Commit id: 87deea969a7552a96b077acb5708d74c65099c51
  Platform:
    osname=linux
    osvers=6.8.0-40-generic
    archname=x86_64-linux-thread-multi-ld
    uname='linux k93jammy 6.8.0-40-generic #40~22.04.3-ubuntu smp preempt_dynamic tue jul 30 17:30:19 utc 2 x86_64 x86_64 x86_64 gnulinux '
    config_args='-Dprefix=/home/sand/src/perl/repoperls/installed-perls/host/k93jammy/v5.41.4/322f -Dmyhostname=k93jammy -Dinstallusrbinperl=n -Uversiononly -Dusedevel -des -Ui_db -Dlibswanted=cl pthread socket inet nsl gdbm dbm malloc dl ld sun m crypt sec util c cposix posix ucb BSD gdbm_compat -Duseithreads -Duselongdouble -DEBUGGING=-g'
    hint=recommended
    useposix=true
    d_sigaction=define
    useithreads=define
    usemultiplicity=define
    use64bitint=define
    use64bitall=define
    uselongdouble=define
    usemymalloc=n
    default_inc_excludes_dot=define
  Compiler:
    cc='cc'
    ccflags ='-D_REENTRANT -D_GNU_SOURCE -fwrapv -fno-strict-aliasing -pipe -fstack-protector-strong -I/usr/local/include -D_LARGEFILE_SOURCE -D_FILE_OFFSET_BITS=64'
    optimize='-O2 -g'
    cppflags='-D_REENTRANT -D_GNU_SOURCE -fwrapv -fno-strict-aliasing -pipe -fstack-protector-strong -I/usr/local/include'
    ccversion=''
    gccversion='11.4.0'
    gccosandvers=''
    intsize=4
    longsize=8
    ptrsize=8
    doublesize=8
    byteorder=12345678
    doublekind=3
    d_longlong=define
    longlongsize=8
    d_longdbl=define
    longdblsize=16
    longdblkind=3
    ivtype='long'
    ivsize=8
    nvtype='long double'
    nvsize=16
    Off_t='off_t'
    lseeksize=8
    alignbytes=16
    prototype=define
  Linker and Libraries:
    ld='cc'
    ldflags =' -fstack-protector-strong -L/usr/local/lib'
    libpth=/usr/local/lib /usr/lib/x86_64-linux-gnu /usr/lib /usr/lib64
    libs=-lpthread -lnsl -ldl -lm -lcrypt -lutil -lc
    perllibs=-lpthread -lnsl -ldl -lm -lcrypt -lutil -lc
    libc=/lib/x86_64-linux-gnu/libc.so.6
    so=so
    useshrplib=false
    libperl=libperl.a
    gnulibc_version='2.35'
  Dynamic Linking:
    dlsrc=dl_dlopen.xs
    dlext=so
    d_dlsymun=undef
    ccdlflags='-Wl,-E'
    cccdlflags='-fPIC'
    lddlflags='-shared -O2 -g -L/usr/local/lib -fstack-protector-strong'


Characteristics of this binary (from libperl): 
  Compile-time options:
    HAS_LONG_DOUBLE
    HAS_STRTOLD
    HAS_TIMES
    MULTIPLICITY
    PERLIO_LAYERS
    PERL_COPY_ON_WRITE
    PERL_DONT_CREATE_GVSV
    PERL_HASH_FUNC_SIPHASH13
    PERL_HASH_USE_SBOX32
    PERL_MALLOC_WRAP
    PERL_OP_PARENT
    PERL_PRESERVE_IVUV
    PERL_USE_DEVEL
    PERL_USE_SAFE_PUTENV
    USE_64_BIT_ALL
    USE_64_BIT_INT
    USE_ITHREADS
    USE_LARGE_FILES
    USE_LOCALE
    USE_LOCALE_COLLATE
    USE_LOCALE_CTYPE
    USE_LOCALE_NUMERIC
    USE_LOCALE_TIME
    USE_LONG_DOUBLE
    USE_PERLIO
    USE_PERL_ATOF
    USE_REENTRANT_API
    USE_THREAD_SAFE_LOCALE
  Built under linux
  Compiled at Sep 21 2024 05:39:51
  %ENV:
    PERL5LIB=""
    PERL5OPT=""
    PERL5_CPANPLUS_IS_RUNNING="2470"
    PERL5_CPAN_IS_RUNNING="2470"
    PERL_CANARY_STABILITY_NOPROMPT="1"
    PERL_MM_USE_DEFAULT="1"
    PERL_USE_UNSAFE_INC="1"
  @INC:
    /home/sand/src/perl/repoperls/installed-perls/host/k93jammy/v5.41.4/322f/lib/site_perl/5.41.4/x86_64-linux-thread-multi-ld
    /home/sand/src/perl/repoperls/installed-perls/host/k93jammy/v5.41.4/322f/lib/site_perl/5.41.4
    /home/sand/src/perl/repoperls/installed-perls/host/k93jammy/v5.41.4/322f/lib/5.41.4/x86_64-linux-thread-multi-ld
    /home/sand/src/perl/repoperls/installed-perls/host/k93jammy/v5.41.4/322f/lib/5.41.4
    .