Marpa-R2 v13.002_000 Perl 5 v5.30.2 i686-linux-thread-multi

Status
Pass
From
Chris Williams (BINGOS)
Dist
Marpa-R2 v13.002_000
Platform
Perl 5 v5.30.2 i686-linux-thread-multi
Date
2023-07-23 22:43:47
ID
62f1d74c-29aa-11ee-98b0-b3c3213a625c
This distribution has been tested as part of the CPAN Testers
project, supporting the Perl programming language.  See
http://wiki.cpantesters.org/ for more information or email
questions to cpan-testers-discuss@perl.org


--

Dear JKEGL,

This is a computer-generated error report created automatically by
CPANPLUS, version 0.9914. Testers personal comments may appear
at the end of this report.


Thank you for uploading your work to CPAN.  Congratulations!
All tests were successful.

TEST RESULTS:

Below is the error stack from stage 'make test':

Running [/bin/sh configure --with-pic --disable-shared --disable-maintainer-mode --disable-dependency-tracking]...
checking whether to enable maintainer-specific portions of Makefiles... no
checking for a BSD-compatible install... /usr/bin/install -c
checking whether build environment is sane... yes
checking for a thread-safe mkdir -p... /usr/bin/mkdir -p
checking for gawk... no
checking for mawk... mawk
checking whether make sets $(MAKE)... yes
checking whether make supports nested variables... yes
checking build system type... i686-pc-linux-gnu
checking host system type... i686-pc-linux-gnu
checking how to print strings... printf
checking whether make supports the include directive... yes (GNU style)
checking for gcc... gcc
checking whether the C compiler works... yes
checking for C compiler default output file name... a.out
checking for suffix of executables... 
checking whether we are cross compiling... no
checking for suffix of object files... o
checking whether we are using the GNU C compiler... yes
checking whether gcc accepts -g... yes
checking for gcc option to accept ISO C89... none needed
checking whether gcc understands -c and -o together... yes
checking dependency style of gcc... none
checking for a sed that does not truncate output... /usr/bin/sed
checking for grep that handles long lines and -e... /usr/bin/grep
checking for egrep... /usr/bin/grep -E
checking for fgrep... /usr/bin/grep -F
checking for ld used by gcc... /usr/bin/ld
checking if the linker (/usr/bin/ld) is GNU ld... yes
checking for BSD- or MS-compatible name lister (nm)... /usr/bin/nm -B
checking the name lister (/usr/bin/nm -B) interface... BSD nm
checking whether ln -s works... yes
checking the maximum length of command line arguments... 1572864
checking how to convert i686-pc-linux-gnu file names to i686-pc-linux-gnu format... func_convert_file_noop
checking how to convert i686-pc-linux-gnu file names to toolchain format... func_convert_file_noop
checking for /usr/bin/ld option to reload object files... -r
checking for objdump... objdump
checking how to recognize dependent libraries... pass_all
checking for dlltool... no
checking how to associate runtime and link libraries... printf %s\n
checking for ar... ar
checking for archiver @FILE support... @
checking for strip... strip
checking for ranlib... ranlib
checking command to parse /usr/bin/nm -B output from gcc object... ok
checking for sysroot... no
checking for a working dd... /usr/bin/dd
checking how to truncate binary pipes... /usr/bin/dd bs=4096 count=1
checking for mt... mt
checking if mt is a manifest tool... no
checking how to run the C preprocessor... gcc -E
checking for ANSI C header files... yes
checking for sys/types.h... yes
checking for sys/stat.h... yes
checking for stdlib.h... yes
checking for string.h... yes
checking for memory.h... yes
checking for strings.h... yes
checking for inttypes.h... yes
checking for stdint.h... yes
checking for unistd.h... yes
checking for dlfcn.h... yes
checking for objdir... .libs
checking if gcc supports -fno-rtti -fno-exceptions... no
checking for gcc option to produce PIC... -fPIC -DPIC
checking if gcc PIC flag -fPIC -DPIC works... yes
checking if gcc static flag -static works... yes
checking if gcc supports -c -o file.o... yes
checking if gcc supports -c -o file.o... (cached) yes
checking whether the gcc linker (/usr/bin/ld) supports shared libraries... yes
checking dynamic linker characteristics... GNU/Linux ld.so
checking how to hardcode library paths into programs... immediate
checking whether stripping libraries is possible... yes
checking if libtool supports shared libraries... yes
checking whether to build shared libraries... no
checking whether to build static libraries... yes
checking for gawk... (cached) mawk
checking for gcc... (cached) gcc
checking whether we are using the GNU C compiler... (cached) yes
checking whether gcc accepts -g... (cached) yes
checking for gcc option to accept ISO C89... (cached) none needed
checking whether gcc understands -c and -o together... (cached) yes
checking dependency style of gcc... (cached) none
checking how to run the C preprocessor... gcc -E
checking whether ln -s works... yes
checking whether make sets $(MAKE)... (cached) yes
checking stddef.h usability... yes
checking stddef.h presence... yes
checking for stddef.h... yes
checking for stdlib.h... (cached) yes
checking for inline... inline
checking for size_t... yes
checking whether GCC handles -Wextra... -Wextra
checking whether GCC handles -Wdeclaration-after-statement... -Wdeclaration-after-statement
checking size of int... 4
checking for memset... yes
checking that generated files are newer than configure... done
configure: creating ./config.status
config.status: creating Makefile
config.status: creating libmarpa.pc
config.status: creating config.h
config.status: executing depfiles commands
config.status: executing libtool commands
Running [make]...
make  all-am
make[1]: Entering directory '/home/cpan/pit/thr/conf/perl-5.30.2/.cpanplus/5.30.2/build/nPJCAtVOov/Marpa-R2-13.002_000/libmarpa_build'
gcc -DHAVE_CONFIG_H -I.  -Wundef -Wendif-labels  -Wall -Wextra -Wdeclaration-after-statement -Wpointer-arith -Wstrict-prototypes -Wwrite-strings -Wshadow -Wmissing-declarations -Wconversion -ansi -pedantic  -g -O2 -c -o libmarpa_a-marpa.o `test -f 'marpa.c' || echo './'`marpa.c
gcc -DHAVE_CONFIG_H -I.  -Wundef -Wendif-labels  -Wall -Wextra -Wdeclaration-after-statement -Wpointer-arith -Wstrict-prototypes -Wwrite-strings -Wshadow -Wmissing-declarations -Wconversion -ansi -pedantic  -g -O2 -c -o libmarpa_a-marpa_obs.o `test -f 'marpa_obs.c' || echo './'`marpa_obs.c
gcc -DHAVE_CONFIG_H -I.  -Wundef -Wendif-labels  -Wall -Wextra -Wdeclaration-after-statement -Wpointer-arith -Wstrict-prototypes -Wwrite-strings -Wshadow -Wmissing-declarations -Wconversion -ansi -pedantic  -g -O2 -c -o libmarpa_a-marpa_avl.o `test -f 'marpa_avl.c' || echo './'`marpa_avl.c
gcc -DHAVE_CONFIG_H -I.  -Wundef -Wendif-labels  -Wall -Wextra -Wdeclaration-after-statement -Wpointer-arith -Wstrict-prototypes -Wwrite-strings -Wshadow -Wmissing-declarations -Wconversion -ansi -pedantic  -g -O2 -c -o libmarpa_a-marpa_tavl.o `test -f 'marpa_tavl.c' || echo './'`marpa_tavl.c
marpa_tavl.c: In function ‘marpa__tavl_probe’:
marpa_tavl.c:167:18: warning: writing 2 bytes into a region of size 0 [-Wstringop-overflow=]
  167 |   n->tavl_tag[0] = n->tavl_tag[1] = TAVL_THREAD;
      |   ~~~~~~~~~~~~~~~^~~~~~~~~~~~~~~~~~~~~~~~~~~~~~
gcc -DHAVE_CONFIG_H -I.  -Wundef -Wendif-labels  -Wall -Wextra -Wdeclaration-after-statement -Wpointer-arith -Wstrict-prototypes -Wwrite-strings -Wshadow -Wmissing-declarations -Wconversion -ansi -pedantic  -g -O2 -c -o libmarpa_a-marpa_ami.o `test -f 'marpa_ami.c' || echo './'`marpa_ami.c
gcc -DHAVE_CONFIG_H -I.  -Wundef -Wendif-labels  -Wall -Wextra -Wdeclaration-after-statement -Wpointer-arith -Wstrict-prototypes -Wwrite-strings -Wshadow -Wmissing-declarations -Wconversion -ansi -pedantic  -g -O2 -c -o libmarpa_a-marpa_codes.o `test -f 'marpa_codes.c' || echo './'`marpa_codes.c
rm -f libmarpa.a
ar cru libmarpa.a libmarpa_a-marpa.o libmarpa_a-marpa_obs.o libmarpa_a-marpa_avl.o libmarpa_a-marpa_tavl.o libmarpa_a-marpa_ami.o libmarpa_a-marpa_codes.o 
ar: `u' modifier ignored since `D' is the default (see `U')
ranlib libmarpa.a
/bin/bash ./libtool  --tag=CC   --mode=compile gcc -DHAVE_CONFIG_H -I.  -Wundef -Wendif-labels  -Wall -Wextra -Wdeclaration-after-statement -Wpointer-arith -Wstrict-prototypes -Wwrite-strings -Wshadow -Wmissing-declarations -Wconversion -ansi -pedantic  -g -O2 -c -o marpa.lo marpa.c
libtool: compile:  gcc -DHAVE_CONFIG_H -I. -Wundef -Wendif-labels -Wall -Wextra -Wdeclaration-after-statement -Wpointer-arith -Wstrict-prototypes -Wwrite-strings -Wshadow -Wmissing-declarations -Wconversion -ansi -pedantic -g -O2 -c marpa.c  -fPIC -DPIC -o marpa.o
/bin/bash ./libtool  --tag=CC   --mode=compile gcc -DHAVE_CONFIG_H -I.  -Wundef -Wendif-labels  -Wall -Wextra -Wdeclaration-after-statement -Wpointer-arith -Wstrict-prototypes -Wwrite-strings -Wshadow -Wmissing-declarations -Wconversion -ansi -pedantic  -g -O2 -c -o marpa_obs.lo marpa_obs.c
libtool: compile:  gcc -DHAVE_CONFIG_H -I. -Wundef -Wendif-labels -Wall -Wextra -Wdeclaration-after-statement -Wpointer-arith -Wstrict-prototypes -Wwrite-strings -Wshadow -Wmissing-declarations -Wconversion -ansi -pedantic -g -O2 -c marpa_obs.c  -fPIC -DPIC -o marpa_obs.o
/bin/bash ./libtool  --tag=CC   --mode=compile gcc -DHAVE_CONFIG_H -I.  -Wundef -Wendif-labels  -Wall -Wextra -Wdeclaration-after-statement -Wpointer-arith -Wstrict-prototypes -Wwrite-strings -Wshadow -Wmissing-declarations -Wconversion -ansi -pedantic  -g -O2 -c -o marpa_avl.lo marpa_avl.c
libtool: compile:  gcc -DHAVE_CONFIG_H -I. -Wundef -Wendif-labels -Wall -Wextra -Wdeclaration-after-statement -Wpointer-arith -Wstrict-prototypes -Wwrite-strings -Wshadow -Wmissing-declarations -Wconversion -ansi -pedantic -g -O2 -c marpa_avl.c  -fPIC -DPIC -o marpa_avl.o
/bin/bash ./libtool  --tag=CC   --mode=compile gcc -DHAVE_CONFIG_H -I.  -Wundef -Wendif-labels  -Wall -Wextra -Wdeclaration-after-statement -Wpointer-arith -Wstrict-prototypes -Wwrite-strings -Wshadow -Wmissing-declarations -Wconversion -ansi -pedantic  -g -O2 -c -o marpa_tavl.lo marpa_tavl.c
libtool: compile:  gcc -DHAVE_CONFIG_H -I. -Wundef -Wendif-labels -Wall -Wextra -Wdeclaration-after-statement -Wpointer-arith -Wstrict-prototypes -Wwrite-strings -Wshadow -Wmissing-declarations -Wconversion -ansi -pedantic -g -O2 -c marpa_tavl.c  -fPIC -DPIC -o marpa_tavl.o
marpa_tavl.c: In function ‘marpa__tavl_probe’:
marpa_tavl.c:167:18: warning: writing 2 bytes into a region of size 0 [-Wstringop-overflow=]
  167 |   n->tavl_tag[0] = n->tavl_tag[1] = TAVL_THREAD;
      |   ~~~~~~~~~~~~~~~^~~~~~~~~~~~~~~~~~~~~~~~~~~~~~
/bin/bash ./libtool  --tag=CC   --mode=compile gcc -DHAVE_CONFIG_H -I.  -Wundef -Wendif-labels  -Wall -Wextra -Wdeclaration-after-statement -Wpointer-arith -Wstrict-prototypes -Wwrite-strings -Wshadow -Wmissing-declarations -Wconversion -ansi -pedantic  -g -O2 -c -o marpa_ami.lo marpa_ami.c
libtool: compile:  gcc -DHAVE_CONFIG_H -I. -Wundef -Wendif-labels -Wall -Wextra -Wdeclaration-after-statement -Wpointer-arith -Wstrict-prototypes -Wwrite-strings -Wshadow -Wmissing-declarations -Wconversion -ansi -pedantic -g -O2 -c marpa_ami.c  -fPIC -DPIC -o marpa_ami.o
/bin/bash ./libtool  --tag=CC   --mode=compile gcc -DHAVE_CONFIG_H -I.  -Wundef -Wendif-labels  -Wall -Wextra -Wdeclaration-after-statement -Wpointer-arith -Wstrict-prototypes -Wwrite-strings -Wshadow -Wmissing-declarations -Wconversion -ansi -pedantic  -g -O2 -c -o marpa_codes.lo marpa_codes.c
libtool: compile:  gcc -DHAVE_CONFIG_H -I. -Wundef -Wendif-labels -Wall -Wextra -Wdeclaration-after-statement -Wpointer-arith -Wstrict-prototypes -Wwrite-strings -Wshadow -Wmissing-declarations -Wconversion -ansi -pedantic -g -O2 -c marpa_codes.c  -fPIC -DPIC -o marpa_codes.o
/bin/bash ./libtool  --tag=CC   --mode=link gcc -Wall -Wextra -Wdeclaration-after-statement -Wpointer-arith -Wstrict-prototypes -Wwrite-strings -Wshadow -Wmissing-declarations -Wconversion -ansi -pedantic  -g -O2 -release 11.0.2  -o libmarpa.la -rpath /usr/local/lib marpa.lo marpa_obs.lo marpa_avl.lo marpa_tavl.lo marpa_ami.lo marpa_codes.lo  
libtool: link: ar cru .libs/libmarpa.a  marpa.o marpa_obs.o marpa_avl.o marpa_tavl.o marpa_ami.o marpa_codes.o
ar: `u' modifier ignored since `D' is the default (see `U')
libtool: link: ranlib .libs/libmarpa.a
libtool: link: ( cd ".libs" && rm -f "libmarpa.la" && ln -s "../libmarpa.la" "libmarpa.la" )
make[1]: Leaving directory '/home/cpan/pit/thr/conf/perl-5.30.2/.cpanplus/5.30.2/build/nPJCAtVOov/Marpa-R2-13.002_000/libmarpa_build'
cc -I/home/cpan/pit/thr/perl-5.30.2/lib/5.30.2/i686-linux-thread-multi/CORE -DVERSION="13.002_000" -DXS_VERSION="13.002_000" -fPIC -c -D_REENTRANT -D_GNU_SOURCE -fwrapv -fno-strict-aliasing -pipe -fstack-protector-strong -I/usr/local/include -D_LARGEFILE_SOURCE -D_FILE_OFFSET_BITS=64 -D_FORTIFY_SOURCE=2 -I /home/cpan/pit/thr/conf/perl-5.30.2/.cpanplus/5.30.2/build/nPJCAtVOov/Marpa-R2-13.002_000/libmarpa_build -I xs -Wall -W -Wpointer-arith -Wstrict-prototypes -Wwrite-strings -Wmissing-declarations -ansi -O2 -o lib/Marpa/R2.o lib/Marpa/R2.c
Using built-in Libmarpa
cc -shared -O2 -L/usr/local/lib -fstack-protector-strong -o blib/arch/auto/Marpa/R2/R2.so lib/Marpa/R2.o /home/cpan/pit/thr/conf/perl-5.30.2/.cpanplus/5.30.2/build/nPJCAtVOov/Marpa-R2-13.002_000/libmarpa_build/.libs/libmarpa.a
# Marpa::R2 version is 13.002_000
# Libmarpa version is 11.0.2
# Libmarpa tag: Jul 23 2023 23:43:09
t/00-load.t ............ ok
t/50d-giarank.t ........ ok
t/50d-ranksyn.t ........ ok
t/ah2.t ................ ok
t/ah_numeric.t ......... ok
t/asf_syn.t ............ ok
t/balanced.t ........... ok
t/bocage.t ............. ok
t/catalan.t ............ ok
t/chaf.t ............... ok
t/code_diag.t .......... ok
t/context.t ............ ok
t/counter.t ............ ok
t/curly.t .............. ok
t/curly2.t ............. ok
t/debug.t .............. ok
t/debug_leo.t .......... ok
t/debug_seq.t .......... ok
t/deprecated1.t ........ ok
t/dsl.t ................ ok
t/duplicate_parse.t .... ok
t/equation.t ........... ok
t/final_nonnullable.t .. ok
t/gabend.t ............. ok
t/implementation.t ..... ok
t/infinite.t ........... ok
t/infinite2.t .......... ok
t/infinite_plex.t ...... ok
t/initial_nulls.t ...... ok
t/jirotka.t ............ ok
t/leo.t ................ ok
t/leo2.t ............... ok
t/leo3.t ............... ok
t/leo_cycle.t .......... ok
t/leo_example.t ........ ok
t/leo_unit.t ........... ok
t/limits.t ............. ok
t/minus.t .............. ok
t/naif.t ............... ok
t/null_example.t ....... ok
t/null_infinite1.t ..... ok
t/null_infinite4.t ..... ok
t/null_value.t ......... ok
t/pascal.t ............. ok
t/perl.t ............... ok
t/progress1.t .......... ok
t/progress2.t .......... ok
t/rabend.t ............. ok
t/randal.t ............. ok
t/rankfact.t ........... ok
t/rankord.t ............ ok
t/rankord3.t ........... ok
t/rewrite.t ............ ok
t/sequence.t ........... ok
t/sequence2.t .......... ok
t/sl_action.t .......... ok
t/sl_action2.t ......... ok
t/sl_advent.t .......... ok
t/sl_ah2.t ............. ok
t/sl_ambig.t ........... ok
t/sl_amon.t ............ ok
t/sl_asf.t ............. ok
t/sl_ast.t ............. ok
t/sl_astsyn.t .......... ok
t/sl_bracket.t ......... ok
t/sl_calc.t ............ ok
t/sl_completed.t ....... ok
t/sl_debug.t ........... ok
t/sl_diag.t ............ ok
t/sl_discard.t ......... ok
t/sl_discard2.t ........ ok
t/sl_discard3.t ........ ok
t/sl_dsl.t ............. ok
t/sl_durand.t .......... ok
t/sl_dwim.t ............ ok
t/sl_dyck.t ............ ok
t/sl_event.t ........... ok
t/sl_evinit.t .......... ok
t/sl_evsyn.t ........... ok
t/sl_evsyn2.t .......... ok
t/sl_exhaust.t ......... ok
t/sl_external1.t ....... ok
t/sl_fullsyn.t ......... ok
t/sl_g1len.t ........... ok
t/sl_gabend.t .......... ok
t/sl_gia.t ............. ok
t/sl_gia_err.t ......... ok
t/sl_gie.t ............. ok
t/sl_gif1.t ............ ok
t/sl_gires.t ........... ok
t/sl_gsyn.t ............ ok
t/sl_incremental.t ..... ok
t/sl_json.t ............ ok
t/sl_json_ast.t ........ ok
t/sl_latk.t ............ ok
t/sl_lc.t .............. ok
t/sl_leo.t ............. ok
t/sl_leo2.t ............ ok
t/sl_leo_diag.t ........ ok
t/sl_lexevent.t ........ ok
t/sl_lib115.t .......... ok
t/sl_lib115a.t ......... ok
t/sl_null_example.t .... ok
t/sl_numeric.t ......... ok
t/sl_panda.t ........... ok
t/sl_panda1.t .......... ok
t/sl_pascal.t .......... ok
t/sl_prefix.t .......... ok
t/sl_rank.t ............ ok
t/sl_ruby.t ............ ok
t/sl_salad.t ........... ok
t/sl_sviok.t ........... ok
t/sl_syn.t ............. ok
t/sl_taint.t ........... ok
t/sl_timeflies.t ....... ok
t/sl_topsyn.t .......... ok
t/sl_tut2.t ............ ok
t/sl_wall.t ............ ok
t/stuifzand.t .......... ok
t/syn_engine.t ......... ok
t/syn_stuifzand.t ...... ok
t/thin_amb_null.t ...... ok
t/thin_deprec.t ........ ok
t/thin_eq.t ............ ok
t/thin_seq_lhs.t ....... ok
t/timeflies.t .......... ok
t/use.t ................ ok
# Using Marpa::R2::HTML 13.002
# Using Marpa::R2 13.002 2023-07-23T23:42:39
html/t/00-load.t ....... ok
html/t/cfg_fmt.t ....... ok
html/t/config.t ........ ok
html/t/copy.t .......... ok
html/t/examples.t ...... ok
html/t/fmt.t ........... ok
html/t/missing.t ....... ok
html/t/parse.t ......... ok
html/t/score.t ......... ok
html/t/synopsis.t ...... ok
html/t/tang.t .......... ok
All tests successful.
Files=138, Tests=1715, 26 wallclock secs ( 0.42 usr  0.18 sys + 22.87 cusr  2.32 csys = 25.79 CPU)
Result: PASS


PREREQUISITES:

Here is a list of prerequisites you specified and versions we
managed to load:

	  Module Name                        Have     Want
	  Carp                               1.50     1.08
	  Cwd                                3.78   3.2501
	  Data::Dumper                      2.174    2.125
	  English                            1.10     1.04
	  Exporter                           5.73     5.62
	  ExtUtils::CBuilder             0.280236     0.27
	  ExtUtils::MakeMaker                7.70     6.42
	  ExtUtils::Manifest                 1.75  1.51_01
	  ExtUtils::Mkbootstrap              7.70     6.42
	  Fatal                              2.29     1.05
	  File::Copy                         2.34     2.11
	  File::Spec                         3.78   3.2501
	  HTML::Entities                     3.81     3.68
	  HTML::Parser                       3.81     3.69
	  IPC::Cmd                           1.04   0.40_1
	  List::Util                         1.50     1.21
	  PPI                               1.276    1.206
	  Scalar::Util                       1.50     1.21
	  Test::More                     1.302195     0.94
	  Time::Piece                        1.33     1.12
	  XSLoader                           0.30     0.08

Perl module toolchain versions installed:
	Module Name                        Have
	CPANPLUS                         0.9914
	CPANPLUS::Dist::Build              0.90
	Cwd                                3.78
	ExtUtils::CBuilder             0.280236
	ExtUtils::Command                  7.70
	ExtUtils::Install                  2.22
	ExtUtils::MakeMaker                7.70
	ExtUtils::Manifest                 1.75
	ExtUtils::ParseXS                  3.44
	File::Spec                         3.78
	Module::Build                    0.4234
	Pod::Parser                        1.63
	Pod::Simple                        3.35
	Test2                          1.302195
	Test::Harness                      3.44
	Test::More                     1.302195
	version                          0.9929

******************************** NOTE ********************************
The comments above are created mechanically, possibly without manual
checking by the sender.  As there are many people performing automatic
tests on each upload to CPAN, it is likely that you will receive
identical messages about the same problem.

If you believe that the message is mistaken, please reply to the first
one with correction and/or additional informations, and do not take
it personally.  We appreciate your patience. :)
**********************************************************************

Additional comments:


This report was machine-generated by CPANPLUS::Dist::YACSmoke 1.08.
Powered by minismokebox version 0.68

CPANPLUS is prefering Build.PL

------------------------------
ENVIRONMENT AND OTHER CONTEXT
------------------------------

Environment variables:

    AUTOMATED_TESTING = 1
    LANG = en_GB.UTF-8
    LANGUAGE = en_GB:en
    NONINTERACTIVE_TESTING = 1
    PATH = /home/cpan/pit/thr/conf/perl-5.30.2/.cpanplus/5.30.2/build/nPJCAtVOov/Marpa-R2-13.002_000/blib/script:/usr/local/bin:/usr/bin:/bin:/usr/local/games:/usr/games
    PERL5LIB = /home/cpan/pit/jail/1CZ2aoPOSg/lib/perl5:/home/cpan/pit/thr/conf/perl-5.30.2/.cpanplus/5.30.2/build/nPJCAtVOov/Marpa-R2-13.002_000/blib/lib:/home/cpan/pit/thr/conf/perl-5.30.2/.cpanplus/5.30.2/build/nPJCAtVOov/Marpa-R2-13.002_000/blib/arch
    PERL5_CPANPLUS_IS_RUNNING = 16813
    PERL5_CPANPLUS_IS_VERSION = 0.9914
    PERL5_MINISMOKEBOX = 0.68
    PERL5_YACSMOKE_BASE = /home/cpan/pit/thr/conf/perl-5.30.2
    PERL_EXTUTILS_AUTOINSTALL = --defaultdeps
    PERL_LOCAL_LIB_ROOT = /home/cpan/pit/jail/1CZ2aoPOSg
    PERL_MB_OPT = --install_base "/home/cpan/pit/jail/1CZ2aoPOSg"
    PERL_MM_OPT = INSTALL_BASE=/home/cpan/pit/jail/1CZ2aoPOSg
    PERL_MM_USE_DEFAULT = 1
    SHELL = /bin/bash
    TERM = screen.xterm-256color

Perl special variables (and OS-specific diagnostics, for MSWin32):

    Perl: $^X = /home/cpan/pit/thr/perl-5.30.2/bin/perl
    UID:  $<  = 1001
    EUID: $>  = 1001
    GID:  $(  = 1001 1001
    EGID: $)  = 1001 1001


-------------------------------


--

Summary of my perl5 (revision 5 version 30 subversion 2) configuration:
   
  Platform:
    osname=linux
    osvers=5.10.0-12-686
    archname=i686-linux-thread-multi
    uname='linux dagobah 5.10.0-12-686 #1 smp debian 5.10.103-1 (2022-03-07) i686 gnulinux '
    config_args='-des -Dprefix=/home/cpan/pit/thr/perl-5.30.2 -Dusethreads'
    hint=recommended
    useposix=true
    d_sigaction=define
    useithreads=define
    usemultiplicity=define
    use64bitint=undef
    use64bitall=undef
    uselongdouble=undef
    usemymalloc=n
    default_inc_excludes_dot=define
    bincompat5005=undef
  Compiler:
    cc='cc'
    ccflags ='-D_REENTRANT -D_GNU_SOURCE -fwrapv -fno-strict-aliasing -pipe -fstack-protector-strong -I/usr/local/include -D_LARGEFILE_SOURCE -D_FILE_OFFSET_BITS=64 -D_FORTIFY_SOURCE=2'
    optimize='-O2'
    cppflags='-D_REENTRANT -D_GNU_SOURCE -fwrapv -fno-strict-aliasing -pipe -fstack-protector-strong -I/usr/local/include'
    ccversion=''
    gccversion='10.2.1 20210110'
    gccosandvers=''
    intsize=4
    longsize=4
    ptrsize=4
    doublesize=8
    byteorder=1234
    doublekind=3
    d_longlong=define
    longlongsize=8
    d_longdbl=define
    longdblsize=12
    longdblkind=3
    ivtype='long'
    ivsize=4
    nvtype='double'
    nvsize=8
    Off_t='off_t'
    lseeksize=8
    alignbytes=4
    prototype=define
  Linker and Libraries:
    ld='cc'
    ldflags =' -fstack-protector-strong -L/usr/local/lib'
    libpth=/usr/local/lib /usr/include/i386-linux-gnu /usr/lib /lib/i386-linux-gnu /lib/../lib /usr/lib/i386-linux-gnu /usr/lib/../lib /lib /lib64 /usr/lib64
    libs=-lpthread -lnsl -lgdbm -ldl -lm -lcrypt -lutil -lc
    perllibs=-lpthread -lnsl -ldl -lm -lcrypt -lutil -lc
    libc=libc-2.31.so
    so=so
    useshrplib=false
    libperl=libperl.a
    gnulibc_version='2.31'
  Dynamic Linking:
    dlsrc=dl_dlopen.xs
    dlext=so
    d_dlsymun=undef
    ccdlflags='-Wl,-E'
    cccdlflags='-fPIC'
    lddlflags='-shared -O2 -L/usr/local/lib -fstack-protector-strong'


Characteristics of this binary (from libperl): 
  Compile-time options:
    HAS_TIMES
    MULTIPLICITY
    PERLIO_LAYERS
    PERL_COPY_ON_WRITE
    PERL_DONT_CREATE_GVSV
    PERL_IMPLICIT_CONTEXT
    PERL_MALLOC_WRAP
    PERL_OP_PARENT
    PERL_PRESERVE_IVUV
    USE_ITHREADS
    USE_LARGE_FILES
    USE_LOCALE
    USE_LOCALE_COLLATE
    USE_LOCALE_CTYPE
    USE_LOCALE_NUMERIC
    USE_LOCALE_TIME
    USE_PERLIO
    USE_PERL_ATOF
    USE_REENTRANT_API
    USE_THREAD_SAFE_LOCALE
  Locally applied patches:
    Devel::PatchPerl 2.08
  Built under linux
  Compiled at Mar 18 2022 07:24:11
  %ENV:
    PERL5LIB="/home/cpan/pit/jail/1CZ2aoPOSg/lib/perl5:/home/cpan/pit/thr/conf/perl-5.30.2/.cpanplus/5.30.2/build/nPJCAtVOov/Marpa-R2-13.002_000/blib/lib:/home/cpan/pit/thr/conf/perl-5.30.2/.cpanplus/5.30.2/build/nPJCAtVOov/Marpa-R2-13.002_000/blib/arch"
    PERL5_CPANPLUS_IS_RUNNING="16813"
    PERL5_CPANPLUS_IS_VERSION="0.9914"
    PERL5_MINISMOKEBOX="0.68"
    PERL5_YACSMOKE_BASE="/home/cpan/pit/thr/conf/perl-5.30.2"
    PERL_EXTUTILS_AUTOINSTALL="--defaultdeps"
    PERL_LOCAL_LIB_ROOT="/home/cpan/pit/jail/1CZ2aoPOSg"
    PERL_MB_OPT="--install_base "/home/cpan/pit/jail/1CZ2aoPOSg""
    PERL_MM_OPT="INSTALL_BASE=/home/cpan/pit/jail/1CZ2aoPOSg"
    PERL_MM_USE_DEFAULT="1"
  @INC:
    /home/cpan/pit/jail/1CZ2aoPOSg/lib/perl5/5.30.2/i686-linux-thread-multi
    /home/cpan/pit/jail/1CZ2aoPOSg/lib/perl5/5.30.2
    /home/cpan/pit/jail/1CZ2aoPOSg/lib/perl5/i686-linux-thread-multi
    /home/cpan/pit/jail/1CZ2aoPOSg/lib/perl5
    /home/cpan/pit/thr/conf/perl-5.30.2/.cpanplus/5.30.2/build/nPJCAtVOov/Marpa-R2-13.002_000/blib/lib
    /home/cpan/pit/thr/conf/perl-5.30.2/.cpanplus/5.30.2/build/nPJCAtVOov/Marpa-R2-13.002_000/blib/arch
    /home/cpan/pit/thr/perl-5.30.2/lib/site_perl/5.30.2/i686-linux-thread-multi
    /home/cpan/pit/thr/perl-5.30.2/lib/site_perl/5.30.2
    /home/cpan/pit/thr/perl-5.30.2/lib/5.30.2/i686-linux-thread-multi
    /home/cpan/pit/thr/perl-5.30.2/lib/5.30.2