Geo-Coder-US-Census v0.06 Perl 5 v5.18.1 x86_64-linux-thread-multi

Status
Pass
From
Andreas J. König (ANDK)
Dist
Geo-Coder-US-Census v0.06
Platform
Perl 5 v5.18.1 x86_64-linux-thread-multi
Date
2023-02-04 20:42:05
ID
629d8c54-a4cc-11ed-a56a-b6786d5d6e4e
This distribution has been tested as part of the CPAN Testers
project, supporting the Perl programming language.  See
http://wiki.cpantesters.org/ for more information or email
questions to cpan-testers-discuss@perl.org


--
Dear Nigel Horne,

This is a computer-generated report for Geo-Coder-US-Census-0.06
on perl 5.18.1, created by CPAN-Reporter-1.2018.

Thank you for uploading your work to CPAN.  Congratulations!
All tests were successful.

Sections of this report:

    * Tester comments
    * Program output
    * Prerequisites
    * Environment and other context

------------------------------
TESTER COMMENTS
------------------------------

Additional comments from tester:

this report is from an automated smoke testing program
and was not reviewed by a human for accuracy

------------------------------
PROGRAM OUTPUT
------------------------------

Output from '/usr/bin/make test':

PERL_DL_NONLAZY=1 "/home/sand/src/perl/repoperls/installed-perls/host/k93msid/v5.18.1/29fb/bin/perl" "-MExtUtils::Command::MM" "-MTest::Harness" "-e" "undef *Test::Harness::Switches; test_harness(0, 'blib/lib', 'blib/arch')" t/*.t
# Testing Geo::Coder::US::Census 0.06, Perl 5.018001, /home/sand/src/perl/repoperls/installed-perls/host/k93msid/v5.18.1/29fb/bin/perl
t/00-load.t ........... ok
t/10-new.t ............ ok
# Author tests not required for installation
t/bin.t ............... ok
t/boiler.t ............ ok
t/carp.t .............. ok
t/changes.t ........... skipped: Author tests not required for installation
t/comment-spelling.t .. skipped: Author tests not required for installation
t/coverage.t .......... ok
t/critic.t ............ skipped: Author tests not required for installation
t/cv.t ................ skipped: Author tests not required for installation
t/dist.t .............. skipped: Author tests not required for installation
t/eof.t ............... skipped: Author tests not required for installation
t/eol.t ............... skipped: Author tests not required for installation
t/gv.t ................ skipped: Author tests not required for installation
t/kwalitee.t .......... skipped: Author tests not required for installation
t/links.t ............. skipped: Author tests not required for installation
t/manifest.t .......... skipped: Author tests not required for installation
t/metrics.t ........... skipped: Author tests not required for installation
t/namespaces.t ........ skipped: Author tests not required for installation
t/no404s.t ............ skipped: Author tests not required for installation
t/noplan.t ............ skipped: Author tests not required for installation
t/pod-cm.t ............ ok
t/pod-spelling.t ...... skipped: Author tests not required for installation
t/pod.t ............... skipped: Author tests not required for installation
t/port.t .............. ok
t/prereq.t ............ skipped: Author tests not required for installation
t/snippets.t .......... skipped: Author tests not required for installation
t/strict.t ............ skipped: Author tests not required for installation
t/unused.t ............ skipped: Author tests not required for installation
t/us.t ................ ok
t/used.t .............. skipped: Author tests not required for installation
t/vars.t .............. skipped: Author tests not required for installation
All tests successful.

Test Summary Report
-------------------
t/boiler.t          (Wstat: 0 Tests: 3 Failed: 0)
  TODO passed:   1-3
t/us.t              (Wstat: 0 Tests: 18 Failed: 0)
  TODO passed:   8-9
Files=32, Tests=34, 17 wallclock secs ( 0.09 usr  0.04 sys +  3.95 cusr  1.03 csys =  5.11 CPU)
Result: PASS

------------------------------
PREREQUISITES
------------------------------

Prerequisite modules loaded:

requires:

    Module                 Need     Have    
    ---------------------- -------- --------
    Encode                 0        3.16    
    Geo::StreetAddress::US 0        1.04    
    HTTP::Request          0        6.41    
    JSON::MaybeXS          0        1.004003
    LWP::Protocol::https   0        6.10    
    LWP::UserAgent         0        6.61    
    Net::SSLeay            1.81     1.92    
    perl                   5.006002 5.018001
    URI                    0        5.10    

build_requires:

    Module                 Need     Have    
    ---------------------- -------- --------
    ExtUtils::MakeMaker    0        7.66    
    IPC::System::Simple    0        1.30    
    Test::Carp             0        0.2     
    Test::LWP::UserAgent   0        0.036   
    Test::Most             0        0.37    
    Test::NoWarnings       0        1.06    
    Test::Number::Delta    0        1.06    
    Test::Script           1.12     1.29    

configure_requires:

    Module                 Need     Have    
    ---------------------- -------- --------
    ExtUtils::MakeMaker    0        7.66    


------------------------------
ENVIRONMENT AND OTHER CONTEXT
------------------------------

Environment variables:

    AUTOMATED_TESTING = 1
    LANG = en_US.UTF-8
    LANGUAGE = en_US:en
    PATH = /home/sand/bin:/usr/local/bin:/usr/bin:/bin:/usr/games:/usr/local/perl/bin:/usr/X11/bin:/sbin:/usr/sbin
    PERL5LIB = 
    PERL5OPT = 
    PERL5_CPANPLUS_IS_RUNNING = 572854
    PERL5_CPAN_IS_RUNNING = 572854
    PERL_CANARY_STABILITY_NOPROMPT = 1
    PERL_MM_USE_DEFAULT = 1
    PERL_USE_UNSAFE_INC = 1
    SHELL = /usr/bin/zsh
    TERM = screen

Perl special variables (and OS-specific diagnostics, for MSWin32):

    $^X = /home/sand/src/perl/repoperls/installed-perls/host/k93msid/v5.18.1/29fb/bin/perl
    $UID/$EUID = 1005 / 1005
    $GID = 1005 1005
    $EGID = 1005 1005

Perl module toolchain versions installed:

    Module              Have    
    ------------------- --------
    CPAN                2.29    
    CPAN::Meta          2.150010
    Cwd                 3.75    
    ExtUtils::CBuilder  0.280236
    ExtUtils::Command   7.66    
    ExtUtils::Install   2.22    
    ExtUtils::MakeMaker 7.66    
    ExtUtils::Manifest  1.70    
    ExtUtils::ParseXS   3.44    
    File::Spec          3.75    
    JSON                4.07    
    JSON::PP            4.16    
    Module::Build       0.4231  
    Module::Signature   0.88    
    Parse::CPAN::Meta   2.150010
    Test::Harness       3.42    
    Test::More          1.302191
    YAML                1.30    
    YAML::Syck          1.34    
    version             0.9929  


--

Summary of my perl5 (revision 5 version 18 subversion 1) configuration:
  Derived from: 75c3005ee5b6ece3ad3c827cb300945f672c2bd1
  Platform:
    osname=linux, osvers=5.3.0-2-amd64, archname=x86_64-linux-thread-multi
    uname='linux k93msid 5.3.0-2-amd64 #1 smp debian 5.3.9-3 (2019-11-19) x86_64 gnulinux '
    config_args='-Dprefix=/home/sand/src/perl/repoperls/installed-perls/host/k93msid/v5.18.1/29fb -Dmyhostname=k93msid -Dinstallusrbinperl=n -Uversiononly -Dusedevel -des -Ui_db -Dlibswanted=cl pthread socket inet nsl gdbm dbm malloc dl ld sun m crypt sec util c cposix posix ucb BSD gdbm_compat -Duseithreads -Uuselongdouble -DEBUGGING=both'
    hint=recommended, useposix=true, d_sigaction=define
    useithreads=define, usemultiplicity=define
    useperlio=define, d_sfio=undef, uselargefiles=define, usesocks=undef
    use64bitint=define, use64bitall=define, uselongdouble=undef
    usemymalloc=n, bincompat5005=undef
  Compiler:
    cc='cc', ccflags ='-D_REENTRANT -D_GNU_SOURCE -fwrapv -DDEBUGGING -fno-strict-aliasing -pipe -fstack-protector -I/usr/local/include -D_LARGEFILE_SOURCE -D_FILE_OFFSET_BITS=64',
    optimize='-O2 -g',
    cppflags='-D_REENTRANT -D_GNU_SOURCE -fwrapv -DDEBUGGING -fno-strict-aliasing -pipe -fstack-protector -I/usr/local/include'
    ccversion='', gccversion='9.2.1 20191109', gccosandvers=''
    intsize=4, longsize=8, ptrsize=8, doublesize=8, byteorder=12345678
    d_longlong=define, longlongsize=8, d_longdbl=define, longdblsize=16
    ivtype='long', ivsize=8, nvtype='double', nvsize=8, Off_t='off_t', lseeksize=8
    alignbytes=8, prototype=define
  Linker and Libraries:
    ld='cc', ldflags =' -fstack-protector -L/usr/local/lib'
    libpth=/usr/local/lib /lib/x86_64-linux-gnu /lib/../lib /usr/lib/x86_64-linux-gnu /usr/lib/../lib /lib /usr/lib
    libs=-lpthread -lnsl -ldl -lm -lcrypt -lutil -lc
    perllibs=-lpthread -lnsl -ldl -lm -lcrypt -lutil -lc
    libc=libc-2.29.so, so=so, useshrplib=false, libperl=libperl.a
    gnulibc_version='2.29'
  Dynamic Linking:
    dlsrc=dl_dlopen.xs, dlext=so, d_dlsymun=undef, ccdlflags='-Wl,-E'
    cccdlflags='-fPIC', lddlflags='-shared -O2 -g -L/usr/local/lib -fstack-protector'


Characteristics of this binary (from libperl): 
  Compile-time options: DEBUGGING HAS_TIMES MULTIPLICITY PERLIO_LAYERS
                        PERL_DONT_CREATE_GVSV
                        PERL_HASH_FUNC_ONE_AT_A_TIME_HARD
                        PERL_IMPLICIT_CONTEXT PERL_MALLOC_WRAP
                        PERL_PRESERVE_IVUV PERL_SAWAMPERSAND
                        PERL_TRACK_MEMPOOL PERL_USE_DEVEL USE_64_BIT_ALL
                        USE_64_BIT_INT USE_ITHREADS USE_LARGE_FILES
                        USE_LOCALE USE_LOCALE_COLLATE USE_LOCALE_CTYPE
                        USE_LOCALE_NUMERIC USE_PERLIO USE_PERL_ATOF
                        USE_REENTRANT_API
  Locally applied patches:
	uncommitted-changes
  Built under linux
  Compiled at May 18 2020 01:44:41
  %ENV:
    PERL5LIB=""
    PERL5OPT=""
    PERL5_CPANPLUS_IS_RUNNING="572854"
    PERL5_CPAN_IS_RUNNING="572854"
    PERL_CANARY_STABILITY_NOPROMPT="1"
    PERL_MM_USE_DEFAULT="1"
    PERL_USE_UNSAFE_INC="1"
  @INC:
    /home/sand/src/perl/repoperls/installed-perls/host/k93msid/v5.18.1/29fb/lib/site_perl/5.18.1/x86_64-linux-thread-multi
    /home/sand/src/perl/repoperls/installed-perls/host/k93msid/v5.18.1/29fb/lib/site_perl/5.18.1
    /home/sand/src/perl/repoperls/installed-perls/host/k93msid/v5.18.1/29fb/lib/5.18.1/x86_64-linux-thread-multi
    /home/sand/src/perl/repoperls/installed-perls/host/k93msid/v5.18.1/29fb/lib/5.18.1
    .