Zing v0.27 Perl 5 v5.24.1 amd64-freebsd

Status
Pass
From
Slaven Rezić
Dist
Zing v0.27
Platform
Perl 5 v5.24.1 amd64-freebsd
Date
2021-02-12 22:26:43
ID
628c6ab6-6d81-11eb-9ef4-e38a1f24ea8f
This distribution has been tested as part of the CPAN Testers
project, supporting the Perl programming language.  See
http://wiki.cpantesters.org/ for more information or email
questions to cpan-testers-discuss@perl.org


--
Dear Al Newkirk,

This is a computer-generated report for Zing-0.27
on perl 5.24.1, created by CPAN-Reporter-1.2018.

Thank you for uploading your work to CPAN.  Congratulations!
All tests were successful.

Sections of this report:

    * Tester comments
    * Program output
    * Prerequisites
    * Environment and other context

------------------------------
TESTER COMMENTS
------------------------------

Additional comments from tester:

none provided

------------------------------
PROGRAM OUTPUT
------------------------------

Output from '/usr/bin/make test':

PERL_DL_NONLAZY=1 "/usr/perl5.24.1p/bin/perl5.24.1" "-MExtUtils::Command::MM" "-MTest::Harness" "-e" "undef *Test::Harness::Switches; test_harness(0, 'blib/lib', 'blib/arch')" t/*.t
t/Zing.t ................ ok
t/Zing_App.t ............ ok
t/Zing_Cartridge.t ...... ok
t/Zing_Channel.t ........ ok
t/Zing_Class.t .......... ok
t/Zing_Cli.t ............ ok
t/Zing_Cursor.t ......... ok
t/Zing_Daemon.t ......... ok
t/Zing_Data.t ........... ok
t/Zing_Domain.t ......... ok
t/Zing_Encoder.t ........ ok
t/Zing_Encoder_Dump.t ... ok
t/Zing_Entity.t ......... ok
t/Zing_Env.t ............ ok
t/Zing_Error.t .......... ok
t/Zing_File.t ........... ok
t/Zing_Flow.t ........... ok
t/Zing_Fork.t ........... ok
t/Zing_ID.t ............. ok
t/Zing_Journal.t ........ ok
t/Zing_Kernel.t ......... ok
t/Zing_KeyVal.t ......... ok
t/Zing_Launcher.t ....... ok
t/Zing_Logic.t .......... ok
t/Zing_Logic_Kernel.t ... ok
t/Zing_Logic_Simple.t ... ok
t/Zing_Logic_Single.t ... ok
t/Zing_Logic_Timer.t .... ok
t/Zing_Logic_Watcher.t .. ok
t/Zing_Logic_Worker.t ... ok
t/Zing_Lookup.t ......... ok
t/Zing_Loop.t ........... ok
t/Zing_Mailbox.t ........ ok
t/Zing_Meta.t ........... ok
t/Zing_Poll.t ........... ok
t/Zing_Process.t ........ ok
t/Zing_PubSub.t ......... ok
t/Zing_Queue.t .......... ok
t/Zing_Repo.t ........... ok
t/Zing_Ring.t ........... ok
t/Zing_Ringer.t ......... ok
t/Zing_Savepoint.t ...... ok
t/Zing_Schedule.t ....... ok
t/Zing_Search.t ......... ok
t/Zing_Simple.t ......... ok
t/Zing_Single.t ......... ok
t/Zing_Spawner.t ........ ok
t/Zing_Store.t .......... ok
Can't stat ./zing: No such file or directory
 at t/Zing_Store_Disk.t line 379.
t/Zing_Store_Disk.t ..... ok
t/Zing_Store_Hash.t ..... ok
t/Zing_Store_Temp.t ..... ok
t/Zing_System.t ......... ok
t/Zing_Table.t .......... ok
t/Zing_Term.t ........... ok
t/Zing_Timer.t .......... ok
t/Zing_Types.t .......... ok
t/Zing_Watcher.t ........ ok
t/Zing_Worker.t ......... ok
All tests successful.
Files=58, Tests=1499, 23 wallclock secs ( 0.05 usr  1.12 sys +  4.87 cusr 15.47 csys = 21.50 CPU)
Result: PASS

------------------------------
PREREQUISITES
------------------------------

Prerequisite modules loaded:

requires:

    Module                  Need   Have    
    ----------------------- ------ --------
    Data::Object::Class     2.02   2.02    
    Data::Object::ClassHas  2.01   2.01    
    Data::Object::Cli       2.03   2.03    
    Data::Object::Exception 2.02   2.02    
    Data::Object::Space     2.10   2.10    
    Data::Object::Try       2.02   2.02    
    Data::Object::Types     0.04   0.04    
    FlightRecorder          0.09   0.09    
    perl                    5.014  5.024001
    routines                0.02   0.02    
    strict                  0      1.11    
    Time::Crontab           0.04   0.04    
    Time::Piece             1.3401 1.3401  
    warnings                0      1.36    

build_requires:

    Module                  Need   Have    
    ----------------------- ------ --------
    Data::Object::Class     2.02   2.02    
    Data::Object::ClassHas  2.01   2.01    
    Data::Object::Cli       2.03   2.03    
    Data::Object::Exception 2.02   2.02    
    Data::Object::Space     2.10   2.10    
    Data::Object::Try       2.02   2.02    
    Data::Object::Types     0.04   0.04    
    ExtUtils::MakeMaker     0      7.58    
    FlightRecorder          0.09   0.09    
    routines                0.02   0.02    
    strict                  0      1.11    
    Test::Auto              0.12   0.12    
    Test::Trap              v0.3.4 0.3.4   
    Time::Crontab           0.04   0.04    
    Time::Piece             1.3401 1.3401  
    warnings                0      1.36    

configure_requires:

    Module                  Need   Have    
    ----------------------- ------ --------
    ExtUtils::MakeMaker     0      7.58    


------------------------------
ENVIRONMENT AND OTHER CONTEXT
------------------------------

Environment variables:

    LC_ALL = de_DE.ISO8859-1
    PATH = /usr/local/bin:/usr/bin:/bin:/usr/local/sbin:/usr/sbin:/sbin:/home/cpansand/bin/freebsd10.3:/home/cpansand/bin/sh:/home/cpansand/bin:/usr/games:/home/cpansand/devel:/home/eserte/src/srezic-misc/scripts
    PERL5LIB = 
    PERL5OPT = 
    PERL5_CPANPLUS_IS_RUNNING = 14582
    PERL5_CPAN_IS_RUNNING = 14582
    PERL5_CPAN_IS_RUNNING_IN_RECURSION = 5067,14582
    PERLDOC = -MPod::Perldoc::ToTextOverstrike
    PERL_BATCH = yes
    PERL_CANARY_STABILITY_NOPROMPT = 1
    PERL_CPAN_REPORTER_CONFIG = /var/tmp/cpansmoker-1023/2021021222/cpanreporter_000_config.ini
    PERL_EXTUTILS_AUTOINSTALL = --defaultdeps
    PERL_USE_UNSAFE_INC = 1
    SHELL = /usr/local/bin/zsh
    TERM = screen
    TMPDIR = /var/tmp/cpansmoker-1023/2021021222

Perl special variables (and OS-specific diagnostics, for MSWin32):

    $^X = /usr/perl5.24.1p/bin/perl5.24.1
    $UID/$EUID = 1023 / 1023
    $GID = 1023 1023
    $EGID = 1023 1023

Perl module toolchain versions installed:

    Module              Have    
    ------------------- --------
    CPAN                2.28    
    CPAN::Meta          2.150010
    Cwd                 3.75    
    ExtUtils::CBuilder  0.280235
    ExtUtils::Command   7.58    
    ExtUtils::Install   2.20    
    ExtUtils::MakeMaker 7.58    
    ExtUtils::Manifest  1.71    
    ExtUtils::ParseXS   3.35    
    File::Spec          3.75    
    JSON                4.03    
    JSON::PP            4.05    
    Module::Build       0.4229  
    Module::Signature   0.87    
    Parse::CPAN::Meta   2.150010
    Test::Harness       3.42    
    Test::More          1.302183
    YAML                1.30    
    YAML::Syck          1.34    
    version             0.9928  


--

Summary of my perl5 (revision 5 version 24 subversion 1) configuration:
   
  Platform:
    osname=freebsd, osvers=10.1-release, archname=amd64-freebsd
    uname='freebsd cvrsnica-freebsd-101.herceg.de 10.1-release freebsd 10.1-release #0 r274401: tue nov 11 21:02:49 utc 2014 root@releng1.nyi.freebsd.org:usrobjusrsrcsysgeneric amd64 '
    config_args='-ds -e -Dprefix=/usr/perl5.24.1p -Dcf_email=srezic@cpan.org -Doptimize=-O2 -pipe'
    hint=recommended, useposix=true, d_sigaction=define
    useithreads=undef, usemultiplicity=undef
    use64bitint=define, use64bitall=define, uselongdouble=undef
    usemymalloc=n, bincompat5005=undef
  Compiler:
    cc='cc', ccflags ='-DHAS_FPSETMASK -DHAS_FLOATINGPOINT_H -fno-strict-aliasing -pipe -fstack-protector -I/usr/local/include -D_FORTIFY_SOURCE=2',
    optimize='-O2 -pipe',
    cppflags='-DHAS_FPSETMASK -DHAS_FLOATINGPOINT_H -fno-strict-aliasing -pipe -fstack-protector -I/usr/local/include'
    ccversion='', gccversion='4.2.1 Compatible FreeBSD Clang 3.4.1 (tags/RELEASE_34/dot1-final 208032)', gccosandvers=''
    intsize=4, longsize=8, ptrsize=8, doublesize=8, byteorder=12345678, doublekind=3
    d_longlong=define, longlongsize=8, d_longdbl=define, longdblsize=16, longdblkind=3
    ivtype='long', ivsize=8, nvtype='double', nvsize=8, Off_t='off_t', lseeksize=8
    alignbytes=8, prototype=define
  Linker and Libraries:
    ld='cc', ldflags ='-pthread -Wl,-E  -fstack-protector -L/usr/local/lib'
    libpth=/usr/lib /usr/local/lib /usr/include/clang/3.4.1 /usr/lib
    libs=-lpthread -lgdbm -lm -lcrypt -lutil -lc
    perllibs=-lpthread -lm -lcrypt -lutil -lc
    libc=, so=so, useshrplib=false, libperl=libperl.a
    gnulibc_version=''
  Dynamic Linking:
    dlsrc=dl_dlopen.xs, dlext=so, d_dlsymun=undef, ccdlflags=' '
    cccdlflags='-DPIC -fPIC', lddlflags='-shared  -L/usr/local/lib -fstack-protector'


Characteristics of this binary (from libperl): 
  Compile-time options: HAS_TIMES PERLIO_LAYERS PERL_COPY_ON_WRITE
                        PERL_DONT_CREATE_GVSV
                        PERL_HASH_FUNC_ONE_AT_A_TIME_HARD PERL_MALLOC_WRAP
                        PERL_PRESERVE_IVUV USE_64_BIT_ALL USE_64_BIT_INT
                        USE_LARGE_FILES USE_LOCALE USE_LOCALE_COLLATE
                        USE_LOCALE_CTYPE USE_LOCALE_NUMERIC USE_LOCALE_TIME
                        USE_PERLIO USE_PERL_ATOF
  Built under freebsd
  Compiled at Jan 15 2017 11:45:26
  %ENV:
    PERL5LIB=""
    PERL5OPT=""
    PERL5_CPANPLUS_IS_RUNNING="14582"
    PERL5_CPAN_IS_RUNNING="14582"
    PERL5_CPAN_IS_RUNNING_IN_RECURSION="5067,14582"
    PERLDOC="-MPod::Perldoc::ToTextOverstrike"
    PERL_BATCH="yes"
    PERL_CANARY_STABILITY_NOPROMPT="1"
    PERL_CPAN_REPORTER_CONFIG="/var/tmp/cpansmoker-1023/2021021222/cpanreporter_000_config.ini"
    PERL_EXTUTILS_AUTOINSTALL="--defaultdeps"
    PERL_USE_UNSAFE_INC="1"
  @INC:
    /usr/perl5.24.1p/lib/site_perl/5.24.1/amd64-freebsd
    /usr/perl5.24.1p/lib/site_perl/5.24.1
    /usr/perl5.24.1p/lib/5.24.1/amd64-freebsd
    /usr/perl5.24.1p/lib/5.24.1
    .