Test-Moose-More v0.050 Perl 5 v5.24.0 amd64-freebsd
- Status
- Pass
- From
- Slaven Rezić (SREZIC)
- Dist
-
Test-Moose-More v0.050
- Platform
- Perl 5 v5.24.0 amd64-freebsd
- Date
- 2017-12-09 21:03:19
- ID
- 627f9a70-dd24-11e7-bf11-d33ae59fc5e0
This distribution has been tested as part of the CPAN Testers
project, supporting the Perl programming language. See
http://wiki.cpantesters.org/ for more information or email
questions to cpan-testers-discuss@perl.org
--
Dear Chris Weyl,
This is a computer-generated report for Test-Moose-More-0.050
on perl 5.24.0, created by CPAN-Reporter-1.2018.
Thank you for uploading your work to CPAN. Congratulations!
All tests were successful.
Sections of this report:
* Tester comments
* Program output
* Prerequisites
* Environment and other context
------------------------------
TESTER COMMENTS
------------------------------
Additional comments from tester:
none provided
------------------------------
PROGRAM OUTPUT
------------------------------
Output from '/usr/bin/make test':
PERL_DL_NONLAZY=1 "/usr/perl5.24.0p/bin/perl5.24.0" "-MExtUtils::Command::MM" "-MTest::Harness" "-e" "undef *Test::Harness::Switches; test_harness(0, 'blib/lib', 'blib/arch')" t/*.t t/attribute_options_ok/*.t t/is_class_ok/*.t t/validate_attribute/*.t t/validate_class/*.t t/validate_role/*.t t/validate_thing/*.t t/wrapped/*.t
t/00-check-deps.t ...................................... ok
t/00-compile.t ......................................... ok
#
# Versions for all modules listed in MYMETA.json (including optional ones):
#
# === Configure Requires ===
#
# Module Want Have
# ------------------- ---- -------
# ExtUtils::MakeMaker any 7.10_01
#
# === Build Requires ===
#
# Module Want Have
# ------------------- ---- -------
# ExtUtils::MakeMaker any 7.10_01
#
# === Test Requires ===
#
# Module Want Have
# ---------------------- ----- --------
# ExtUtils::MakeMaker any 7.10_01
# File::Spec any 3.63
# IO::Handle any 1.36
# IPC::Open3 any 1.20
# List::Util 1.45 1.45
# Moose any 2.1804
# Moose::Meta::Attribute any 2.1804
# Moose::Role any 2.1804
# Moose::Util::MetaRole any 2.1804
# TAP::SimpleOutput 0.009 0.009
# Test::Builder::Tester any 1.302086
# Test::CheckDeps 0.010 0.010
# Test::More 0.94 1.302086
# namespace::autoclean any 0.28
#
# === Test Recommends ===
#
# Module Want Have
# ---------- -------- --------
# CPAN::Meta 2.120900 2.150005
#
# === Runtime Requires ===
#
# Module Want Have
# ---------------------------- ---- --------
# Carp any 1.40
# Data::OptList any 0.110
# List::MoreUtils any 0.415
# List::Util 1.45 1.45
# Moose::Util any 2.1804
# Moose::Util::TypeConstraints any 2.1804
# Scalar::Util any 1.45
# Sub::Exporter::Progressive any 0.001011
# Syntax::Keyword::Junction any 0.003008
# Test::Builder any 1.302086
# Test::Moose any 2.1804
# Test::More 0.94 1.302086
# strict any 1.11
# warnings any 1.36
#
t/00-report-prereqs.t .................................. ok
t/attribute_options_ok/basic.t ......................... ok
t/attribute_options_ok/subtest-wrapper.t ............... ok
t/check_sugar.t ........................................ ok
t/definition_context.t ................................. ok
t/does_metaroles_ok.t .................................. ok
t/does_not_metaroles_ok.t .............................. ok
t/does_not_ok.t ........................................ ok
t/does_ok.t ............................................ ok
t/has_attribute_ok.t ................................... ok
t/is_anon_ok.t ......................................... ok
t/is_class_ok/basic.t .................................. ok
t/is_class_ok/moose-meta-attribute-should-be-moosey.t .. ok
t/is_immutable_ok.t .................................... ok
t/is_not_anon_ok.t ..................................... ok
t/is_role_ok.t ......................................... ok
t/meta_ok.t ............................................ ok
t/method_from_pkg_ok.t ................................. ok
t/method_is_accessor_ok.t .............................. ok
t/method_is_not_accessor_ok.t .......................... ok
t/method_not_from_pkg_ok.t ............................. ok
t/method_ok.t .......................................... ok
t/no_meta_ok.t ......................................... ok
t/pristine_ok.t ........................................ ok
t/requires_method_ok.t ................................. ok
t/subtest-1.t .......................................... ok
t/validate_attribute/basic.t ........................... ok
t/validate_attribute/coerce.t .......................... ok
t/validate_attribute/in_roles.t ........................ ok
t/validate_attribute/lazy.t ............................ ok
t/validate_attribute/required.t ........................ ok
t/validate_class/basic.t ............................... ok
t/validate_class/metaclasses.t ......................... ok
t/validate_class/metaroles.t ........................... ok
t/validate_class/methods.t ............................. ok
t/validate_role/basic.t ................................ ok
t/validate_role/compose.t .............................. ok
t/validate_role/metaclasses.t .......................... ok
t/validate_role/metaroles.t ............................ ok
t/validate_thing/metaclasses.t ......................... ok
t/validate_thing/methods.t ............................. ok
t/validate_thing/sugar.t ............................... ok
t/wrapped/in_roles.t ................................... ok
All tests successful.
Test Summary Report
-------------------
t/00-check-deps.t (Wstat: 0 Tests: 32 Failed: 0)
TODO passed: 32
Files=45, Tests=235, 26 wallclock secs ( 0.28 usr 0.11 sys + 23.11 cusr 2.67 csys = 26.17 CPU)
Result: PASS
------------------------------
PREREQUISITES
------------------------------
Prerequisite modules loaded:
requires:
Module Need Have
---------------------------- ----- --------
Carp 0 1.40
Data::OptList 0 0.110
List::MoreUtils 0 0.415
List::Util 1.45 1.45
Moose::Util 0 2.1804
Moose::Util::TypeConstraints 0 2.1804
perl 5.006 5.024000
Scalar::Util 0 1.45
strict 0 1.11
Sub::Exporter::Progressive 0 0.001011
Syntax::Keyword::Junction 0 0.003008
Test::Builder 0 1.302086
Test::Moose 0 2.1804
Test::More 0.94 1.302086
warnings 0 1.36
build_requires:
Module Need Have
---------------------------- ----- --------
ExtUtils::MakeMaker 0 7.10_01
File::Spec 0 3.63
IO::Handle 0 1.36
IPC::Open3 0 1.20
List::Util 1.45 1.45
! Moose 0 broken
! Moose::Meta::Attribute 0 broken
! Moose::Role 0 broken
Moose::Util::MetaRole 0 2.1804
namespace::autoclean 0 0.28
TAP::SimpleOutput 0.009 0.009
Test::Builder::Tester 0 1.302086
Test::CheckDeps 0.010 0.010
Test::More 0.94 1.302086
configure_requires:
Module Need Have
---------------------------- ----- --------
ExtUtils::MakeMaker 0 7.10_01
perl 5.006 5.024000
------------------------------
ENVIRONMENT AND OTHER CONTEXT
------------------------------
Environment variables:
LC_ALL = de_DE.UTF-8
PATH = /usr/local/bin:/usr/bin:/bin:/usr/local/sbin:/usr/sbin:/sbin:/home/e/eserte/bin/freebsd9.1:/home/e/eserte/bin/sh:/home/e/eserte/bin:/home/e/eserte/bin/pistachio-perl/bin:/usr/games:/home/e/eserte/devel:/home/e/eserte/src/srezic-misc/scripts
PERL5LIB =
PERL5OPT =
PERL5_CPANPLUS_IS_RUNNING = 90940
PERL5_CPAN_IS_RUNNING = 90940
PERL5_CPAN_IS_RUNNING_IN_RECURSION = 90905,90940
PERLDOC = -MPod::Perldoc::ToTextOverstrike
PERL_BATCH = yes
PERL_CANARY_STABILITY_NOPROMPT = 1
PERL_CPAN_REPORTER_CONFIG = /var/tmp/cpansmoker-1000/2017120921/cpanreporter_000_config.ini
PERL_EXTUTILS_AUTOINSTALL = --defaultdeps
SHELL = /usr/local/bin/zsh
TERM = screen
TMPDIR = /var/tmp/cpansmoker-1000/2017120921
Perl special variables (and OS-specific diagnostics, for MSWin32):
$^X = /usr/perl5.24.0p/bin/perl5.24.0
$UID/$EUID = 1000 / 1000
$GID = 1000 1000 0 5 1023 1024
$EGID = 1000 1000 0 5 1023 1024
Perl module toolchain versions installed:
Module Have
------------------- --------
CPAN 2.11
CPAN::Meta 2.150005
Cwd 3.63
ExtUtils::CBuilder 0.280225
ExtUtils::Command 7.10
ExtUtils::Install 2.04
ExtUtils::MakeMaker 7.10_01
ExtUtils::Manifest 1.70
ExtUtils::ParseXS 3.31
File::Spec 3.63
JSON 2.90
JSON::PP 2.27300
Module::Build 0.4218
Module::Signature 0.81
Parse::CPAN::Meta 1.4417
Test::Harness 3.36
Test::More 1.302086
YAML 1.15
YAML::Syck 1.29
version 0.9916
--
Summary of my perl5 (revision 5 version 24 subversion 0) configuration:
Platform:
osname=freebsd, osvers=9.2-release, archname=amd64-freebsd
uname='freebsd cvrsnica.herceg.de 9.2-release freebsd 9.2-release #0 r255898: thu sep 26 22:50:31 utc 2013 root@bake.isc.freebsd.org:usrobjusrsrcsysgeneric amd64 '
config_args='-ds -e -Dprefix=/usr/perl5.24.0p -Dcf_email=srezic@cpan.org -Doptimize=-O2 -pipe'
hint=recommended, useposix=true, d_sigaction=define
useithreads=undef, usemultiplicity=undef
use64bitint=define, use64bitall=define, uselongdouble=undef
usemymalloc=n, bincompat5005=undef
Compiler:
cc='cc', ccflags ='-DHAS_FPSETMASK -DHAS_FLOATINGPOINT_H -fno-strict-aliasing -pipe -fstack-protector -I/usr/local/include -D_FORTIFY_SOURCE=2',
optimize='-O2 -pipe',
cppflags='-DHAS_FPSETMASK -DHAS_FLOATINGPOINT_H -fno-strict-aliasing -pipe -fstack-protector -I/usr/local/include'
ccversion='', gccversion='4.2.1 20070831 patched [FreeBSD]', gccosandvers=''
intsize=4, longsize=8, ptrsize=8, doublesize=8, byteorder=12345678, doublekind=3
d_longlong=define, longlongsize=8, d_longdbl=define, longdblsize=16, longdblkind=3
ivtype='long', ivsize=8, nvtype='double', nvsize=8, Off_t='off_t', lseeksize=8
alignbytes=8, prototype=define
Linker and Libraries:
ld='cc', ldflags ='-pthread -Wl,-E -fstack-protector -L/usr/local/lib'
libpth=/usr/lib /usr/local/lib /usr/include/gcc/4.2 /usr/lib
libs=-lpthread -lgdbm -lm -lcrypt -lutil -lc
perllibs=-lpthread -lm -lcrypt -lutil -lc
libc=, so=so, useshrplib=false, libperl=libperl.a
gnulibc_version=''
Dynamic Linking:
dlsrc=dl_dlopen.xs, dlext=so, d_dlsymun=undef, ccdlflags=' '
cccdlflags='-DPIC -fPIC', lddlflags='-shared -L/usr/local/lib -fstack-protector'
Characteristics of this binary (from libperl):
Compile-time options: HAS_TIMES PERLIO_LAYERS PERL_COPY_ON_WRITE
PERL_DONT_CREATE_GVSV
PERL_HASH_FUNC_ONE_AT_A_TIME_HARD PERL_MALLOC_WRAP
PERL_PRESERVE_IVUV USE_64_BIT_ALL USE_64_BIT_INT
USE_LARGE_FILES USE_LOCALE USE_LOCALE_COLLATE
USE_LOCALE_CTYPE USE_LOCALE_NUMERIC USE_LOCALE_TIME
USE_PERLIO USE_PERL_ATOF
Built under freebsd
Compiled at Jun 4 2016 12:15:36
%ENV:
PERL5LIB=""
PERL5OPT=""
PERL5_CPANPLUS_IS_RUNNING="90940"
PERL5_CPAN_IS_RUNNING="90940"
PERL5_CPAN_IS_RUNNING_IN_RECURSION="90905,90940"
PERLDOC="-MPod::Perldoc::ToTextOverstrike"
PERL_BATCH="yes"
PERL_CANARY_STABILITY_NOPROMPT="1"
PERL_CPAN_REPORTER_CONFIG="/var/tmp/cpansmoker-1000/2017120921/cpanreporter_000_config.ini"
PERL_EXTUTILS_AUTOINSTALL="--defaultdeps"
@INC:
/usr/perl5.24.0p/lib/site_perl/5.24.0/amd64-freebsd
/usr/perl5.24.0p/lib/site_perl/5.24.0
/usr/perl5.24.0p/lib/5.24.0/amd64-freebsd
/usr/perl5.24.0p/lib/5.24.0
.