Business-CyberSource v0.010008 Perl 5 v5.29.9 OpenBSD.amd64-openbsd-thread-multi

Status
Pass
From
Alceu Rodrigues de Freitas Junior
Dist
Business-CyberSource v0.010008
Platform
Perl 5 v5.29.9 OpenBSD.amd64-openbsd-thread-multi
Date
2019-03-31 02:40:44
ID
620aca7c-535e-11e9-b74b-c5f737ac362d
This distribution has been tested as part of the CPAN Testers
project, supporting the Perl programming language.  See
http://wiki.cpantesters.org/ for more information or email
questions to cpan-testers-discuss@perl.org


--
Dear Allie Gator,

This is a computer-generated report for Business-CyberSource-0.010008
on perl 5.29.9, created by CPAN-Reporter-1.2018.

Thank you for uploading your work to CPAN.  Congratulations!
All tests were successful.

Sections of this report:

    * Tester comments
    * Program output
    * Prerequisites
    * Environment and other context

------------------------------
TESTER COMMENTS
------------------------------

Additional comments from tester:

this report is from an automated smoke testing program
and was not reviewed by a human for accuracy

------------------------------
PROGRAM OUTPUT
------------------------------

Output from '/usr/bin/make test':

Skip blib/lib/auto/share/dist/Business-CyberSource/production/CyberSourceTransaction_1_71.wsdl (unchanged)
Skip blib/lib/auto/share/dist/Business-CyberSource/test/CyberSourceTransaction_1_71.wsdl (unchanged)
Skip blib/lib/auto/share/dist/Business-CyberSource/test/CyberSourceTransaction_1_71.xsd (unchanged)
Skip blib/lib/auto/share/dist/Business-CyberSource/production/CyberSourceTransaction_1_71.xsd (unchanged)
PERL_DL_NONLAZY=1 "/home/vegeta/perl5/perlbrew/perls/perl-5.29.9/bin/perl5.29.9" "-MExtUtils::Command::MM" "-MTest::Harness" "-e" "undef *Test::Harness::Switches; test_harness(0, 'blib/lib', 'blib/arch')" t/*.t
t/00-compile.t ............................. ok
# 
# Versions for all modules listed in MYMETA.json (including optional ones):
# 
# === Configure Requires ===
# 
#     Module                  Want    Have
#     ----------------------- ---- -------
#     ExtUtils::MakeMaker      any 7.35_10
#     File::ShareDir::Install 0.06    0.13
# 
# === Build Requires ===
# 
#     Module              Want    Have
#     ------------------- ---- -------
#     ExtUtils::MakeMaker  any 7.35_10
# 
# === Test Requires ===
# 
#     Module               Want     Have
#     -------------------- ---- --------
#     Business::CreditCard 0.32     0.36
#     DateTime              any     1.50
#     ExtUtils::MakeMaker   any  7.35_10
#     File::Spec            any     3.77
#     FindBin               any     1.51
#     IO::Handle            any     1.39
#     IPC::Open3            any     1.20
#     Test::Deep            any    1.128
#     Test::Fatal           any    0.015
#     Test::Method          any 0.001002
#     Test::Moose           any   2.2011
#     Test::More            any 1.302162
#     Test::Requires        any     0.10
#     blib                 1.01     1.07
#     lib                   any     0.65
# 
# === Test Recommends ===
# 
#     Module           Want     Have
#     ------------ -------- --------
#     Bread::Board     0.25     0.36
#     CPAN::Meta   2.120900 2.150010
# 
# === Runtime Requires ===
# 
#     Module                                           Want      Have
#     -------------------------------------------- -------- ---------
#     Business::CreditCard                             0.32      0.36
#     DateTime::Format::W3CDTF                         0.06   0.07_01
#     File::ShareDir::ProjectDistDir                  1.000  1.000009
#     LWP::Protocol::https                              any      6.07
#     Module::Load                                      any      0.34
#     Module::Runtime                                   any     0.016
#     Moose                                             any    2.2011
#     Moose::Exception                                  any    2.2011
#     Moose::Exception::AttributeIsRequired             any    2.2011
#     Moose::Role                                       any    2.2011
#     Moose::Util                                       any    2.2011
#     Moose::Util::TypeConstraints                      any    2.2011
#     MooseX::AbstractFactory                           any  0.004003
#     MooseX::Aliases                                   any      0.11
#     MooseX::RemoteHelper                              any  0.001021
#     MooseX::RemoteHelper::CompositeSerialization      any  0.001021
#     MooseX::RemoteHelper::Types                       any  0.001021
#     MooseX::SetOnce                              0.200001  0.200002
#     MooseX::Types                                     any      0.50
#     MooseX::Types::Common::Numeric               0.001003  0.001014
#     MooseX::Types::Common::String                0.001005  0.001014
#     MooseX::Types::CreditCard                       0.002  0.002003
#     MooseX::Types::DateTime                           any      0.13
#     MooseX::Types::DateTime::W3C                      any  1.103360
#     MooseX::Types::Email                              any     0.008
#     MooseX::Types::Locale::Country                    any      0.05
#     MooseX::Types::Locale::Currency                   any  0.001005
#     MooseX::Types::Moose                              any      0.50
#     MooseX::Types::NetAddr::IP                        any      0.07
#     MooseY::RemoteHelper::MessagePart                 any  0.001021
#     MooseY::RemoteHelper::Role::Client                any  0.001021
#     Type::Params                                      any 1.005_003
#     Type::Utils                                     0.040 1.005_003
#     Types::Standard                                   any 1.005_003
#     XML::Compile::SOAP11                              any      3.24
#     XML::Compile::SOAP::WSS                          1.04      1.14
#     XML::Compile::Transport::SOAPHTTP                 any      3.24
#     XML::Compile::WSDL11                              any      3.07
#     namespace::autoclean                              any      0.28
#     strict                                            any      1.11
#     warnings                                          any      1.44
# 
t/00-report-prereqs.t ...................... ok
t/auth-reversal.t .......................... ok
street deprecated check the perldoc for the actual attribute at /home/vegeta/perl5/perlbrew/perls/perl-5.29.9/lib/site_perl/5.29.9/OpenBSD.amd64-openbsd-thread-multi/Class/MOP/Method/Wrapped.pm line 164.
street deprecated check the perldoc for the actual attribute at /home/vegeta/perl5/perlbrew/perls/perl-5.29.9/lib/site_perl/5.29.9/OpenBSD.amd64-openbsd-thread-multi/Class/MOP/Method/Wrapped.pm line 164.
street deprecated check the perldoc for the actual attribute at /home/vegeta/perl5/perlbrew/perls/perl-5.29.9/lib/site_perl/5.29.9/OpenBSD.amd64-openbsd-thread-multi/Class/MOP/Method/Wrapped.pm line 164.
t/authorization.t .......................... ok
street deprecated check the perldoc for the actual attribute at /home/vegeta/perl5/perlbrew/perls/perl-5.29.9/lib/site_perl/5.29.9/OpenBSD.amd64-openbsd-thread-multi/Class/MOP/Method/Wrapped.pm line 164.
zip deprecated check the perldoc for the actual attribute at /home/vegeta/perl5/perlbrew/perls/perl-5.29.9/lib/site_perl/5.29.9/OpenBSD.amd64-openbsd-thread-multi/Class/MOP/Method/Wrapped.pm line 164.
street deprecated check the perldoc for the actual attribute at /home/vegeta/perl5/perlbrew/perls/perl-5.29.9/lib/site_perl/5.29.9/OpenBSD.amd64-openbsd-thread-multi/Class/MOP/Method/Wrapped.pm line 164.
street deprecated check the perldoc for the actual attribute at /home/vegeta/perl5/perlbrew/perls/perl-5.29.9/lib/site_perl/5.29.9/OpenBSD.amd64-openbsd-thread-multi/Class/MOP/Method/Wrapped.pm line 164.
t/billto-exceptions.t ...................... ok
t/billto.t ................................. ok
t/business-rules.t ......................... ok
t/capture.t ................................ ok
t/card.t ................................... ok
t/client.t ................................. ok
street deprecated check the perldoc for the actual attribute at /home/vegeta/perl5/perlbrew/perls/perl-5.29.9/lib/site_perl/5.29.9/OpenBSD.amd64-openbsd-thread-multi/Class/MOP/Method/Wrapped.pm line 164.
t/credit.t ................................. ok
t/dcc-autorization.t ....................... ok
t/dcc.t .................................... ok
t/error-exception.t ........................ ok
street deprecated check the perldoc for the actual attribute at /home/vegeta/perl5/perlbrew/perls/perl-5.29.9/lib/site_perl/5.29.9/OpenBSD.amd64-openbsd-thread-multi/Class/MOP/Method/Wrapped.pm line 164.
t/exceptions.t ............................. ok
t/factory-request.t ........................ ok
t/invoiceheader.t .......................... ok
t/item-serialization.t ..................... ok
t/items.t .................................. ok
t/othertax.t ............................... ok
t/purchase-totals.t ........................ ok
t/response-removed-methods-successfully.t .. ok
t/response-sale.t .......................... ok
t/response.t ............................... ok
t/rule-expired-card.t ...................... skipped: Unable to send with fake credentials. Set both PERL_BUSINESS_CYBERSOURCE_USERNAME and PERL_BUSINESS_CYBERSOURCE_PASSWORD in the environment
t/rule-request-id-is-zero.t ................ skipped: Unable to send with fake credentials. Set both PERL_BUSINESS_CYBERSOURCE_USERNAME and PERL_BUSINESS_CYBERSOURCE_PASSWORD in the environment
t/service.t ................................ ok
t/shipfrom.t ............................... ok
t/shipto-exceptions.t ...................... ok
t/shipto.t ................................. ok
All tests successful.
Files=30, Tests=313, 93 wallclock secs ( 0.06 usr  0.25 sys + 70.11 cusr 17.10 csys = 87.52 CPU)
Result: PASS

------------------------------
PREREQUISITES
------------------------------

Prerequisite modules loaded:

requires:

    Module                                       Need     Have     
    -------------------------------------------- -------- ---------
    Business::CreditCard                         0.32     0.36     
    DateTime::Format::W3CDTF                     0.06     0.07_01  
    File::ShareDir::ProjectDistDir               1.000    1.000009 
    LWP::Protocol::https                         0        6.07     
    Module::Load                                 0        0.34     
    Module::Runtime                              0        0.016    
    Moose                                        0        2.2011   
    Moose::Exception                             0        2.2011   
    Moose::Exception::AttributeIsRequired        0        2.2011   
    Moose::Role                                  0        2.2011   
    Moose::Util                                  0        2.2011   
    Moose::Util::TypeConstraints                 0        2.2011   
    MooseX::AbstractFactory                      0        0.004003 
    MooseX::Aliases                              0        0.11     
    MooseX::RemoteHelper                         0        0.001021 
    MooseX::RemoteHelper::CompositeSerialization 0        0.001021 
    MooseX::RemoteHelper::Types                  0        0.001021 
    MooseX::SetOnce                              0.200001 0.200002 
    MooseX::Types                                0        0.50     
    MooseX::Types::Common::Numeric               0.001003 0.001014 
    MooseX::Types::Common::String                0.001005 0.001014 
    MooseX::Types::CreditCard                    0.002    0.002003 
    MooseX::Types::DateTime                      0        0.13     
    MooseX::Types::DateTime::W3C                 0        1.103360 
    MooseX::Types::Email                         0        0.008    
    MooseX::Types::Locale::Country               0        0.05     
    MooseX::Types::Locale::Currency              0        0.001005 
    MooseX::Types::Moose                         0        0.50     
    MooseX::Types::NetAddr::IP                   0        0.07     
    MooseY::RemoteHelper::MessagePart            0        0.001021 
    MooseY::RemoteHelper::Role::Client           0        0.001021 
    namespace::autoclean                         0        0.28     
    perl                                         5.010    5.029009 
    strict                                       0        1.11     
    Type::Params                                 0        1.005_003
    Type::Utils                                  0.040    1.005_003
    Types::Standard                              0        1.005_003
    warnings                                     0        1.44     
    XML::Compile::SOAP11                         0        3.24     
    XML::Compile::SOAP::WSS                      1.04     1.14     
    XML::Compile::Transport::SOAPHTTP            0        3.24     
    XML::Compile::WSDL11                         0        3.07     

build_requires:

    Module                                       Need     Have     
    -------------------------------------------- -------- ---------
    blib                                         1.01     1.07     
    Business::CreditCard                         0.32     0.36     
    DateTime                                     0        1.50     
    ExtUtils::MakeMaker                          0        7.35_10  
    File::Spec                                   0        3.77     
    FindBin                                      0        1.51     
    IO::Handle                                   0        1.39     
    IPC::Open3                                   0        1.20     
    lib                                          0        0.65     
    Test::Deep                                   0        1.128    
    Test::Fatal                                  0        0.015    
    Test::Method                                 0        0.001002 
    Test::Moose                                  0        2.2011   
    Test::More                                   0        1.302162 
    Test::Requires                               0        0.10     

configure_requires:

    Module                                       Need     Have     
    -------------------------------------------- -------- ---------
    ExtUtils::MakeMaker                          0        7.35_10  
    File::ShareDir::Install                      0.06     0.13     

opt_build_requires:

    Module                                       Need     Have     
    -------------------------------------------- -------- ---------
    Bread::Board                                 0.25     0.36     
    CPAN::Meta                                   2.120900 2.150010 


------------------------------
ENVIRONMENT AND OTHER CONTEXT
------------------------------

Environment variables:

    AUTOMATED_TESTING = 1
    DBD_MYSQL_TESTDB = test
    DBD_MYSQL_TESTHOST = localhost
    DBD_MYSQL_TESTPASSWORD = 
    DBD_MYSQL_TESTPORT = 3306
    DBD_MYSQL_TESTUSER = vegeta
    EXTENDED_TESTING = 1
    PATH = /home/vegeta/perl5/perlbrew/bin:/home/vegeta/perl5/perlbrew/perls/perl-5.29.9/bin:/home/vegeta/bin:/usr/bin:/bin:/usr/sbin:/sbin:/usr/X11R6/bin:/usr/local/bin:/usr/local/sbin
    PERL5LIB = 
    PERL5OPT = 
    PERL5_CPANPLUS_IS_RUNNING = 45804
    PERL5_CPAN_IS_RUNNING = 45804
    PERL5_CPAN_IS_RUNNING_IN_RECURSION = 30386,45804
    PERLBREW_HOME = /home/vegeta/.perlbrew
    PERLBREW_MANPATH = /home/vegeta/perl5/perlbrew/perls/perl-5.29.9/man
    PERLBREW_PATH = /home/vegeta/perl5/perlbrew/bin:/home/vegeta/perl5/perlbrew/perls/perl-5.29.9/bin
    PERLBREW_PERL = perl-5.29.9
    PERLBREW_ROOT = /home/vegeta/perl5/perlbrew
    PERLBREW_SHELLRC_VERSION = 0.86
    PERLBREW_VERSION = 0.86
    PERL_CR_SMOKER_CURRENT = Business-CyberSource-0.010008
    PERL_EXTUTILS_AUTOINSTALL = --defaultdeps
    PERL_MM_USE_DEFAULT = 1
    PERL_USE_UNSAFE_INC = 1
    SHELL = /usr/local/bin/bash
    TERM = xterm

Perl special variables (and OS-specific diagnostics, for MSWin32):

    $^X = /home/vegeta/perl5/perlbrew/perls/perl-5.29.9/bin/perl5.29.9
    $UID/$EUID = 1002 / 1002
    $GID = 1002 1002 1001
    $EGID = 1002 1002 1001

Perl module toolchain versions installed:

    Module              Have    
    ------------------- --------
    CPAN                2.26    
    CPAN::Meta          2.150010
    Cwd                 3.77    
    ExtUtils::CBuilder  0.280230
    ExtUtils::Command   7.35_10 
    ExtUtils::Install   2.14    
    ExtUtils::MakeMaker 7.35_10 
    ExtUtils::Manifest  1.72    
    ExtUtils::ParseXS   3.35    
    File::Spec          3.77    
    JSON                4.02    
    JSON::PP            4.02    
    Module::Build       0.42_28 
    Module::Signature   n/a     
    Parse::CPAN::Meta   2.150010
    Test::Harness       3.43_01 
    Test::More          1.302162
    YAML                1.27    
    YAML::Syck          n/a     
    version             0.9924  


--

Summary of my perl5 (revision 5 version 29 subversion 9) configuration:
   
  Platform:
    osname=openbsd
    osvers=6.4
    archname=OpenBSD.amd64-openbsd-thread-multi
    uname='openbsd cpan-smoker-openbsd 6.4 generic.mp#364 amd64 '
    config_args='-de -Dprefix=/home/vegeta/perl5/perlbrew/perls/perl-5.29.9 -Dman1dir=none -Dman3dir=none -Dusemultiplicity -Duse64bitall -Dusethreads -Duse64bitint -Dusedevel -Aeval:scriptdir=/home/vegeta/perl5/perlbrew/perls/perl-5.29.9/bin'
    hint=recommended
    useposix=true
    d_sigaction=define
    useithreads=define
    usemultiplicity=define
    use64bitint=define
    use64bitall=define
    uselongdouble=undef
    usemymalloc=n
    default_inc_excludes_dot=define
    bincompat5005=undef
  Compiler:
    cc='cc'
    ccflags ='-pthread -fno-strict-aliasing -pipe -fstack-protector-strong -I/usr/local/include -D_FORTIFY_SOURCE=2'
    optimize='-O2'
    cppflags='-pthread -fno-strict-aliasing -pipe -fstack-protector-strong -I/usr/local/include'
    ccversion=''
    gccversion='4.2.1 Compatible OpenBSD Clang 6.0.0 (tags/RELEASE_600/final)'
    gccosandvers=''
    intsize=4
    longsize=8
    ptrsize=8
    doublesize=8
    byteorder=12345678
    doublekind=3
    d_longlong=define
    longlongsize=8
    d_longdbl=define
    longdblsize=16
    longdblkind=3
    ivtype='long'
    ivsize=8
    nvtype='double'
    nvsize=8
    Off_t='off_t'
    lseeksize=8
    alignbytes=8
    prototype=define
  Linker and Libraries:
    ld='cc'
    ldflags ='-pthread -Wl,-E  -fstack-protector-strong -L/usr/local/lib'
    libpth=/usr/lib /usr/local/lib
    libs=-lpthread -lm -lutil -lc
    perllibs=-lpthread -lm -lutil -lc
    libc=/usr/lib/libc.so.92.5
    so=so
    useshrplib=false
    libperl=libperl.a
    gnulibc_version=''
  Dynamic Linking:
    dlsrc=dl_dlopen.xs
    dlext=so
    d_dlsymun=undef
    ccdlflags=' '
    cccdlflags='-DPIC -fPIC '
    lddlflags='-shared -fPIC  -L/usr/local/lib -fstack-protector-strong'


Characteristics of this binary (from libperl): 
  Compile-time options:
    HAS_TIMES
    MULTIPLICITY
    PERLIO_LAYERS
    PERL_COPY_ON_WRITE
    PERL_DONT_CREATE_GVSV
    PERL_IMPLICIT_CONTEXT
    PERL_MALLOC_WRAP
    PERL_OP_PARENT
    PERL_PRESERVE_IVUV
    PERL_USE_DEVEL
    USE_64_BIT_ALL
    USE_64_BIT_INT
    USE_ITHREADS
    USE_LARGE_FILES
    USE_LOCALE
    USE_LOCALE_COLLATE
    USE_LOCALE_CTYPE
    USE_LOCALE_NUMERIC
    USE_LOCALE_TIME
    USE_PERLIO
    USE_PERL_ATOF
    USE_REENTRANT_API
    USE_THREAD_SAFE_LOCALE
  Locally applied patches:
    Devel::PatchPerl 1.52
  Built under openbsd
  Compiled at Mar 23 2019 11:53:14
  %ENV:
    PERL5LIB=""
    PERL5OPT=""
    PERL5_CPANPLUS_IS_RUNNING="45804"
    PERL5_CPAN_IS_RUNNING="45804"
    PERL5_CPAN_IS_RUNNING_IN_RECURSION="30386,45804"
    PERLBREW_HOME="/home/vegeta/.perlbrew"
    PERLBREW_MANPATH="/home/vegeta/perl5/perlbrew/perls/perl-5.29.9/man"
    PERLBREW_PATH="/home/vegeta/perl5/perlbrew/bin:/home/vegeta/perl5/perlbrew/perls/perl-5.29.9/bin"
    PERLBREW_PERL="perl-5.29.9"
    PERLBREW_ROOT="/home/vegeta/perl5/perlbrew"
    PERLBREW_SHELLRC_VERSION="0.86"
    PERLBREW_VERSION="0.86"
    PERL_CR_SMOKER_CURRENT="Business-CyberSource-0.010008"
    PERL_EXTUTILS_AUTOINSTALL="--defaultdeps"
    PERL_MM_USE_DEFAULT="1"
    PERL_USE_UNSAFE_INC="1"
  @INC:
    /home/vegeta/perl5/perlbrew/perls/perl-5.29.9/lib/site_perl/5.29.9/OpenBSD.amd64-openbsd-thread-multi
    /home/vegeta/perl5/perlbrew/perls/perl-5.29.9/lib/site_perl/5.29.9
    /home/vegeta/perl5/perlbrew/perls/perl-5.29.9/lib/5.29.9/OpenBSD.amd64-openbsd-thread-multi
    /home/vegeta/perl5/perlbrew/perls/perl-5.29.9/lib/5.29.9
    .