RSH-Logging v0.4.3 Perl 5 v5.27.5 x86_64-linux

Status
Pass
From
Slaven Rezić (SREZIC)
Dist
RSH-Logging v0.4.3
Platform
Perl 5 v5.27.5 x86_64-linux
Date
2017-10-28 21:24:28
ID
616b95ae-bc26-11e7-b686-8892b1ea9a90
This distribution has been tested as part of the CPAN Testers
project, supporting the Perl programming language.  See
http://wiki.cpantesters.org/ for more information or email
questions to cpan-testers-discuss@perl.org


--
Dear Matt Luker,

This is a computer-generated report for RSH-Logging-0.4.3
on perl 5.27.5, created by CPAN-Reporter-1.2018.

Thank you for uploading your work to CPAN.  Congratulations!
All tests were successful.

Sections of this report:

    * Tester comments
    * Program output
    * Prerequisites
    * Environment and other context

------------------------------
TESTER COMMENTS
------------------------------

Additional comments from tester:

none provided

------------------------------
PROGRAM OUTPUT
------------------------------

Output from '/usr/bin/make test':

PERL_DL_NONLAZY=1 "/bbbike/perl-5.27.5/bin/perl5.27.5" "-MExtUtils::Command::MM" "-MTest::Harness" "-e" "undef *Test::Harness::Switches; test_harness(0, 'inc', 'blib/lib', 'blib/arch')" t/000.load.t t/010.RSH-Logging.t t/011.RSH-Logging-chunking.t t/999.perlcritic.t t/999.pod-coverage.t t/999.pod.t
# Testing RSH::Logging 0.4.3
t/000.load.t .................. ok
TOTAL TIME 4.3e-05s (23255.814/s)
.----------------------------------------------------------------+-----------.
| Event                                                          | Time      |
+----------------------------------------------------------------+-----------+
| + foo                                                          | 0.000043s |
'----------------------------------------------------------------+-----------'

TOTAL TIME 0.011098s (90.106/s)
.----------------------------------------------------------------+-----------.
| Event                                                          | Time      |
+----------------------------------------------------------------+-----------+
| + foo                                                          | 0.011098s |
|   + sub1a                                                      | 0.011003s |
|     + sub2a                                                    | 0.000070s |
|     + sub2b                                                    | 0.000051s |
'----------------------------------------------------------------+-----------'

TOTAL TIME 0.000305s (3278.689/s)
.----------------------------------------------------------------+-----------.
| Event                                                          | Time      |
+----------------------------------------------------------------+-----------+
| + main                                                         | 0.000305s |
|   + main                                                       | 0.000213s |
|     + main                                                     | 0.000044s |
|     + main                                                     | 0.000042s |
'----------------------------------------------------------------+-----------'

DEBUG Logging.pm:407, RSH::Logging::__ANON__: TOTAL TIME 0.001137s (879.507/s)
.----------------------------------------------------------------+-----------.
| Event                                                          | Time      |
+----------------------------------------------------------------+-----------+
| + foo                                                          | 0.001137s |
|   + sub1a                                                      | 0.001039s |
|     + sub2a                                                    | 0.000041s |
|     + sub2b                                                    | 0.000852s |
'----------------------------------------------------------------+-----------'

TOTAL TIME 0.000292s (3424.658/s)
.----------------------------------------------------------------+-----------.
| Event                                                          | Time      |
+----------------------------------------------------------------+-----------+
| + foo                                                          | 0.000292s |
|   + sub1a                                                      | 0.000205s |
|     + sub2a                                                    | 0.000042s |
|     + sub2b                                                    | 0.000040s |
'----------------------------------------------------------------+-----------'

TOTAL TIME 0.000301s (3322.259/s)
.----------------------------------------------------------------+-----------.
| Event                                                          | Time      |
+----------------------------------------------------------------+-----------+
| + foo                                                          | 0.000301s |
|   + sub1a (notation 1)                                         | 0.000210s |
|     + sub2a (notation 2)                                       | 0.000044s |
|     + sub2b (this is a very long note, which you shouldn't do- | 0.000041s |
| , but it can't be helped that people don't think things throu- |           |
| gh from time to time.)                                         |           |
'----------------------------------------------------------------+-----------'

TOTAL TIME 0.000286s (3496.503/s)
.----------------------------------------------------------------+-----------.
| Event                                                          | Time      |
+----------------------------------------------------------------+-----------+
| + foo                                                          | 0.000286s |
|   + sub1a                                                      | 0.000200s |
|     + sub2a                                                    | 0.000041s |
|     + sub2b                                                    | 0.000039s |
'----------------------------------------------------------------+-----------'

TOTAL TIME 0.00029s (3448.276/s)
.----------------------------------------------------------------+-----------.
| Event                                                          | Time      |
+----------------------------------------------------------------+-----------+
| + foo2                                                         | 0.000290s |
|   + sub1a                                                      | 0.000204s |
|     + sub2a                                                    | 0.000042s |
|     + sub2b                                                    | 0.000040s |
'----------------------------------------------------------------+-----------'

TOTAL TIME 0.016831s (59.414/s)
.----------------------------------------------------------------+-----------.
| Event                                                          | Time      |
+----------------------------------------------------------------+-----------+
| + foo                                                          | 0.016831s |
|   + sub1a                                                      | 0.016744s |
|     + sub2a                                                    | 0.000042s |
|     + sub2b                                                    | 0.000450s |
|       + foo2                                                   | 0.000329s |
|         + sub1a                                                | 0.000233s |
|           + sub2a                                              | 0.000054s |
|           + sub2b                                              | 0.000048s |
'----------------------------------------------------------------+-----------'

TOTAL TIME 0.000238s (4201.681/s)
.----------------------------------------------------------------+-----------.
| Event                                                          | Time      |
+----------------------------------------------------------------+-----------+
| + foo                                                          | 0.000238s |
|   + sub1a                                                      | 0.000185s |
|     + sub2a                                                    | 0.000044s |
|     + sub2b                                                    | 0.000050s |
'----------------------------------------------------------------+-----------'

t/010.RSH-Logging.t ........... ok
DEBUG Logging.pm:407, RSH::Logging::__ANON__: TOTAL TIME 0.000386s (2590.674/s)
DEBUG Logging.pm:407, RSH::Logging::__ANON__: .----------------------------------------------------------------+-----------.
DEBUG Logging.pm:407, RSH::Logging::__ANON__: | Event                                                          | Time      |
DEBUG Logging.pm:407, RSH::Logging::__ANON__: +----------------------------------------------------------------+-----------+
DEBUG Logging.pm:407, RSH::Logging::__ANON__: | + foo                                                          | 0.000386s |
DEBUG Logging.pm:407, RSH::Logging::__ANON__: |   + sub1a                                                      | 0.000237s |
DEBUG Logging.pm:407, RSH::Logging::__ANON__: |     + sub2a                                                    | 0.000047s |
DEBUG Logging.pm:407, RSH::Logging::__ANON__: |     + sub2b                                                    | 0.000051s |
DEBUG Logging.pm:407, RSH::Logging::__ANON__: '----------------------------------------------------------------+-----------'
DEBUG Logging.pm:407, RSH::Logging::__ANON__: 
TOTAL TIME 0.000311s (3215.434/s)
.----------------------------------------------------------------+-----------.
| Event                                                          | Time      |
+----------------------------------------------------------------+-----------+
| + foo                                                          | 0.000311s |
|   + sub1a                                                      | 0.000219s |
|     + sub2a                                                    | 0.000044s |
|     + sub2b                                                    | 0.000044s |
'----------------------------------------------------------------+-----------'

DEBUG Logging.pm:407, RSH::Logging::__ANON__: TOTAL TIME 0.012421s (80.509/s)
.----------------------------------------------------------------+-----------.
| Event                                                          | Time      |
+----------------------------------------------------------------+-----------+
| + foo                                                          | 0.012421s |
|   + sub1a                                                      | 0.000211s |
|     + sub2a                                                    | 0.000043s |
|     + sub2b                                                    | 0.000042s |
|   + sub0                                                       | 0.000003s |
|   + sub1                                                       | 0.000001s |
|   + sub2                                                       | 0.000002s |
|   + sub3                                                       | 0.000002s |
|   + sub4                                                       | 0.000001s |
'----------------------------------------------------------------+-----------'

DEBUG Logging.pm:407, RSH::Logging::__ANON__: TOTAL TIME 0.000448s (2232.143/s)
DEBUG Logging.pm:407, RSH::Logging::__ANON__: .----------------------------------------------------------------+-----------.
DEBUG Logging.pm:407, RSH::Logging::__ANON__: | Event                                                          | Time      |
DEBUG Logging.pm:407, RSH::Logging::__ANON__: +----------------------------------------------------------------+-----------+
DEBUG Logging.pm:407, RSH::Logging::__ANON__: | + foo                                                          | 0.000448s |
DEBUG Logging.pm:407, RSH::Logging::__ANON__: |   + sub1a                                                      | 0.000225s |
DEBUG Logging.pm:407, RSH::Logging::__ANON__: |     + sub2a                                                    | 0.000046s |
DEBUG Logging.pm:407, RSH::Logging::__ANON__: |     + sub2b                                                    | 0.000044s |
DEBUG Logging.pm:407, RSH::Logging::__ANON__: |   + sub0                                                       | 0.000003s |
DEBUG Logging.pm:407, RSH::Logging::__ANON__: |   + sub1                                                       | 0.000002s |
DEBUG Logging.pm:407, RSH::Logging::__ANON__: |   + sub2                                                       | 0.000002s |
DEBUG Logging.pm:407, RSH::Logging::__ANON__: |   + sub3                                                       | 0.000001s |
DEBUG Logging.pm:407, RSH::Logging::__ANON__: |   + sub4                                                       | 0.000001s |
DEBUG Logging.pm:407, RSH::Logging::__ANON__: |   + sub5                                                       | 0.000002s |
DEBUG Logging.pm:407, RSH::Logging::__ANON__: |   + sub6                                                       | 0.000002s |
DEBUG Logging.pm:407, RSH::Logging::__ANON__: |   + sub7                                                       | 0.000001s |
DEBUG Logging.pm:407, RSH::Logging::__ANON__: |   + sub8                                                       | 0.000002s |
DEBUG Logging.pm:407, RSH::Logging::__ANON__: |   + sub9                                                       | 0.000001s |
DEBUG Logging.pm:407, RSH::Logging::__ANON__: |   + sub10                                                      | 0.000002s |
DEBUG Logging.pm:407, RSH::Logging::__ANON__: |   + sub11                                                      | 0.000001s |
DEBUG Logging.pm:407, RSH::Logging::__ANON__: |   + sub12                                                      | 0.000002s |
DEBUG Logging.pm:407, RSH::Logging::__ANON__: |   + sub13                                                      | 0.000001s |
DEBUG Logging.pm:407, RSH::Logging::__ANON__: |   + sub14                                                      | 0.000007s |
DEBUG Logging.pm:407, RSH::Logging::__ANON__: |   + sub15                                                      | 0.000002s |
DEBUG Logging.pm:407, RSH::Logging::__ANON__: |   + sub16                                                      | 0.000008s |
DEBUG Logging.pm:407, RSH::Logging::__ANON__: |   + sub17                                                      | 0.000002s |
DEBUG Logging.pm:407, RSH::Logging::__ANON__: |   + sub18                                                      | 0.000002s |
DEBUG Logging.pm:407, RSH::Logging::__ANON__: |   + sub19                                                      | 0.000001s |
DEBUG Logging.pm:407, RSH::Logging::__ANON__: |   + sub20                                                      | 0.000001s |
DEBUG Logging.pm:407, RSH::Logging::__ANON__: |   + sub21                                                      | 0.000002s |
DEBUG Logging.pm:407, RSH::Logging::__ANON__: |   + sub22                                                      | 0.000001s |
DEBUG Logging.pm:407, RSH::Logging::__ANON__: |   + sub23                                                      | 0.000002s |
DEBUG Logging.pm:407, RSH::Logging::__ANON__: |   + sub24                                                      | 0.000001s |
DEBUG Logging.pm:407, RSH::Logging::__ANON__: '----------------------------------------------------------------+-----------'
DEBUG Logging.pm:407, RSH::Logging::__ANON__: 
t/011.RSH-Logging-chunking.t .. ok
t/999.perlcritic.t ............ skipped: Not worrying about perl critic right now.
t/999.pod-coverage.t .......... ok
t/999.pod.t ................... ok
All tests successful.
Files=6, Tests=160,  5 wallclock secs ( 0.04 usr  0.02 sys +  0.78 cusr  0.10 csys =  0.94 CPU)
Result: PASS

------------------------------
PREREQUISITES
------------------------------

Prerequisite modules loaded:

requires:

    Module              Need  Have    
    ------------------- ----- --------
    IO::File            0     1.16    
    Log::Log4perl       0     1.49    
    perl                5.008 5.027005
    Scalar::Util        0     1.49    
    Test::More          0     1.302106
    Text::SimpleTable   0     2.03    
    Time::HiRes         0     1.9746  

build_requires:

    Module              Need  Have    
    ------------------- ----- --------
    ExtUtils::MakeMaker 6.42  7.30    
    Test::More          0     1.302106

configure_requires:

    Module              Need  Have    
    ------------------- ----- --------
    ExtUtils::MakeMaker 6.42  7.30    


------------------------------
ENVIRONMENT AND OTHER CONTEXT
------------------------------

Environment variables:

    LANG = C
    LC_ALL = de_DE.UTF-8
    PATH = /usr/local/bin:/usr/bin:/bin:/usr/local/sbin:/usr/sbin:/sbin:/home/cpansand/bin/linux-gnu:/home/cpansand/bin/sh:/home/cpansand/bin:/usr/games:/home/cpansand/devel:/home/eserte/src/srezic-misc/scripts
    PERL5LIB = 
    PERL5OPT = 
    PERL5_CPANPLUS_IS_RUNNING = 10637
    PERL5_CPAN_IS_RUNNING = 10637
    PERL5_CPAN_IS_RUNNING_IN_RECURSION = 13522,10637
    PERLDOC = -MPod::Perldoc::ToTextOverstrike
    PERL_BATCH = yes
    PERL_CANARY_STABILITY_NOPROMPT = 1
    PERL_CPAN_REPORTER_CONFIG = /var/tmp/cpansmoker-1023/2017102721/cpanreporter_002_config.ini
    PERL_EXTUTILS_AUTOINSTALL = --defaultdeps
    PERL_PARALLEL_SMOKER = yes
    PERL_USE_UNSAFE_INC = 1
    SHELL = /bin/zsh
    TERM = screen
    TMPDIR = /var/tmp/cpansmoker-1023/2017102721

Perl special variables (and OS-specific diagnostics, for MSWin32):

    $^X = /bbbike/perl-5.27.5/bin/perl5.27.5
    $UID/$EUID = 1023 / 1023
    $GID = 1023 1023
    $EGID = 1023 1023

Perl module toolchain versions installed:

    Module              Have    
    ------------------- --------
    CPAN                2.18    
    CPAN::Meta          2.150010
    Cwd                 3.68    
    ExtUtils::CBuilder  0.280228
    ExtUtils::Command   7.30    
    ExtUtils::Install   2.14    
    ExtUtils::MakeMaker 7.30    
    ExtUtils::Manifest  1.70    
    ExtUtils::ParseXS   3.35    
    File::Spec          3.68    
    JSON                2.94    
    JSON::PP            2.94    
    Module::Build       0.4224  
    Module::Signature   0.81    
    Parse::CPAN::Meta   2.150010
    Test::Harness       3.39    
    Test::More          1.302106
    YAML                1.23    
    YAML::Syck          1.30    
    version             0.9918  


--

Summary of my perl5 (revision 5 version 27 subversion 5) configuration:
   
  Platform:
    osname=linux
    osvers=3.16.0-4-amd64
    archname=x86_64-linux
    uname='linux eserte 3.16.0-4-amd64 #1 smp debian 3.16.43-2+deb8u5 (2017-09-19) x86_64 gnulinux '
    config_args='-ds -e -Dprefix=/opt/perl-5.27.5 -Dusedevel -Dusemallocwrap=no -Dcf_email=srezic@cpan.org'
    hint=recommended
    useposix=true
    d_sigaction=define
    useithreads=undef
    usemultiplicity=undef
    use64bitint=define
    use64bitall=define
    uselongdouble=undef
    usemymalloc=n
    default_inc_excludes_dot=define
    bincompat5005=undef
  Compiler:
    cc='cc'
    ccflags ='-fwrapv -fno-strict-aliasing -pipe -fstack-protector-strong -I/usr/local/include -D_LARGEFILE_SOURCE -D_FILE_OFFSET_BITS=64 -D_FORTIFY_SOURCE=2'
    optimize='-O2'
    cppflags='-fwrapv -fno-strict-aliasing -pipe -fstack-protector-strong -I/usr/local/include'
    ccversion=''
    gccversion='4.9.2'
    gccosandvers=''
    intsize=4
    longsize=8
    ptrsize=8
    doublesize=8
    byteorder=12345678
    doublekind=3
    d_longlong=define
    longlongsize=8
    d_longdbl=define
    longdblsize=16
    longdblkind=3
    ivtype='long'
    ivsize=8
    nvtype='double'
    nvsize=8
    Off_t='off_t'
    lseeksize=8
    alignbytes=8
    prototype=define
  Linker and Libraries:
    ld='cc'
    ldflags =' -fstack-protector-strong -L/usr/local/lib'
    libpth=/usr/local/lib /usr/lib/gcc/x86_64-linux-gnu/4.9/include-fixed /usr/include/x86_64-linux-gnu /usr/lib /lib/x86_64-linux-gnu /lib/../lib /usr/lib/x86_64-linux-gnu /usr/lib/../lib /lib
    libs=-lpthread -lnsl -lgdbm -ldb -ldl -lm -lcrypt -lutil -lc -lgdbm_compat
    perllibs=-lpthread -lnsl -ldl -lm -lcrypt -lutil -lc
    libc=libc-2.19.so
    so=so
    useshrplib=false
    libperl=libperl.a
    gnulibc_version='2.19'
  Dynamic Linking:
    dlsrc=dl_dlopen.xs
    dlext=so
    d_dlsymun=undef
    ccdlflags='-Wl,-E'
    cccdlflags='-fPIC'
    lddlflags='-shared -O2 -L/usr/local/lib -fstack-protector-strong'


Characteristics of this binary (from libperl): 
  Compile-time options:
    HAS_TIMES
    PERLIO_LAYERS
    PERL_COPY_ON_WRITE
    PERL_DONT_CREATE_GVSV
    PERL_OP_PARENT
    PERL_PRESERVE_IVUV
    PERL_USE_DEVEL
    USE_64_BIT_ALL
    USE_64_BIT_INT
    USE_LARGE_FILES
    USE_LOCALE
    USE_LOCALE_COLLATE
    USE_LOCALE_CTYPE
    USE_LOCALE_NUMERIC
    USE_LOCALE_TIME
    USE_PERLIO
    USE_PERL_ATOF
  Built under linux
  Compiled at Oct 25 2017 16:04:43
  %ENV:
    PERL5LIB=""
    PERL5OPT=""
    PERL5_CPANPLUS_IS_RUNNING="10637"
    PERL5_CPAN_IS_RUNNING="10637"
    PERL5_CPAN_IS_RUNNING_IN_RECURSION="13522,10637"
    PERLDOC="-MPod::Perldoc::ToTextOverstrike"
    PERL_BATCH="yes"
    PERL_CANARY_STABILITY_NOPROMPT="1"
    PERL_CPAN_REPORTER_CONFIG="/var/tmp/cpansmoker-1023/2017102721/cpanreporter_002_config.ini"
    PERL_EXTUTILS_AUTOINSTALL="--defaultdeps"
    PERL_PARALLEL_SMOKER="yes"
    PERL_USE_UNSAFE_INC="1"
  @INC:
    /opt/perl-5.27.5/lib/site_perl/5.27.5/x86_64-linux
    /opt/perl-5.27.5/lib/site_perl/5.27.5
    /opt/perl-5.27.5/lib/5.27.5/x86_64-linux
    /opt/perl-5.27.5/lib/5.27.5
    .