Back
From: metabase:user:320bfe00-2aae-11df-837a-5e0a49663a4f
Subject: PASS Riak-Light-0.12 v5.23.3 GNU/Linux
Date: 2015-10-06T17:12:09Z
This distribution has been tested as part of the CPAN Testers
project, supporting the Perl programming language. See
http://wiki.cpantesters.org/ for more information or email
questions to cpan-testers-discuss@perl.org
--
Dear Weborama SA,
This is a computer-generated report for Riak-Light-0.12
on perl 5.23.3, created by CPAN-Reporter-1.2015.
Thank you for uploading your work to CPAN. Congratulations!
All tests were successful.
Sections of this report:
* Tester comments
* Program output
* Prerequisites
* Environment and other context
------------------------------
TESTER COMMENTS
------------------------------
Additional comments from tester:
this report is from an automated smoke testing program
and was not reviewed by a human for accuracy
------------------------------
PROGRAM OUTPUT
------------------------------
Output from './Build test':
t/01_load.t .................... ok
autodie will be disable in the next version at (eval 88) line 109.
this feature will be disabled in the next version, you should use just timeout instead at (eval 88) line 237.
this feature will be disabled in the next version, you should use just timeout instead at (eval 88) line 250.
t/02_class_test.t .............. ok
t/03_real_riak_test.t .......... skipped: variable RIAK_PBC_HOST is not defined
t/04_client_tests.t ............ ok
t/05_driver_tests.t ............ ok
t/06_connector_tests.t ......... ok
t/07_socket_test.t ............. ok
autodie will be disable in the next version at (eval 88) line 109.
autodie will be disable in the next version at (eval 88) line 109.
autodie will be disable in the next version at (eval 88) line 109.
t/08_autodie.t ................. ok
t/09_test_notimeout.t .......... ok
this feature will be disabled in the next version, you should use just timeout instead at (eval 98) line 250.
Not Safe: can clobber previous alarm at (eval 97) line 181.
Not Safe: can clobber previous alarm at (eval 97) line 181.
t/10_timeout_alarm.t ........... ok
this feature will be disabled in the next version, you should use just timeout instead at (eval 98) line 250.
Not Safe: can clobber previous alarm at (eval 97) line 181.
Not Safe: can clobber previous alarm at (eval 97) line 181.
t/11_timeout_Time_Out.t ........ ok
this feature will be disabled in the next version, you should use just timeout instead at (eval 98) line 250.
t/12_timeout_setsockopt.t ...... ok
this feature will be disabled in the next version, you should use just timeout instead at (eval 95) line 250.
t/13_timeout_select.t .......... ok
this feature will be disabled in the next version, you should use just timeout instead at (eval 95) line 250.
t/14_timeout_select_on_read.t .. ok
t/15_secondary_indexes.t ....... skipped: variable RIAK_PBC_HOST is not defined
t/16_map_reduce.t .............. skipped: variable RIAK_PBC_HOST is not defined
t/17_2i_map_reduce.t ........... skipped: variable RIAK_PBC_HOST is not defined
t/20_pid_test.t ................ ok
t/80_extra_parameters.t ........ ok
t/90_client_id.t ............... skipped: variable RIAK_PBC_HOST is not defined
t/99_memory_lead.t ............. skipped: variable RIAK_PBC_HOST is not defined
t/99_no_namespace_autoclean.t .. ok
t/99_test_util.t ............... ok
All tests successful.
Files=23, Tests=59, 52 wallclock secs ( 0.07 usr 0.22 sys + 5.43 cusr 1.30 csys = 7.02 CPU)
Result: PASS
------------------------------
PREREQUISITES
------------------------------
Prerequisite modules loaded:
requires:
Module Need Have
----------------------- ------ ------------
Carp 0 1.37
Const::Fast 0 0.014
Google::ProtocolBuffers 0 0.11
JSON 0 2.90
Moo 0 2.000002
perl 5.012 5.023003
Time::Out 0 0.11
Type::Params 0 1.000005
Types::Standard 0 1.000005
build_requires:
Module Need Have
----------------------- ------ ------------
Module::Build 0.3601 0.4214
Test::Exception 0 0.40
Test::MockModule 0 0.10
Test::MockObject 0 1.20150527
Test::More 0 1.302012_002
Test::TCP 0 2.14
configure_requires:
Module Need Have
----------------------- ------ ------------
ExtUtils::MakeMaker 6.30 7.10
Module::Build 0.3601 0.4214
------------------------------
ENVIRONMENT AND OTHER CONTEXT
------------------------------
Environment variables:
AUTOMATED_TESTING = 1
LANG = en_US.UTF-8
LANGUAGE = en_US:en
PATH = /home/sand/bin:/usr/local/bin:/usr/bin:/bin:/usr/games:/usr/local/perl/bin:/usr/X11/bin:/sbin:/usr/sbin
PERL5LIB =
PERL5OPT =
PERL5_CPANPLUS_IS_RUNNING = 9093
PERL5_CPAN_IS_RUNNING = 9093
PERL_MM_USE_DEFAULT = 1
SHELL = /usr/bin/zsh
TERM = screen
Perl special variables (and OS-specific diagnostics, for MSWin32):
$^X = /home/sand/src/perl/repoperls/installed-perls/perl/v5.23.3/a2da/bin/perl
$UID/$EUID = 1005 / 1005
$GID = 1005 1005
$EGID = 1005 1005
Perl module toolchain versions installed:
Module Have
------------------- ------------
CPAN 2.11
CPAN::Meta 2.150005
Cwd 3.58
ExtUtils::CBuilder 0.280223
ExtUtils::Command 7.10
ExtUtils::Install 2.04
ExtUtils::MakeMaker 7.10
ExtUtils::Manifest 1.70
ExtUtils::ParseXS 3.30
File::Spec 3.58
JSON 2.90
JSON::PP 2.27300
Module::Build 0.4214
Module::Signature 0.79
Parse::CPAN::Meta 1.4417
Test::Harness 3.35
Test::More 1.302012_002
YAML 1.15
YAML::Syck 1.29
version 0.9909
--
Summary of my perl5 (revision 5 version 23 subversion 3) configuration:
Commit id: d2c3426b4ccfd6a61af7f4e904f371945d63fdc8
Platform:
osname=linux, osvers=4.1.0-2-amd64, archname=x86_64-linux-thread-multi-ld
uname='linux k83 4.1.0-2-amd64 #1 smp debian 4.1.6-1 (2015-08-23) x86_64 gnulinux '
config_args='-Dprefix=/home/sand/src/perl/repoperls/installed-perls/perl/v5.23.3/a2da -Dmyhostname=k83 -Dinstallusrbinperl=n -Uversiononly -Dusedevel -des -Ui_db -Duseithreads -Duselongdouble -DDEBUGGING=-g'
hint=recommended, useposix=true, d_sigaction=define
useithreads=define, usemultiplicity=define
use64bitint=define, use64bitall=define, uselongdouble=define
usemymalloc=n, bincompat5005=undef
Compiler:
cc='cc', ccflags ='-D_REENTRANT -D_GNU_SOURCE -fwrapv -fno-strict-aliasing -pipe -fstack-protector-strong -I/usr/local/include -D_LARGEFILE_SOURCE -D_FILE_OFFSET_BITS=64',
optimize='-O2 -g',
cppflags='-D_REENTRANT -D_GNU_SOURCE -fwrapv -fno-strict-aliasing -pipe -fstack-protector-strong -I/usr/local/include'
ccversion='', gccversion='5.2.1 20150911', gccosandvers=''
intsize=4, longsize=8, ptrsize=8, doublesize=8, byteorder=12345678, doublekind=3
d_longlong=define, longlongsize=8, d_longdbl=define, longdblsize=16, longdblkind=3
ivtype='long', ivsize=8, nvtype='long double', nvsize=16, Off_t='off_t', lseeksize=8
alignbytes=16, prototype=define
Linker and Libraries:
ld='cc', ldflags =' -fstack-protector-strong -L/usr/local/lib'
libpth=/usr/local/lib /usr/lib/gcc/x86_64-linux-gnu/5/include-fixed /usr/include/x86_64-linux-gnu /usr/lib /lib/x86_64-linux-gnu /lib/../lib /usr/lib/x86_64-linux-gnu /usr/lib/../lib /lib
libs=-lpthread -lnsl -lgdbm -ldb -ldl -lm -lcrypt -lutil -lc -lgdbm_compat
perllibs=-lpthread -lnsl -ldl -lm -lcrypt -lutil -lc
libc=libc-2.19.so, so=so, useshrplib=false, libperl=libperl.a
gnulibc_version='2.19'
Dynamic Linking:
dlsrc=dl_dlopen.xs, dlext=so, d_dlsymun=undef, ccdlflags='-Wl,-E'
cccdlflags='-fPIC', lddlflags='-shared -O2 -g -L/usr/local/lib -fstack-protector-strong'
Characteristics of this binary (from libperl):
Compile-time options: HAS_TIMES MULTIPLICITY PERLIO_LAYERS
PERL_COPY_ON_WRITE PERL_DONT_CREATE_GVSV
PERL_HASH_FUNC_ONE_AT_A_TIME_HARD
PERL_IMPLICIT_CONTEXT PERL_MALLOC_WRAP
PERL_PRESERVE_IVUV PERL_USE_DEVEL USE_64_BIT_ALL
USE_64_BIT_INT USE_ITHREADS USE_LARGE_FILES
USE_LOCALE USE_LOCALE_COLLATE USE_LOCALE_CTYPE
USE_LOCALE_NUMERIC USE_LOCALE_TIME USE_LONG_DOUBLE
USE_PERLIO USE_PERL_ATOF USE_REENTRANT_API
Built under linux
Compiled at Sep 23 2015 22:34:25
%ENV:
PERL5LIB=""
PERL5OPT=""
PERL5_CPANPLUS_IS_RUNNING="9093"
PERL5_CPAN_IS_RUNNING="9093"
PERL_MM_USE_DEFAULT="1"
@INC:
/home/sand/src/perl/repoperls/installed-perls/perl/v5.23.3/a2da/lib/site_perl/5.23.3/x86_64-linux-thread-multi-ld
/home/sand/src/perl/repoperls/installed-perls/perl/v5.23.3/a2da/lib/site_perl/5.23.3
/home/sand/src/perl/repoperls/installed-perls/perl/v5.23.3/a2da/lib/5.23.3/x86_64-linux-thread-multi-ld
/home/sand/src/perl/repoperls/installed-perls/perl/v5.23.3/a2da/lib/5.23.3
.