Astro-Constants v0.1401 Perl 5 v5.37.10 x86_64-linux-thread-multi

Status
Pass
From
Andreas J. König (ANDK)
Dist
Astro-Constants v0.1401
Platform
Perl 5 v5.37.10 x86_64-linux-thread-multi
Date
2023-04-10 11:32:28
ID
5fe917a4-d793-11ed-a6d1-d4abd89c7f43
This distribution has been tested as part of the CPAN Testers
project, supporting the Perl programming language.  See
http://wiki.cpantesters.org/ for more information or email
questions to cpan-testers-discuss@perl.org


--
Dear Boyd Duffee,

This is a computer-generated report for Astro-Constants-0.1401
on perl 5.37.10, created by CPAN-Reporter-1.2018.

Thank you for uploading your work to CPAN.  Congratulations!
All tests were successful.

Sections of this report:

    * Tester comments
    * Program output
    * Prerequisites
    * Environment and other context

------------------------------
TESTER COMMENTS
------------------------------

Additional comments from tester:

this report is from an automated smoke testing program
and was not reviewed by a human for accuracy

------------------------------
PROGRAM OUTPUT
------------------------------

Output from '/usr/bin/make test':

PERL_DL_NONLAZY=1 "/tmp/basesmoker-reloperl-Uy9p/bin/perl" "-MExtUtils::Command::MM" "-MTest::Harness" "-e" "undef *Test::Harness::Switches; test_harness(0, 'blib/lib', 'blib/arch')" t/*.t
t/alternates.t ......... ok
t/basic.t .............. ok
t/codata_2014.t ........ skipped: waiting for Astro::Constants::CODATA::2014
t/conversion.t ......... ok
t/cosmology.t .......... ok
t/critic.t ............. ok
t/derived_constants.t .. ok
t/electromagnetic.t .... ok
t/functions.t .......... ok
t/fundamental.t ........ ok
# Testing values from IAU 2009/2012 System of Astronomical Constants
t/iau_2009.t ........... ok
t/mathematical.t ....... ok
use of Astro::Constants::CGS is deprecated and will be removed from the package in version 0.15 at /tmp/loop_over_bdir-2055-3oOvGP/Astro-Constants-0.1401-0/blib/lib/Astro/Constants/CGS.pm line 9.
write new code to use Astro::Constants::MKS instead at /tmp/loop_over_bdir-2055-3oOvGP/Astro-Constants-0.1401-0/blib/lib/Astro/Constants/CGS.pm line 10.
t/mks_to_cgs.t ......... ok
# MASS_HYDROGEN is from IUPAC 2013
t/nuclear.t ............ ok
t/planetary.t .......... ok
t/pod.t ................ ok
t/short.t .............. ok
t/short_individual.t ... ok
t/validate_xml.t ....... ok
HUBBLE_TIME deprecated at /tmp/loop_over_bdir-2055-3oOvGP/Astro-Constants-0.1401-0/blib/lib/Astro/Constants/MKS.pm line 84.
t/zz_cosmology.t ....... ok
All tests successful.

Test Summary Report
-------------------
t/iau_2009.t         (Wstat: 0 Tests: 10 Failed: 0)
  TODO passed:   8-10
t/validate_xml.t     (Wstat: 0 Tests: 3 Failed: 0)
  TODO passed:   3
Files=20, Tests=114,  3 wallclock secs ( 0.08 usr  0.01 sys +  2.92 cusr  0.39 csys =  3.40 CPU)
Result: PASS

------------------------------
PREREQUISITES
------------------------------

Prerequisite modules loaded:

requires:

    Module              Need  Have    
    ------------------- ----- --------
    perl                5.006 5.037010

build_requires:

    Module              Need  Have    
    ------------------- ----- --------
    ExtUtils::MakeMaker 0     7.70    
    Test::More          0     1.302194
    Test::Number::Delta 0     1.06    

configure_requires:

    Module              Need  Have    
    ------------------- ----- --------
    ExtUtils::MakeMaker 0     7.70    


------------------------------
ENVIRONMENT AND OTHER CONTEXT
------------------------------

Environment variables:

    AUTOMATED_TESTING = 1
    LANG = en_US.UTF-8
    PATH = /home/sand/bin:/usr/local/bin:/usr/local/sbin:/usr/sbin:/usr/bin:/sbin:/bin:/usr/games:/usr/local/games:/snap/bin:/usr/local/perl/bin:/usr/X11/bin
    PERL = /tmp/basesmoker-reloperl-Uy9p/bin/perl
    PERL5LIB = /tmp/loop_over_bdir-2055-3oOvGP/Sysync-0.35-0/blib/arch:/tmp/loop_over_bdir-2055-3oOvGP/Sysync-0.35-0/blib/lib:/tmp/loop_over_bdir-2055-3oOvGP/downsexta-0/blib/arch:/tmp/loop_over_bdir-2055-3oOvGP/downsexta-0/blib/lib:/tmp/loop_over_bdir-2055-3oOvGP/shishi-0.0.1-0/blib/arch:/tmp/loop_over_bdir-2055-3oOvGP/shishi-0.0.1-0/blib/lib:/tmp/loop_over_bdir-2055-3oOvGP/CGI-Application-NetNewsIface-0.0204-0/blib/arch:/tmp/loop_over_bdir-2055-3oOvGP/CGI-Application-NetNewsIface-0.0204-0/blib/lib:/tmp/loop_over_bdir-2055-3oOvGP/Dpkg-1.21.19-0/blib/arch:/tmp/loop_over_bdir-2055-3oOvGP/Dpkg-1.21.19-0/blib/lib:/tmp/loop_over_bdir-2055-3oOvGP/dta-tokwrap-0.98-0/blib/arch:/tmp/loop_over_bdir-2055-3oOvGP/dta-tokwrap-0.98-0/blib/lib:/tmp/loop_over_bdir-2055-3oOvGP/RackMan-1.19-0/blib/arch:/tmp/loop_over_bdir-2055-3oOvGP/RackMan-1.19-0/blib/lib
    PERL5OPT = 
    PERL5_CPANPLUS_IS_RUNNING = 2063
    PERL5_CPAN_IS_RUNNING = 2063
    PERL_CANARY_STABILITY_NOPROMPT = 1
    PERL_MM_USE_DEFAULT = 1
    PERL_USE_UNSAFE_INC = 1
    SHELL = /usr/bin/zsh
    TERM = screen

Perl special variables (and OS-specific diagnostics, for MSWin32):

    $^X = /tmp/basesmoker-reloperl-Uy9p/bin/perl
    $UID/$EUID = 1005 / 1005
    $GID = 1005 1005
    $EGID = 1005 1005

Perl module toolchain versions installed:

    Module              Have    
    ------------------- --------
    CPAN                2.34    
    CPAN::Meta          2.150010
    Cwd                 3.89    
    ExtUtils::CBuilder  0.280238
    ExtUtils::Command   7.70    
    ExtUtils::Install   2.22    
    ExtUtils::MakeMaker 7.70    
    ExtUtils::Manifest  1.73    
    ExtUtils::ParseXS   3.49    
    File::Spec          3.88    
    JSON                4.10    
    JSON::PP            4.16    
    Module::Build       0.4232  
    Module::Signature   0.88    
    Parse::CPAN::Meta   2.150010
    Test::Harness       3.44    
    Test::More          1.302194
    YAML                1.30    
    YAML::Syck          1.34    
    version             0.9929  


--

Summary of my perl5 (revision 5 version 37 subversion 10) configuration:
  Commit id: d62f5d9eddd273f5a82c0dbad932a8f4d18f9488
  Platform:
    osname=linux
    osvers=5.4.0-146-generic
    archname=x86_64-linux-thread-multi
    uname='linux k93focal 5.4.0-146-generic #163-ubuntu smp fri mar 17 18:26:02 utc 2023 x86_64 x86_64 x86_64 gnulinux '
    config_args='-Dprefix=/home/sand/src/perl/repoperls/installed-perls/host/k93focal/v5.37.10/d119 -Dmyhostname=k93focal -Dinstallusrbinperl=n -Uversiononly -Dusedevel -des -Ui_db -Dlibswanted=cl pthread socket inet nsl gdbm dbm malloc dl ld sun m crypt sec util c cposix posix ucb BSD gdbm_compat -Duseithreads -Uuselongdouble -DEBUGGING=both'
    hint=recommended
    useposix=true
    d_sigaction=define
    useithreads=define
    usemultiplicity=define
    use64bitint=define
    use64bitall=define
    uselongdouble=undef
    usemymalloc=n
    default_inc_excludes_dot=define
  Compiler:
    cc='cc'
    ccflags ='-D_REENTRANT -D_GNU_SOURCE -fwrapv -DDEBUGGING -fno-strict-aliasing -pipe -fstack-protector-strong -I/usr/local/include -D_LARGEFILE_SOURCE -D_FILE_OFFSET_BITS=64'
    optimize='-O2 -g'
    cppflags='-D_REENTRANT -D_GNU_SOURCE -fwrapv -DDEBUGGING -fno-strict-aliasing -pipe -fstack-protector-strong -I/usr/local/include'
    ccversion=''
    gccversion='9.4.0'
    gccosandvers=''
    intsize=4
    longsize=8
    ptrsize=8
    doublesize=8
    byteorder=12345678
    doublekind=3
    d_longlong=define
    longlongsize=8
    d_longdbl=define
    longdblsize=16
    longdblkind=3
    ivtype='long'
    ivsize=8
    nvtype='double'
    nvsize=8
    Off_t='off_t'
    lseeksize=8
    alignbytes=8
    prototype=define
  Linker and Libraries:
    ld='cc'
    ldflags =' -fstack-protector-strong -L/usr/local/lib'
    libpth=/usr/local/lib /usr/lib/x86_64-linux-gnu /usr/lib /usr/lib64
    libs=-lpthread -lnsl -ldl -lm -lcrypt -lutil -lc
    perllibs=-lpthread -lnsl -ldl -lm -lcrypt -lutil -lc
    libc=libc-2.31.so
    so=so
    useshrplib=false
    libperl=libperl.a
    gnulibc_version='2.31'
  Dynamic Linking:
    dlsrc=dl_dlopen.xs
    dlext=so
    d_dlsymun=undef
    ccdlflags='-Wl,-E'
    cccdlflags='-fPIC'
    lddlflags='-shared -O2 -g -L/usr/local/lib -fstack-protector-strong'


Characteristics of this binary (from libperl): 
  Compile-time options:
    DEBUGGING
    HAS_TIMES
    MULTIPLICITY
    PERLIO_LAYERS
    PERL_COPY_ON_WRITE
    PERL_DONT_CREATE_GVSV
    PERL_HASH_FUNC_SIPHASH13
    PERL_HASH_USE_SBOX32
    PERL_MALLOC_WRAP
    PERL_OP_PARENT
    PERL_PRESERVE_IVUV
    PERL_TRACK_MEMPOOL
    PERL_USE_DEVEL
    PERL_USE_SAFE_PUTENV
    USE_64_BIT_ALL
    USE_64_BIT_INT
    USE_ITHREADS
    USE_LARGE_FILES
    USE_LOCALE
    USE_LOCALE_COLLATE
    USE_LOCALE_CTYPE
    USE_LOCALE_NUMERIC
    USE_LOCALE_TIME
    USE_PERLIO
    USE_PERL_ATOF
    USE_REENTRANT_API
    USE_THREAD_SAFE_LOCALE
  Built under linux
  Compiled at Apr  7 2023 17:53:35
  %ENV:
    PERL="/tmp/basesmoker-reloperl-Uy9p/bin/perl"
    PERL5LIB="/tmp/loop_over_bdir-2055-3oOvGP/Sysync-0.35-0/blib/arch:/tmp/loop_over_bdir-2055-3oOvGP/Sysync-0.35-0/blib/lib:/tmp/loop_over_bdir-2055-3oOvGP/downsexta-0/blib/arch:/tmp/loop_over_bdir-2055-3oOvGP/downsexta-0/blib/lib:/tmp/loop_over_bdir-2055-3oOvGP/shishi-0.0.1-0/blib/arch:/tmp/loop_over_bdir-2055-3oOvGP/shishi-0.0.1-0/blib/lib:/tmp/loop_over_bdir-2055-3oOvGP/CGI-Application-NetNewsIface-0.0204-0/blib/arch:/tmp/loop_over_bdir-2055-3oOvGP/CGI-Application-NetNewsIface-0.0204-0/blib/lib:/tmp/loop_over_bdir-2055-3oOvGP/Dpkg-1.21.19-0/blib/arch:/tmp/loop_over_bdir-2055-3oOvGP/Dpkg-1.21.19-0/blib/lib:/tmp/loop_over_bdir-2055-3oOvGP/dta-tokwrap-0.98-0/blib/arch:/tmp/loop_over_bdir-2055-3oOvGP/dta-tokwrap-0.98-0/blib/lib:/tmp/loop_over_bdir-2055-3oOvGP/RackMan-1.19-0/blib/arch:/tmp/loop_over_bdir-2055-3oOvGP/RackMan-1.19-0/blib/lib"
    PERL5OPT=""
    PERL5_CPANPLUS_IS_RUNNING="2063"
    PERL5_CPAN_IS_RUNNING="2063"
    PERL_CANARY_STABILITY_NOPROMPT="1"
    PERL_MM_USE_DEFAULT="1"
    PERL_USE_UNSAFE_INC="1"
  @INC:
    /tmp/loop_over_bdir-2055-3oOvGP/Sysync-0.35-0/blib/arch
    /tmp/loop_over_bdir-2055-3oOvGP/Sysync-0.35-0/blib/lib
    /tmp/loop_over_bdir-2055-3oOvGP/downsexta-0/blib/arch
    /tmp/loop_over_bdir-2055-3oOvGP/downsexta-0/blib/lib
    /tmp/loop_over_bdir-2055-3oOvGP/shishi-0.0.1-0/blib/arch
    /tmp/loop_over_bdir-2055-3oOvGP/shishi-0.0.1-0/blib/lib
    /tmp/loop_over_bdir-2055-3oOvGP/CGI-Application-NetNewsIface-0.0204-0/blib/arch
    /tmp/loop_over_bdir-2055-3oOvGP/CGI-Application-NetNewsIface-0.0204-0/blib/lib
    /tmp/loop_over_bdir-2055-3oOvGP/Dpkg-1.21.19-0/blib/arch
    /tmp/loop_over_bdir-2055-3oOvGP/Dpkg-1.21.19-0/blib/lib
    /tmp/loop_over_bdir-2055-3oOvGP/dta-tokwrap-0.98-0/blib/arch
    /tmp/loop_over_bdir-2055-3oOvGP/dta-tokwrap-0.98-0/blib/lib
    /tmp/loop_over_bdir-2055-3oOvGP/RackMan-1.19-0/blib/arch
    /tmp/loop_over_bdir-2055-3oOvGP/RackMan-1.19-0/blib/lib
    /home/sand/src/perl/repoperls/installed-perls/host/k93focal/v5.37.10/d119/lib/site_perl/5.37.10/x86_64-linux-thread-multi
    /home/sand/src/perl/repoperls/installed-perls/host/k93focal/v5.37.10/d119/lib/site_perl/5.37.10
    /home/sand/src/perl/repoperls/installed-perls/host/k93focal/v5.37.10/d119/lib/5.37.10/x86_64-linux-thread-multi
    /home/sand/src/perl/repoperls/installed-perls/host/k93focal/v5.37.10/d119/lib/5.37.10
    .