Test-LWP-Recorder v0.1.1 Perl 5 v5.24.2 x86_64-linux

Status
Pass
From
Slaven Rezić (SREZIC)
Dist
Test-LWP-Recorder v0.1.1
Platform
Perl 5 v5.24.2 x86_64-linux
Date
2018-11-03 11:41:16
ID
5fd39fe2-df5d-11e8-a6d6-d744f803de17
This distribution has been tested as part of the CPAN Testers
project, supporting the Perl programming language.  See
http://wiki.cpantesters.org/ for more information or email
questions to cpan-testers-discuss@perl.org


--
Dear Edward J. Allen III,

This is a computer-generated report for Test-LWP-Recorder-0.1.1
on perl 5.24.2, created by CPAN-Reporter-1.2018.

Thank you for uploading your work to CPAN.  Congratulations!
All tests were successful.

Sections of this report:

    * Tester comments
    * Program output
    * Prerequisites
    * Environment and other context

------------------------------
TESTER COMMENTS
------------------------------

Additional comments from tester:

none provided

------------------------------
PROGRAM OUTPUT
------------------------------

Output from './Build test':

t/00-compile.t ................ ok
# 
# 
# perl: v5.24.2 (wanted 5.006) on linux from /opt/perl-5.24.2/bin/perl
# 
# Carp                                          => 1.40       (want any version)
# Digest::MD5                                   => 2.54       (want any version)
# File::Find                                    => 1.34       (want any version)
# File::Slurp                                   => 9999.24    (want any version)
# File::Spec                                    => 3.6301     (want any version)
# File::Temp                                    => 0.2304     (want any version)
# HTTP::Response                                => 6.13       (want any version)
# HTTP::Status                                  => 6.13       (want any version)
# LWP::UserAgent                                => 6.26       (want any version)
# LWPx::Record::DataSection                     => 0.01       (want any version)
# List::Util                                    => 1.49       (want any version)
# Module::Build                                 => 0.4224     (want 0.3601) 
# Pod::Coverage::TrustPod                       => module not found. (want any version)
# Test::More                                    => 1.302096   (want 0.88)   
# Test::Pod                                     => 1.51       (want 1.41)   
# Test::Pod::Coverage                           => 1.10       (want 1.08)   
# base                                          => 2.2301     (want any version)
# lib                                           => 0.63       (want any version)
# strict                                        => 1.11       (want any version)
# warnings                                      => 1.36       (want any version)
# 
# Thanks for using my code.  I hope it works for you.
# If not, please try and include this output in the bug report.
# That will help me reproduce the issue and solve you problem.
# 
t/000-report-versions-tiny.t .. ok
t/author-critic.t ............. skipped: these tests are for testing by the author
t/author-pod-spell.t .......... skipped: these tests are for testing by the author
t/lwpxtest.t .................. ok
t/lwpxtest_02.t ............... ok
t/release-pod-coverage.t ...... skipped: these tests are for release candidate testing
t/release-pod-linkcheck.t ..... skipped: these tests are for release candidate testing
t/release-pod-syntax.t ........ skipped: these tests are for release candidate testing
All tests successful.
Files=9, Tests=14,  1 wallclock secs ( 0.03 usr  0.06 sys +  1.01 cusr  0.34 csys =  1.44 CPU)
Result: PASS

------------------------------
PREREQUISITES
------------------------------

Prerequisite modules loaded:

requires:

    Module                    Need   Have    
    ------------------------- ------ --------
    base                      0      2.23_01 
    Carp                      0      1.40    
    Digest::MD5               0      2.54    
    File::Slurp               0      9999.24 
    File::Spec                0      3.63_01 
    HTTP::Response            0      6.13    
    HTTP::Status              0      6.13    
    List::Util                0      1.49    
    LWP::UserAgent            0      6.26    
    perl                      5.006  5.024002
    strict                    0      1.11    
    warnings                  0      1.36    

build_requires:

    Module                    Need   Have    
    ------------------------- ------ --------
    File::Find                0      1.34    
    File::Temp                0      0.2304  
    lib                       0      0.63    
    LWPx::Record::DataSection 0      0.01    
    Module::Build             0.3601 0.4224  
    Test::More                0.88   1.302096

configure_requires:

    Module                    Need   Have    
    ------------------------- ------ --------
    Module::Build             0.3601 0.4224  


------------------------------
ENVIRONMENT AND OTHER CONTEXT
------------------------------

Environment variables:

    LANG = en_US.UTF-8
    PATH = /usr/local/bin:/usr/bin:/bin:/usr/local/sbin:/usr/sbin:/sbin:/home/cpansand/bin/linux-gnu:/home/cpansand/bin/sh:/home/cpansand/bin:/usr/games:/home/cpansand/devel:/home/eserte/src/srezic-misc/scripts
    PERL5LIB = /home/cpansand/.cpan/build/2018110310/LWPx-Record-DataSection-0.01-sxHs_w/blib/arch:/home/cpansand/.cpan/build/2018110310/LWPx-Record-DataSection-0.01-sxHs_w/blib/lib:/home/cpansand/.cpan/build/2018110310/Data-Section-Simple-0.07-0M8Z7J/blib/arch:/home/cpansand/.cpan/build/2018110310/Data-Section-Simple-0.07-0M8Z7J/blib/lib:/home/cpansand/.cpan/build/2018110310/CGI-Simple-1.21-WmRY4C/blib/arch:/home/cpansand/.cpan/build/2018110310/CGI-Simple-1.21-WmRY4C/blib/lib:/home/cpansand/.cpan/build/2018110310/File-Slurp-9999.24-gAFy9F/blib/arch:/home/cpansand/.cpan/build/2018110310/File-Slurp-9999.24-gAFy9F/blib/lib
    PERL5OPT = 
    PERL5_CPANPLUS_IS_RUNNING = 22053
    PERL5_CPAN_IS_RUNNING = 22053
    PERL5_CPAN_IS_RUNNING_IN_RECURSION = 17425,22053
    PERLDOC = -MPod::Perldoc::ToTextOverstrike
    PERL_BATCH = yes
    PERL_CANARY_STABILITY_NOPROMPT = 1
    PERL_CPAN_REPORTER_CONFIG = /var/tmp/cpansmoker-1023/2018110310/cpanreporter_001_config.ini
    PERL_EXTUTILS_AUTOINSTALL = --defaultdeps
    SHELL = /bin/zsh
    TERM = screen
    TMPDIR = /var/tmp/cpansmoker-1023/2018110310

Perl special variables (and OS-specific diagnostics, for MSWin32):

    $^X = /opt/perl-5.24.2/bin/perl
    $UID/$EUID = 1023 / 1023
    $GID = 1023 1023
    $EGID = 1023 1023

Perl module toolchain versions installed:

    Module              Have      
    ------------------- ----------
    CPAN                2.11_01   
    CPAN::Meta          2.150005  
    Cwd                 3.63_01   
    ExtUtils::CBuilder  0.280225  
    ExtUtils::Command   7.10_02   
    ExtUtils::Install   2.04      
    ExtUtils::MakeMaker 7.10_02   
    ExtUtils::Manifest  1.70      
    ExtUtils::ParseXS   3.31      
    File::Spec          3.63_01   
    JSON                2.94      
    JSON::PP            2.27300_01
    Module::Build       0.4224    
    Module::Signature   n/a       
    Parse::CPAN::Meta   1.4417_001
    Test::Harness       3.36_01   
    Test::More          1.302096  
    YAML                1.23      
    YAML::Syck          1.30      
    version             0.9916    


--

Summary of my perl5 (revision 5 version 24 subversion 2) configuration:
   
  Platform:
    osname=linux, osvers=2.6.32-696.3.1.el6.x86_64, archname=x86_64-linux
    uname='linux centos6 2.6.32-696.3.1.el6.x86_64 #1 smp tue may 30 19:52:55 utc 2017 x86_64 x86_64 x86_64 gnulinux '
    config_args='-ds -e -Dprefix=/opt/perl-5.24.2 -Dcf_email=srezic@cpan.org'
    hint=recommended, useposix=true, d_sigaction=define
    useithreads=undef, usemultiplicity=undef
    use64bitint=define, use64bitall=define, uselongdouble=undef
    usemymalloc=n, bincompat5005=undef
  Compiler:
    cc='cc', ccflags ='-fwrapv -fno-strict-aliasing -pipe -fstack-protector -I/usr/local/include -D_LARGEFILE_SOURCE -D_FILE_OFFSET_BITS=64 -D_FORTIFY_SOURCE=2',
    optimize='-O2',
    cppflags='-fwrapv -fno-strict-aliasing -pipe -fstack-protector -I/usr/local/include'
    ccversion='', gccversion='4.4.7 20120313 (Red Hat 4.4.7-18)', gccosandvers=''
    intsize=4, longsize=8, ptrsize=8, doublesize=8, byteorder=12345678, doublekind=3
    d_longlong=define, longlongsize=8, d_longdbl=define, longdblsize=16, longdblkind=3
    ivtype='long', ivsize=8, nvtype='double', nvsize=8, Off_t='off_t', lseeksize=8
    alignbytes=8, prototype=define
  Linker and Libraries:
    ld='cc', ldflags =' -fstack-protector -L/usr/local/lib'
    libpth=/usr/local/lib /usr/lib /lib/../lib64 /usr/lib/../lib64 /lib /lib64 /usr/lib64 /usr/local/lib64
    libs=-lpthread -lnsl -lgdbm -ldb -ldl -lm -lcrypt -lutil -lc
    perllibs=-lpthread -lnsl -ldl -lm -lcrypt -lutil -lc
    libc=libc-2.12.so, so=so, useshrplib=false, libperl=libperl.a
    gnulibc_version='2.12'
  Dynamic Linking:
    dlsrc=dl_dlopen.xs, dlext=so, d_dlsymun=undef, ccdlflags='-Wl,-E'
    cccdlflags='-fPIC', lddlflags='-shared -O2 -L/usr/local/lib -fstack-protector'


Characteristics of this binary (from libperl): 
  Compile-time options: HAS_TIMES PERLIO_LAYERS PERL_COPY_ON_WRITE
                        PERL_DONT_CREATE_GVSV
                        PERL_HASH_FUNC_ONE_AT_A_TIME_HARD PERL_MALLOC_WRAP
                        PERL_PRESERVE_IVUV USE_64_BIT_ALL USE_64_BIT_INT
                        USE_LARGE_FILES USE_LOCALE USE_LOCALE_COLLATE
                        USE_LOCALE_CTYPE USE_LOCALE_NUMERIC USE_LOCALE_TIME
                        USE_PERLIO USE_PERL_ATOF
  Built under linux
  Compiled at Sep 16 2017 21:22:14
  %ENV:
    PERL5LIB="/home/cpansand/.cpan/build/2018110310/LWPx-Record-DataSection-0.01-sxHs_w/blib/arch:/home/cpansand/.cpan/build/2018110310/LWPx-Record-DataSection-0.01-sxHs_w/blib/lib:/home/cpansand/.cpan/build/2018110310/Data-Section-Simple-0.07-0M8Z7J/blib/arch:/home/cpansand/.cpan/build/2018110310/Data-Section-Simple-0.07-0M8Z7J/blib/lib:/home/cpansand/.cpan/build/2018110310/CGI-Simple-1.21-WmRY4C/blib/arch:/home/cpansand/.cpan/build/2018110310/CGI-Simple-1.21-WmRY4C/blib/lib:/home/cpansand/.cpan/build/2018110310/File-Slurp-9999.24-gAFy9F/blib/arch:/home/cpansand/.cpan/build/2018110310/File-Slurp-9999.24-gAFy9F/blib/lib"
    PERL5OPT=""
    PERL5_CPANPLUS_IS_RUNNING="22053"
    PERL5_CPAN_IS_RUNNING="22053"
    PERL5_CPAN_IS_RUNNING_IN_RECURSION="17425,22053"
    PERLDOC="-MPod::Perldoc::ToTextOverstrike"
    PERL_BATCH="yes"
    PERL_CANARY_STABILITY_NOPROMPT="1"
    PERL_CPAN_REPORTER_CONFIG="/var/tmp/cpansmoker-1023/2018110310/cpanreporter_001_config.ini"
    PERL_EXTUTILS_AUTOINSTALL="--defaultdeps"
  @INC:
    /home/cpansand/.cpan/build/2018110310/LWPx-Record-DataSection-0.01-sxHs_w/blib/arch
    /home/cpansand/.cpan/build/2018110310/LWPx-Record-DataSection-0.01-sxHs_w/blib/lib
    /home/cpansand/.cpan/build/2018110310/Data-Section-Simple-0.07-0M8Z7J/blib/arch
    /home/cpansand/.cpan/build/2018110310/Data-Section-Simple-0.07-0M8Z7J/blib/lib
    /home/cpansand/.cpan/build/2018110310/CGI-Simple-1.21-WmRY4C/blib/arch
    /home/cpansand/.cpan/build/2018110310/CGI-Simple-1.21-WmRY4C/blib/lib
    /home/cpansand/.cpan/build/2018110310/File-Slurp-9999.24-gAFy9F/blib/arch
    /home/cpansand/.cpan/build/2018110310/File-Slurp-9999.24-gAFy9F/blib/lib
    /opt/perl-5.24.2/lib/site_perl/5.24.2/x86_64-linux
    /opt/perl-5.24.2/lib/site_perl/5.24.2
    /opt/perl-5.24.2/lib/5.24.2/x86_64-linux
    /opt/perl-5.24.2/lib/5.24.2
    .