KiokuDB v0.57 Perl 5 v5.24.0 x86_64-linux

Status
Pass
From
Slaven Rezić (SREZIC)
Dist
KiokuDB v0.57
Platform
Perl 5 v5.24.0 x86_64-linux
Date
2018-09-26 00:23:20
ID
5f47905a-c122-11e8-922d-ac5718d48d6d
This distribution has been tested as part of the CPAN Testers
project, supporting the Perl programming language.  See
http://wiki.cpantesters.org/ for more information or email
questions to cpan-testers-discuss@perl.org


--
Dear Jesse Luehrs,

This is a computer-generated report for KiokuDB-0.57
on perl 5.24.0, created by CPAN-Reporter-1.2018.

Thank you for uploading your work to CPAN.  Congratulations!
All tests were successful.

Sections of this report:

    * Tester comments
    * Program output
    * Prerequisites
    * Environment and other context

------------------------------
TESTER COMMENTS
------------------------------

Additional comments from tester:

none provided

------------------------------
PROGRAM OUTPUT
------------------------------

Output from '/usr/bin/make test':

PERL_DL_NONLAZY=1 "/bbbike/perl-5.24.0/bin/perl" "-MExtUtils::Command::MM" "-MTest::Harness" "-e" "undef *Test::Harness::Switches; test_harness(0, 'blib/lib', 'blib/arch')" t/*.t
t/00-compile.t ................. ok
t/coderefs.t ................... ok
t/collapser.t .................. ok
t/digest.t ..................... ok
t/directory.t .................. ok
t/entry.t ...................... ok
t/gc_naive.t ................... ok
Attempt to free unreferenced scalar: SV 0x69ed098 at /tmpfs/.cpan-build-cpansand/2018092600/KiokuDB-0.57-2/blib/lib/KiokuDB/Test/Fixture/Sets.pm line 150.
t/gin.t ........................ ok
Attempt to free unreferenced scalar: SV 0x6957fe8 at /tmpfs/.cpan-build-cpansand/2018092600/KiokuDB-0.57-2/blib/lib/KiokuDB/Test/Fixture/Sets.pm line 150.
Attempt to free unreferenced scalar: SV 0x7618db0 at /tmpfs/.cpan-build-cpansand/2018092600/KiokuDB-0.57-2/blib/lib/KiokuDB/Test/Fixture/Sets.pm line 150.
Attempt to free unreferenced scalar: SV 0x7039728 at /tmpfs/.cpan-build-cpansand/2018092600/KiokuDB-0.57-2/blib/lib/KiokuDB/Test/Fixture/Sets.pm line 150.
Attempt to free unreferenced scalar: SV 0x557dd88 at /tmpfs/.cpan-build-cpansand/2018092600/KiokuDB-0.57-2/blib/lib/KiokuDB/Test/Fixture/Sets.pm line 150.
Attempt to free unreferenced scalar: SV 0x755e940 at /tmpfs/.cpan-build-cpansand/2018092600/KiokuDB-0.57-2/blib/lib/KiokuDB/Test/Fixture/Sets.pm line 150.
Attempt to free unreferenced scalar: SV 0x78701d8 at /tmpfs/.cpan-build-cpansand/2018092600/KiokuDB-0.57-2/blib/lib/KiokuDB/Test/Fixture/Sets.pm line 150.
Attempt to free unreferenced scalar: SV 0x75b57b8 at /tmpfs/.cpan-build-cpansand/2018092600/KiokuDB-0.57-2/blib/lib/KiokuDB/Test/Fixture/Sets.pm line 150.
Attempt to free unreferenced scalar: SV 0x7bea4a8 at /tmpfs/.cpan-build-cpansand/2018092600/KiokuDB-0.57-2/blib/lib/KiokuDB/Test/Fixture/Sets.pm line 150.
Attempt to free unreferenced scalar: SV 0x757eab8 at /tmpfs/.cpan-build-cpansand/2018092600/KiokuDB-0.57-2/blib/lib/KiokuDB/Test/Fixture/Sets.pm line 150.
Attempt to free unreferenced scalar: SV 0x7e86dd8 at /tmpfs/.cpan-build-cpansand/2018092600/KiokuDB-0.57-2/blib/lib/KiokuDB/Test/Fixture/Sets.pm line 150.
Attempt to free unreferenced scalar: SV 0x78a3648 at /tmpfs/.cpan-build-cpansand/2018092600/KiokuDB-0.57-2/blib/lib/KiokuDB/Test/Fixture/Sets.pm line 150.
Attempt to free unreferenced scalar: SV 0x7464538 at /tmpfs/.cpan-build-cpansand/2018092600/KiokuDB-0.57-2/blib/lib/KiokuDB/Test/Fixture/Sets.pm line 150.
Attempt to free unreferenced scalar: SV 0x6fb1580 at /tmpfs/.cpan-build-cpansand/2018092600/KiokuDB-0.57-2/blib/lib/KiokuDB/Test/Fixture/Sets.pm line 150.
Attempt to free unreferenced scalar: SV 0x7f5c1e0 at /tmpfs/.cpan-build-cpansand/2018092600/KiokuDB-0.57-2/blib/lib/KiokuDB/Test/Fixture/Sets.pm line 150.
Attempt to free unreferenced scalar: SV 0x7f903f0 at /tmpfs/.cpan-build-cpansand/2018092600/KiokuDB-0.57-2/blib/lib/KiokuDB/Test/Fixture/Sets.pm line 150.
Attempt to free unreferenced scalar: SV 0x7295960 at /tmpfs/.cpan-build-cpansand/2018092600/KiokuDB-0.57-2/blib/lib/KiokuDB/Test/Fixture/Sets.pm line 150.
Attempt to free unreferenced scalar: SV 0x82497f0 at /tmpfs/.cpan-build-cpansand/2018092600/KiokuDB-0.57-2/blib/lib/KiokuDB/Test/Fixture/Sets.pm line 150.
Attempt to free unreferenced scalar: SV 0x81b2a00 at /tmpfs/.cpan-build-cpansand/2018092600/KiokuDB-0.57-2/blib/lib/KiokuDB/Test/Fixture/Sets.pm line 150.
Attempt to free unreferenced scalar: SV 0x793b440 at /tmpfs/.cpan-build-cpansand/2018092600/KiokuDB-0.57-2/blib/lib/KiokuDB/Test/Fixture/Sets.pm line 150.
Attempt to free unreferenced scalar: SV 0x7541008 at /tmpfs/.cpan-build-cpansand/2018092600/KiokuDB-0.57-2/blib/lib/KiokuDB/Test/Fixture/Sets.pm line 150.
Attempt to free unreferenced scalar: SV 0x8383c18 at /tmpfs/.cpan-build-cpansand/2018092600/KiokuDB-0.57-2/blib/lib/KiokuDB/Test/Fixture/Sets.pm line 150.
Attempt to free unreferenced scalar: SV 0x7c3c730 at /tmpfs/.cpan-build-cpansand/2018092600/KiokuDB-0.57-2/blib/lib/KiokuDB/Test/Fixture/Sets.pm line 150.
Attempt to free unreferenced scalar: SV 0x86582e0 at /tmpfs/.cpan-build-cpansand/2018092600/KiokuDB-0.57-2/blib/lib/KiokuDB/Test/Fixture/Sets.pm line 150.
Attempt to free unreferenced scalar: SV 0x89aadc8 at /tmpfs/.cpan-build-cpansand/2018092600/KiokuDB-0.57-2/blib/lib/KiokuDB/Test/Fixture/Sets.pm line 150.
Attempt to free unreferenced scalar: SV 0x8bca130 at /tmpfs/.cpan-build-cpansand/2018092600/KiokuDB-0.57-2/blib/lib/KiokuDB/Test/Fixture/Sets.pm line 150.
Attempt to free unreferenced scalar: SV 0x89c81e8 at /tmpfs/.cpan-build-cpansand/2018092600/KiokuDB-0.57-2/blib/lib/KiokuDB/Test/Fixture/Sets.pm line 150.
Attempt to free unreferenced scalar: SV 0x8161c38 at /tmpfs/.cpan-build-cpansand/2018092600/KiokuDB-0.57-2/blib/lib/KiokuDB/Test/Fixture/Sets.pm line 150.
Attempt to free unreferenced scalar: SV 0x895c6b0 at /tmpfs/.cpan-build-cpansand/2018092600/KiokuDB-0.57-2/blib/lib/KiokuDB/Test/Fixture/Sets.pm line 150.
Attempt to free unreferenced scalar: SV 0x8877308 at /tmpfs/.cpan-build-cpansand/2018092600/KiokuDB-0.57-2/blib/lib/KiokuDB/Test/Fixture/Sets.pm line 150.
Attempt to free unreferenced scalar: SV 0x7f720b8 at /tmpfs/.cpan-build-cpansand/2018092600/KiokuDB-0.57-2/blib/lib/KiokuDB/Test/Fixture/Sets.pm line 150.
Attempt to free unreferenced scalar: SV 0x82f7798 at /tmpfs/.cpan-build-cpansand/2018092600/KiokuDB-0.57-2/blib/lib/KiokuDB/Test/Fixture/Sets.pm line 150.
Attempt to free unreferenced scalar: SV 0x8d6afe0 at /tmpfs/.cpan-build-cpansand/2018092600/KiokuDB-0.57-2/blib/lib/KiokuDB/Test/Fixture/Sets.pm line 150.
t/hash.t ....................... ok
t/hash_backend.t ............... ok
t/jspon_serialization.t ........ ok
t/kiokudb_class_native.t ....... ok
t/lazy.t ....................... ok
t/link_checker.t ............... ok
t/link_checker_real.t .......... ok
t/live_objs.t .................. ok
t/moose_triggers.t ............. ok
t/ref.t ........................ ok
t/scaling.t .................... ok
t/serializer.t ................. ok
t/stream.t ..................... ok
t/tied.t ....................... ok
t/typemap.t .................... ok
t/typemap_default_json.t ....... ok
t/typemap_default_storable.t ... ok
t/typemap_entry_callback.t ..... ok
t/typemap_entry_mop.t .......... ok
t/typemap_entry_naive.t ........ ok
t/typemap_entry_passthrough.t .. ok
t/typemap_entry_storable.t ..... ok
t/typemap_extra.t .............. ok
t/typemap_resolver.t ........... ok
t/typemap_values.t ............. ok
t/uuid.t ....................... ok
t/versioning.t ................. ok
All tests successful.
Files=35, Tests=23754, 70 wallclock secs ( 0.69 usr  0.40 sys + 61.78 cusr  5.42 csys = 68.29 CPU)
Result: PASS

------------------------------
PREREQUISITES
------------------------------

Prerequisite modules loaded:

requires:

    Module                                         Need   Have    
    ---------------------------------------------- ------ --------
    B                                              0      1.62    
    B::Deparse                                     0      1.37    
    Cache::Ref                                     0.02   0.04    
    Carp                                           0      1.40    
    Class::Load                                    0      0.23    
    constant                                       0      1.33    
    Data::Stream::Bulk                             0.08   0.11    
    Data::Stream::Bulk::Util                       0      0.11    
    Data::Swap                                     0      0.08    
    Data::UUID                                     1.203  1.221   
    Data::Visitor                                  0.24   0.30    
    Digest::SHA                                    0      6.01    
    Encode                                         0      2.97    
    Hash::Util::FieldHash::Compat                  0      0.10    
    IO::Handle                                     0      1.39    
    JSON                                           2.12   2.97001 
    JSON::XS                                       2.231  3.04    
    List::Util                                     0      1.50    
    Module::Pluggable::Object                      0      5.2     
    Moose                                          2.0000 2.2011  
    Moose::Exporter                                0      2.2011  
    Moose::Role                                    0      2.2011  
    Moose::Util                                    0      2.2011  
    Moose::Util::MetaRole                          0      2.2011  
    Moose::Util::TypeConstraints                   0      2.2011  
    MooseX::Clone                                  0.04   0.06    
    MooseX::Clone::Meta::Attribute::Trait::NoClone 0      0.06    
    MooseX::Role::Parameterized                    0.10   1.10    
    MooseX::YAML                                   0.04   0.04    
    namespace::clean                               0.08   0.27    
    overload                                       0      1.26    
    PadWalker                                      1.9    2.2     
    Path::Class                                    0      0.37    
    POSIX                                          0      1.65    
    Scalar::Util                                   0      1.50    
    Scope::Guard                                   0      0.21    
    Search::GIN::Driver                            0      0.11    
    Search::GIN::Extract                           0      0.11    
    Search::GIN::Query::Class                      0.03   0.11    
    Set::Object                                    1.26   1.39    
    Storable                                       0      2.51    
    strict                                         0      1.11    
    Sub::Exporter                                  0      0.987   
    Symbol                                         0      1.07    
    Test::Exception                                0      0.43    
    Test::Moose                                    0      2.2011  
    Test::More                                     0.88   1.302136
    Throwable                                      0      0.200013
    Tie::RefHash                                   0      1.39    
    Tie::ToObject                                  0      0.03    
    Try::Tiny                                      0      0.30    
    utf8                                           0      1.19    
    warnings                                       0      1.36    
    YAML::XS                                       0.30   0.74    

build_requires:

    Module                                         Need   Have    
    ---------------------------------------------- ------ --------
    base                                           0      2.23    
    Cache::Ref::CART                               0      0.04    
    Cache::Ref::CLOCK                              0      0.04    
    Data::Dumper                                   0      2.161   
    Data::Stream::Bulk::Callback                   0      0.11    
    File::Spec                                     0      3.74    
    if                                             0      0.0608  
    IO::Handle                                     0      1.39    
    IPC::Open3                                     0      1.20    
    Search::GIN::Driver::Hash                      0      0.11    
    Search::GIN::Extract::Class                    0      0.11    
    Search::GIN::Extract::Delegate                 0      0.11    
    Test::More                                     0.88   1.302136

configure_requires:

    Module                                         Need   Have    
    ---------------------------------------------- ------ --------
    ExtUtils::MakeMaker                            6.30   7.34    


------------------------------
ENVIRONMENT AND OTHER CONTEXT
------------------------------

Environment variables:

    LANG = C
    PATH = /usr/local/bin:/usr/bin:/bin:/usr/local/sbin:/usr/sbin:/sbin:/home/cpansand/bin/linux-gnu:/home/cpansand/bin/sh:/home/cpansand/bin:/usr/games:/home/cpansand/devel:/home/eserte/src/srezic-misc/scripts
    PERL5LIB = 
    PERL5OPT = -MDevel::Hide
    PERL5_CPANPLUS_IS_RUNNING = 16693
    PERL5_CPAN_IS_RUNNING = 16693
    PERL5_CPAN_IS_RUNNING_IN_RECURSION = 9917,16693
    PERLDOC = -MPod::Perldoc::ToTextOverstrike
    PERL_BATCH = yes
    PERL_CANARY_STABILITY_NOPROMPT = 1
    PERL_CPAN_REPORTER_CONFIG = /var/tmp/cpansmoker-1023/2018092520/cpanreporter_001_config.ini
    PERL_EXTUTILS_AUTOINSTALL = --defaultdeps
    SHELL = /bin/zsh
    TERM = screen
    TMPDIR = /var/tmp/cpansmoker-1023/2018092520

Perl special variables (and OS-specific diagnostics, for MSWin32):

    $^X = /bbbike/perl-5.24.0/bin/perl
    $UID/$EUID = 1023 / 1023
    $GID = 1023 1023
    $EGID = 1023 1023

Perl module toolchain versions installed:

    Module              Have    
    ------------------- --------
    CPAN                2.16    
    CPAN::Meta          2.150010
    Cwd                 3.74    
    ExtUtils::CBuilder  0.280230
    ExtUtils::Command   7.34    
    ExtUtils::Install   2.14    
    ExtUtils::MakeMaker 7.34    
    ExtUtils::Manifest  1.71    
    ExtUtils::ParseXS   3.30    
    File::Spec          3.74    
    JSON                2.97001 
    JSON::PP            2.96    
    Module::Build       0.4224  
    Module::Signature   0.81    
    Parse::CPAN::Meta   2.150010
    Test::Harness       3.42    
    Test::More          1.302136
    YAML                1.24    
    YAML::Syck          1.30    
    version             0.9917  


--

Summary of my perl5 (revision 5 version 24 subversion 0) configuration:
   
  Platform:
    osname=linux, osvers=3.16.0-4-amd64, archname=x86_64-linux
    uname='linux eserte 3.16.0-4-amd64 #1 smp debian 3.16.7-ckt25-2 (2016-04-08) x86_64 gnulinux '
    config_args='-ds -e -Dprefix=/opt/perl-5.24.0 -Dcf_email=srezic@cpan.org'
    hint=recommended, useposix=true, d_sigaction=define
    useithreads=undef, usemultiplicity=undef
    use64bitint=define, use64bitall=define, uselongdouble=undef
    usemymalloc=n, bincompat5005=undef
  Compiler:
    cc='cc', ccflags ='-fwrapv -fno-strict-aliasing -pipe -fstack-protector-strong -I/usr/local/include -D_LARGEFILE_SOURCE -D_FILE_OFFSET_BITS=64 -D_FORTIFY_SOURCE=2',
    optimize='-O2',
    cppflags='-fwrapv -fno-strict-aliasing -pipe -fstack-protector-strong -I/usr/local/include'
    ccversion='', gccversion='4.9.2', gccosandvers=''
    intsize=4, longsize=8, ptrsize=8, doublesize=8, byteorder=12345678, doublekind=3
    d_longlong=define, longlongsize=8, d_longdbl=define, longdblsize=16, longdblkind=3
    ivtype='long', ivsize=8, nvtype='double', nvsize=8, Off_t='off_t', lseeksize=8
    alignbytes=8, prototype=define
  Linker and Libraries:
    ld='cc', ldflags =' -fstack-protector-strong -L/usr/local/lib'
    libpth=/usr/local/lib /usr/lib/gcc/x86_64-linux-gnu/4.9/include-fixed /usr/include/x86_64-linux-gnu /usr/lib /lib/x86_64-linux-gnu /lib/../lib /usr/lib/x86_64-linux-gnu /usr/lib/../lib /lib
    libs=-lpthread -lnsl -lgdbm -ldb -ldl -lm -lcrypt -lutil -lc -lgdbm_compat
    perllibs=-lpthread -lnsl -ldl -lm -lcrypt -lutil -lc
    libc=libc-2.19.so, so=so, useshrplib=false, libperl=libperl.a
    gnulibc_version='2.19'
  Dynamic Linking:
    dlsrc=dl_dlopen.xs, dlext=so, d_dlsymun=undef, ccdlflags='-Wl,-E'
    cccdlflags='-fPIC', lddlflags='-shared -O2 -L/usr/local/lib -fstack-protector-strong'


Characteristics of this binary (from libperl): 
  Compile-time options: HAS_TIMES PERLIO_LAYERS PERL_COPY_ON_WRITE
                        PERL_DONT_CREATE_GVSV
                        PERL_HASH_FUNC_ONE_AT_A_TIME_HARD PERL_MALLOC_WRAP
                        PERL_PRESERVE_IVUV USE_64_BIT_ALL USE_64_BIT_INT
                        USE_LARGE_FILES USE_LOCALE USE_LOCALE_COLLATE
                        USE_LOCALE_CTYPE USE_LOCALE_NUMERIC USE_LOCALE_TIME
                        USE_PERLIO USE_PERL_ATOF
  Built under linux
  Compiled at May  9 2016 17:35:52
  %ENV:
    PERL5LIB=""
    PERL5OPT="-MDevel::Hide"
    PERL5_CPANPLUS_IS_RUNNING="16693"
    PERL5_CPAN_IS_RUNNING="16693"
    PERL5_CPAN_IS_RUNNING_IN_RECURSION="9917,16693"
    PERLDOC="-MPod::Perldoc::ToTextOverstrike"
    PERL_BATCH="yes"
    PERL_CANARY_STABILITY_NOPROMPT="1"
    PERL_CPAN_REPORTER_CONFIG="/var/tmp/cpansmoker-1023/2018092520/cpanreporter_001_config.ini"
    PERL_EXTUTILS_AUTOINSTALL="--defaultdeps"
  @INC:
    CODE(0x9c03f0)
    /opt/perl-5.24.0/lib/site_perl/5.24.0/x86_64-linux
    /opt/perl-5.24.0/lib/site_perl/5.24.0
    /opt/perl-5.24.0/lib/5.24.0/x86_64-linux
    /opt/perl-5.24.0/lib/5.24.0
    .