Back
From: metabase:user:314402c4-2aae-11df-837a-5e0a49663a4f
Subject: PASS Math-Symbolic-0.610 v5.18.0 FreeBSD
Date: 2013-06-05T06:01:31Z
This distribution has been tested as part of the CPAN Testers
project, supporting the Perl programming language. See
http://wiki.cpantesters.org/ for more information or email
questions to cpan-testers-discuss@perl.org
--
Dear Steffen Mueller,
This is a computer-generated report for Math-Symbolic-0.610
on perl 5.18.0, created by CPAN-Reporter-1.2010.
Thank you for uploading your work to CPAN. Congratulations!
All tests were successful.
Sections of this report:
* Tester comments
* Program output
* Prerequisites
* Environment and other context
------------------------------
TESTER COMMENTS
------------------------------
Additional comments from tester:
none provided
------------------------------
PROGRAM OUTPUT
------------------------------
Output from '/usr/bin/make test':
PERL_DL_NONLAZY=1 /usr/perl5.18.0/bin/perl5.18.0 "-MExtUtils::Command::MM" "-e" "test_harness(0, 'blib/lib', 'blib/arch')" t/*.t
t/01basic.t .............. ok
t/02basic.t .............. ok
t/03exp.t ................ ok
t/04deep_derivatives.t ... ok
t/05unary_minus.t ........ ok
t/06parser.t ............. ok
t/07simple_trig.t ........ ok
t/08parse_hyperbolic.t ... ok
t/09hyperbolic.t ......... ok
t/10hyperbolic.t ......... ok
t/11trigonometric.t ...... ok
t/12overload.t ........... ok
t/13parse_more.t ......... ok
t/14compile.t ............ ok
t/15total_derivatives.t .. ok
t/16tests.t .............. ok
t/17modifications.t ...... ok
t/18vectorcalc.t ......... ok
t/19misccalc.t ........... ok
t/20miscalgebra.t ........ ok
t/21more_derivatives.t ... ok
t/22dumpers.t ............ ok
t/90regression.t ......... ok
All tests successful.
Files=23, Tests=435, 11 wallclock secs ( 0.21 usr 0.05 sys + 10.52 cusr 0.45 csys = 11.22 CPU)
Result: PASS
------------------------------
PREREQUISITES
------------------------------
Prerequisite modules loaded:
requires:
Module Need Have
------------------- ---- --------
Data::Dumper 0 2.145
Memoize 1.01 1.03
Parse::RecDescent 0 1.967009
Test::More 0 0.98
build_requires:
Module Need Have
------------------- ---- --------
ExtUtils::MakeMaker 0 6.66
configure_requires:
Module Need Have
------------------- ---- --------
Module::Build 0.40 0.4005
------------------------------
ENVIRONMENT AND OTHER CONTEXT
------------------------------
Environment variables:
DBIC_NO_WARN_BAD_PERL = 1
PATH = /usr/local/bin:/usr/X11R6/bin:/usr/X11/bin:/usr/perl5.8.0/bin:/usr/bin:/bin:/usr/local/sbin:/usr/sbin:/sbin:/usr/local/pilot/bin:/home/cpansand/bin/freebsd8.0:/home/cpansand/bin/sh:/home/cpansand/bin:/usr/X386/bin:/usr/games:/home/cpansand/devel:/usr/home/e/eserte/work/srezic-misc/scripts
PERL5LIB = /usr/local/src/CPAN/build/Marpa-R2-2.057_002-ZfAaw8/blib/arch:/usr/local/src/CPAN/build/Marpa-R2-2.057_002-ZfAaw8/blib/lib
PERL5OPT =
PERL5_CPANPLUS_IS_RUNNING = 62652
PERL5_CPAN_IS_RUNNING = 62652
PERL5_CPAN_IS_RUNNING_IN_RECURSION = 62630,62652
PERL_BATCH = yes
PERL_CPAN_REPORTER_CONFIG = /var/tmp/cpansmoker-1023/3yGaxRUuxj_config.ini
PERL_EXTUTILS_AUTOINSTALL = --defaultdeps
PERL_HTML_DISPLAY_CLASS = HTML::Display::Mozilla
SHELL = /usr/local/bin/zsh
TERM = screen
TMPDIR = /var/tmp/cpansmoker-1023
Perl special variables (and OS-specific diagnostics, for MSWin32):
$^X = /usr/perl5.18.0/bin/perl5.18.0
$UID/$EUID = 1023 / 1023
$GID = 1023 1023
$EGID = 1023 1023
Perl module toolchain versions installed:
Module Have
------------------- --------
CPAN 2.00
CPAN::Meta 2.120921
Cwd 3.40
ExtUtils::CBuilder 0.280210
ExtUtils::Command 1.17
ExtUtils::Install 1.59
ExtUtils::MakeMaker 6.66
ExtUtils::Manifest 1.63
ExtUtils::ParseXS 3.18
File::Spec 3.40
JSON 2.58
JSON::PP 2.27202
Module::Build 0.4005
Module::Signature 0.70
Parse::CPAN::Meta 1.4404
Test::Harness 3.26
Test::More 0.98
YAML 0.84
YAML::Syck 1.27
version 0.9902
--
Summary of my perl5 (revision 5 version 18 subversion 0) configuration:
Platform:
osname=freebsd, osvers=8.0-release-p4, archname=i386-freebsd
uname='freebsd biokovo.herceg.de 8.0-release-p4 freebsd 8.0-release-p4 #0: mon jul 12 20:22:27 utc 2010 root@i386-builder.daemonology.net:usrobjusrsrcsysgeneric i386 '
config_args='-D useshrplib=true -Dprefix=/usr/perl5.18.0 -Dusemymalloc=n -D cc=ccache cc -Dgccansipedantic -Duse64bit -de -D hintfile=myfreebsd'
hint=recommended, useposix=true, d_sigaction=define
useithreads=undef, usemultiplicity=undef
useperlio=define, d_sfio=undef, uselargefiles=define, usesocks=undef
use64bitint=undef, use64bitall=undef, uselongdouble=undef
usemymalloc=n, bincompat5005=undef
Compiler:
cc='ccache cc', ccflags ='-DHAS_FPSETMASK -DHAS_FLOATINGPOINT_H -fno-strict-aliasing -pipe -fstack-protector -I/usr/local/include',
optimize='-O2 -mtune=athlon64 -pipe',
cppflags='-DHAS_FPSETMASK -DHAS_FLOATINGPOINT_H -fno-strict-aliasing -pipe -fstack-protector -I/usr/local/include'
ccversion='', gccversion='4.2.1 20070719 [FreeBSD]', gccosandvers=''
intsize=4, longsize=4, ptrsize=4, doublesize=8, byteorder=1234
d_longlong=define, longlongsize=8, d_longdbl=define, longdblsize=12
ivtype='long', ivsize=4, nvtype='double', nvsize=8, Off_t='off_t', lseeksize=8
alignbytes=4, prototype=define
Linker and Libraries:
ld='ccache cc', ldflags ='-Wl,-E -fstack-protector -L/usr/local/lib'
libpth=/usr/lib /usr/local/lib
libs=-lgdbm -lm -lcrypt -lutil -lc
perllibs=-lm -lcrypt -lutil -lc
libc=, so=so, useshrplib=true, libperl=libperl.so
gnulibc_version=''
Dynamic Linking:
dlsrc=dl_dlopen.xs, dlext=so, d_dlsymun=undef, ccdlflags=' -Wl,-R/usr/perl5.18.0/lib/5.18.0/i386-freebsd/CORE'
cccdlflags='-DPIC -fPIC', lddlflags='-shared -L/usr/local/lib -fstack-protector'
Characteristics of this binary (from libperl):
Compile-time options: HAS_TIMES PERLIO_LAYERS PERL_DONT_CREATE_GVSV
PERL_HASH_FUNC_ONE_AT_A_TIME_HARD PERL_MALLOC_WRAP
PERL_PRESERVE_IVUV PERL_SAWAMPERSAND PERL_USE_DEVEL
USE_LARGE_FILES USE_LOCALE USE_LOCALE_COLLATE
USE_LOCALE_CTYPE USE_LOCALE_NUMERIC USE_PERLIO
USE_PERL_ATOF
Built under freebsd
Compiled at May 22 2013 23:05:22
%ENV:
PERL5LIB="/usr/local/src/CPAN/build/Marpa-R2-2.057_002-ZfAaw8/blib/arch:/usr/local/src/CPAN/build/Marpa-R2-2.057_002-ZfAaw8/blib/lib"
PERL5OPT=""
PERL5_CPANPLUS_IS_RUNNING="62652"
PERL5_CPAN_IS_RUNNING="62652"
PERL5_CPAN_IS_RUNNING_IN_RECURSION="62630,62652"
PERL_BATCH="yes"
PERL_CPAN_REPORTER_CONFIG="/var/tmp/cpansmoker-1023/3yGaxRUuxj_config.ini"
PERL_EXTUTILS_AUTOINSTALL="--defaultdeps"
PERL_HTML_DISPLAY_CLASS="HTML::Display::Mozilla"
@INC:
/usr/local/src/CPAN/build/Marpa-R2-2.057_002-ZfAaw8/blib/arch
/usr/local/src/CPAN/build/Marpa-R2-2.057_002-ZfAaw8/blib/lib
/usr/perl5.18.0/lib/site_perl/5.18.0/i386-freebsd
/usr/perl5.18.0/lib/site_perl/5.18.0
/usr/perl5.18.0/lib/5.18.0/i386-freebsd
/usr/perl5.18.0/lib/5.18.0
.