Rose-HTML-Objects v0.627 Perl 5 v5.16.3 darwin-thread-multi-2level

Status
Pass
From
David Cantrell (DCANTRELL)
Dist
Rose-HTML-Objects v0.627
Platform
Perl 5 v5.16.3 darwin-thread-multi-2level
Date
2025-01-07 23:59:02
ID
5e76c896-cd53-11ef-81a7-a5f5ca1e7012
This distribution has been tested as part of the CPAN Testers
project, supporting the Perl programming language.  See
http://wiki.cpantesters.org/ for more information or email
questions to cpan-testers-discuss@perl.org


--
Dear John Siracusa,

This is a computer-generated report for Rose-HTML-Objects-0.627
on perl 5.16.3, created by CPAN-Reporter-1.2019.

Thank you for uploading your work to CPAN.  Congratulations!
All tests were successful.

Sections of this report:

    * Tester comments
    * Program output
    * Prerequisites
    * Environment and other context

------------------------------
TESTER COMMENTS
------------------------------

Additional comments from tester:

this report is from an automated smoke testing program
and was not reviewed by a human for accuracy

------------------------------
PROGRAM OUTPUT
------------------------------

Output from '/usr/bin/make test':

PERL_DL_NONLAZY=1 "/Users/cpantesting/cpantesting/perl-5.16.3/bin/perl" "-MExtUtils::Command::MM" "-MTest::Harness" "-e" "undef *Test::Harness::Switches; test_harness(0, 'blib/lib', 'blib/arch')" t/*.t
t/00-warning.t .................... ok
t/anchor.t ........................ ok
t/attachments.t ................... skipped: disabled
t/form-field-checkbox-group.t ..... ok
t/form-field-checkbox.t ........... ok
t/form-field-compound.t ........... ok
t/form-field-datetime-split.t ..... ok
t/form-field-datetime.t ........... ok
t/form-field-email.t .............. ok
t/form-field-file.t ............... ok
t/form-field-hidden.t ............. ok
t/form-field-integer.t ............ ok
t/form-field-l10n.t ............... ok
t/form-field-numeric.t ............ ok
t/form-field-option.t ............. ok
t/form-field-optiongroup.t ........ ok
t/form-field-password.t ........... ok
t/form-field-phone.t .............. ok
t/form-field-popup-menu.t ......... ok
t/form-field-radio-group.t ........ ok
t/form-field-radiobutton.t ........ ok
t/form-field-reset.t .............. ok
t/form-field-selectbox.t .......... ok
t/form-field-set.t ................ ok
t/form-field-submit.t ............. ok
t/form-field-text.t ............... ok
t/form-field-textarea.t ........... ok
t/form-field-time-split.t ......... ok
t/form-field-time.t ............... ok
t/form-field.t .................... ok
t/form-l10n.t ..................... ok
t/form-nested.t ................... ok
t/form-repeatable.t ............... ok
t/form.t .......................... ok
t/image.t ......................... ok
t/l10n-errors-01.t ................ ok
t/l10n-message.t .................. ok
t/l10n-messages-01.t .............. ok
t/label.t ......................... ok
t/leaks.t ......................... skipped: Test::Memory::Cycle required for leak tests
t/link.t .......................... ok
t/localizer-auto-load-messages.t .. ok
t/mro-c3.t ........................ ok
t/object-l10n.t ................... ok
t/object-localizer.t .............. ok
t/object-message.t ................ ok
t/object.t ........................ ok
t/pod.t ........................... ok
t/private-library.t ............... ok
t/script.t ........................ ok
t/text.t .......................... ok
All tests successful.
Files=51, Tests=2439, 22 wallclock secs ( 0.49 usr  0.15 sys + 14.74 cusr  3.18 csys = 18.56 CPU)
Result: PASS

------------------------------
PREREQUISITES
------------------------------

Prerequisite modules loaded:

requires:

    Module              Need     Have    
    ------------------- -------- --------
    base                2.18     2.18    
    Carp                0        1.26    
    Clone::PP           0        1.08    
    DateTime            0.20     1.65    
    Email::Valid        0        1.204   
    Encode              0        3.21    
    File::Basename      0        2.84    
    File::Path          0        2.08_01 
    File::Spec          0        3.39_02 
    HTML::Entities      0        3.83    
    Image::Size         0        3.300   
    IO::String          1.08     1.08    
    List::Util          1.45     1.68    
    perl                5.006000 5.016003
    Rose::DateTime      0.532    0.540   
    Rose::Object        0.854    0.860   
    Rose::URI           0.021    1.00    
    Scalar::Util        0        1.68    
    URI::Escape         0        5.05    

build_requires:

    Module              Need     Have    
    ------------------- -------- --------
    ExtUtils::MakeMaker 0        7.58    

configure_requires:

    Module              Need     Have    
    ------------------- -------- --------
    ExtUtils::MakeMaker 0        7.58    


------------------------------
ENVIRONMENT AND OTHER CONTEXT
------------------------------

Environment variables:

    AUTOMATED_TESTING = 1
    NONINTERACTIVE_TESTING = 1
    PATH = /Users/cpantesting/perl5/perlbrew/bin:/Users/cpantesting/perl5/perlbrew/perls/perl-5.32.0/bin:/usr/local/bin:/System/Cryptexes/App/usr/bin:/usr/bin:/bin:/usr/sbin:/sbin:/var/run/com.apple.security.cryptexd/codex.system/bootstrap/usr/local/bin:/var/run/com.apple.security.cryptexd/codex.system/bootstrap/usr/bin:/var/run/com.apple.security.cryptexd/codex.system/bootstrap/usr/appleinternal/bin:/Library/Apple/usr/bin:/Applications/VMware Fusion.app/Contents/Public:/usr/local/zfs/bin:/Users/cpantesting/.cargo/bin
    PERL = 5.16.3
    PERL5LIB = 
    PERL5OPT = 
    PERL5_CPANPLUS_IS_RUNNING = 72368
    PERL5_CPAN_IS_RUNNING = 72368
    PERLBREW_HOME = /Users/cpantesting/.perlbrew
    PERLBREW_MANPATH = /Users/cpantesting/perl5/perlbrew/perls/perl-5.32.0/man
    PERLBREW_PATH = /Users/cpantesting/perl5/perlbrew/bin:/Users/cpantesting/perl5/perlbrew/perls/perl-5.32.0/bin
    PERLBREW_PERL = perl-5.32.0
    PERLBREW_ROOT = /Users/cpantesting/perl5/perlbrew
    PERLBREW_SHELLRC_VERSION = 0.94
    PERLBREW_VERSION = 0.94
    PERLVER = 5.16.3
    PERL_INLINE_DIRECTORY = /Users/cpantesting/.Inline-5.16.3
    PERL_MM_USE_DEFAULT = 1
    PERL_USE_UNSAFE_INC = 0
    SHELL = /bin/bash
    TERM = screen

Perl special variables (and OS-specific diagnostics, for MSWin32):

    $^X = /Users/cpantesting/cpantesting/perl-5.16.3/bin/perl
    $UID/$EUID = 503 / 503
    $GID = 20 20 12 61 703 702 701 100
    $EGID = 20 20 12 61 703 702 701 100

Perl module toolchain versions installed:

    Module              Have    
    ------------------- --------
    CPAN                1.9800  
    CPAN::Meta          2.143240
    Cwd                 3.39_02 
    ExtUtils::CBuilder  0.280235
    ExtUtils::Command   7.58    
    ExtUtils::Install   2.06    
    ExtUtils::MakeMaker 7.58    
    ExtUtils::Manifest  1.70    
    ExtUtils::ParseXS   3.51    
    File::Spec          3.39_02 
    JSON                4.10    
    JSON::PP            4.05    
    Module::Build       0.4234  
    Module::Signature   n/a     
    Parse::CPAN::Meta   1.4414  
    Test2               1.302207
    Test::Harness       3.50    
    Test::More          1.302207
    YAML                n/a     
    YAML::Syck          n/a     
    version             0.99    


--

Summary of my perl5 (revision 5 version 16 subversion 3) configuration:
   
  Platform:
    osname=darwin, osvers=19.6.0, archname=darwin-thread-multi-2level
    uname='darwin harrow.local 19.6.0 darwin kernel version 19.6.0: thu oct 29 22:56:45 pdt 2020; root:xnu-6153.141.2.2~1release_x86_64 x86_64 '
    config_args='-de -Dusethreads -Dprefix=/Users/cpantesting/cpantesting/perl-5.16.3'
    hint=recommended, useposix=true, d_sigaction=define
    useithreads=define, usemultiplicity=define
    useperlio=define, d_sfio=undef, uselargefiles=define, usesocks=undef
    use64bitint=define, use64bitall=define, uselongdouble=undef
    usemymalloc=n, bincompat5005=undef
  Compiler:
    cc='cc', ccflags ='-fno-common -DPERL_DARWIN -fno-strict-aliasing -pipe -fstack-protector -I/usr/local/include',
    optimize='-O3',
    cppflags='-fno-common -DPERL_DARWIN -fno-strict-aliasing -pipe -fstack-protector -I/usr/local/include'
    ccversion='', gccversion='Apple LLVM 12.0.0 (clang-1200.0.32.27)', gccosandvers=''
    intsize=4, longsize=8, ptrsize=8, doublesize=8, byteorder=12345678
    d_longlong=define, longlongsize=8, d_longdbl=define, longdblsize=16
    ivtype='long', ivsize=8, nvtype='double', nvsize=8, Off_t='off_t', lseeksize=8
    alignbytes=8, prototype=define
  Linker and Libraries:
    ld='env MACOSX_DEPLOYMENT_TARGET=10.3 cc', ldflags =' -fstack-protector -L/usr/local/lib'
    libpth=/usr/local/lib /usr/lib
    libs=-lgdbm -ldbm -ldl -lm -lutil -lc
    perllibs=-ldl -lm -lutil -lc
    libc=, so=dylib, useshrplib=false, libperl=libperl.a
    gnulibc_version=''
  Dynamic Linking:
    dlsrc=dl_dlopen.xs, dlext=bundle, d_dlsymun=undef, ccdlflags=' '
    cccdlflags=' ', lddlflags=' -bundle -undefined dynamic_lookup -L/usr/local/lib -fstack-protector'


Characteristics of this binary (from libperl): 
  Compile-time options: HAS_TIMES MULTIPLICITY PERLIO_LAYERS
                        PERL_DONT_CREATE_GVSV PERL_IMPLICIT_CONTEXT
                        PERL_MALLOC_WRAP PERL_PRESERVE_IVUV USE_64_BIT_ALL
                        USE_64_BIT_INT USE_ITHREADS USE_LARGE_FILES
                        USE_LOCALE USE_LOCALE_COLLATE USE_LOCALE_CTYPE
                        USE_LOCALE_NUMERIC USE_PERLIO USE_PERL_ATOF
                        USE_REENTRANT_API
  Built under darwin
  Compiled at Dec 29 2020 22:52:51
  %ENV:
    PERL="5.16.3"
    PERL5LIB=""
    PERL5OPT=""
    PERL5_CPANPLUS_IS_RUNNING="72368"
    PERL5_CPAN_IS_RUNNING="72368"
    PERLBREW_HOME="/Users/cpantesting/.perlbrew"
    PERLBREW_MANPATH="/Users/cpantesting/perl5/perlbrew/perls/perl-5.32.0/man"
    PERLBREW_PATH="/Users/cpantesting/perl5/perlbrew/bin:/Users/cpantesting/perl5/perlbrew/perls/perl-5.32.0/bin"
    PERLBREW_PERL="perl-5.32.0"
    PERLBREW_ROOT="/Users/cpantesting/perl5/perlbrew"
    PERLBREW_SHELLRC_VERSION="0.94"
    PERLBREW_VERSION="0.94"
    PERLVER="5.16.3"
    PERL_INLINE_DIRECTORY="/Users/cpantesting/.Inline-5.16.3"
    PERL_MM_USE_DEFAULT="1"
    PERL_USE_UNSAFE_INC="0"
  @INC:
    /Users/cpantesting/cpantesting/perl-5.16.3/lib/site_perl/5.16.3/darwin-thread-multi-2level
    /Users/cpantesting/cpantesting/perl-5.16.3/lib/site_perl/5.16.3
    /Users/cpantesting/cpantesting/perl-5.16.3/lib/5.16.3/darwin-thread-multi-2level
    /Users/cpantesting/cpantesting/perl-5.16.3/lib/5.16.3
    .