Const v0.002 Perl 5 v5.10.1 i386-netbsd

Status
Pass
From
Chris Williams (BINGOS)
Dist
Const v0.002
Platform
Perl 5 v5.10.1 i386-netbsd
Date
2010-07-13T12:15:45
ID
5cfc9cfe-8e78-11df-87db-470b8165c34d
This distribution has been tested as part of the CPAN Testers
project, supporting the Perl programming language.  See
http://wiki.cpantesters.org/ for more information or email
questions to cpan-testers-discuss@perl.org


--

Dear LEONT,
    
This is a computer-generated error report created automatically by
CPANPLUS, version 0.9006. Testers personal comments may appear 
at the end of this report.

MAKE TEST passed:
# Testing Const 0.002, Perl 5.010001, /home/cpan/pit/bare/perl-5.10.1/bin/perl
t/00-load.t ....... ok
t/10-basics.t ..... ok
t/pod-coverage.t .. skipped: Test::Pod::Coverage 1.08 required for testing POD coverage
t/pod.t ........... skipped: Test::Pod 1.22 required for testing POD
All tests successful.
Files=4, Tests=15,  1 wallclock secs ( 0.04 usr  0.20 sys +  0.27 cusr  0.33 csys =  0.84 CPU)
Result: PASS

[MSG] [Tue Jul 13 13:15:44 2010] Sending test report for 'Const-0.002'

This report was machine-generated by CPANPLUS::Dist::YACSmoke 0.58.
Powered by minismokebox version 0.26

------------------------------
ENVIRONMENT AND OTHER CONTEXT
------------------------------

Environment variables:

    AUTOMATED_TESTING = 1
    PATH = /home/cpan/bin:/bin:/sbin:/usr/bin:/usr/sbin:/usr/X11R7/bin:/usr/X11R6/bin:/usr/pkg/bin:/usr/pkg/sbin:/usr/games:/usr/local/bin:/usr/local/sbin
    PERL5LIB = :/home/cpan/pit/bare/conf/perl-5.10.1/.cpanplus/5.10.1/build/Sub-Uplevel-0.22/blib/lib:/home/cpan/pit/bare/conf/perl-5.10.1/.cpanplus/5.10.1/build/Sub-Uplevel-0.22/blib/arch:/home/cpan/pit/bare/conf/perl-5.10.1/.cpanplus/5.10.1/build/Test-Exception-0.29/blib/lib:/home/cpan/pit/bare/conf/perl-5.10.1/.cpanplus/5.10.1/build/Test-Exception-0.29/blib/arch:/home/cpan/pit/bare/conf/perl-5.10.1/.cpanplus/5.10.1/build/Const-0.002/blib/lib:/home/cpan/pit/bare/conf/perl-5.10.1/.cpanplus/5.10.1/build/Const-0.002/blib/arch
    PERL5_CPANPLUS_IS_RUNNING = 20620
    PERL5_CPANPLUS_IS_VERSION = 0.9006
    PERL5_MINISMOKEBOX = 0.26
    PERL5_YACSMOKE_BASE = /home/cpan/pit/bare/conf/perl-5.10.1
    PERL_EXTUTILS_AUTOINSTALL = --defaultdeps
    PERL_MM_USE_DEFAULT = 1
    SHELL = /usr/pkg/bin/bash
    TERM = screen

Perl special variables (and OS-specific diagnostics, for MSWin32):

    Perl: $^X = /home/cpan/pit/bare/perl-5.10.1/bin/perl
    UID:  $<  = 1000
    EUID: $>  = 1000
    GID:  $(  = 100 100
    EGID: $)  = 100 100


-------------------------------


--

Summary of my perl5 (revision 5 version 10 subversion 1) configuration:
   
  Platform:
    osname=netbsd, osvers=5.0, archname=i386-netbsd
    uname='netbsd chamberlain 5.0 netbsd 5.0 (generic) #0: sun apr 26 18:50:08 utc 2009 builds@b6.netbsd.org:homebuildsabnetbsd-5-0-releasei386200904260229z-objhomebuildsabnetbsd-5-0-releasesrcsysarchi386compilegeneric i386 '
    config_args='-des -Dprefix=/home/cpan/pit/bare/perl-5.10.1 -Dusemallocwrap=y -Dusemymalloc=n'
    hint=recommended, useposix=true, d_sigaction=define
    useithreads=undef, usemultiplicity=undef
    useperlio=define, d_sfio=undef, uselargefiles=define, usesocks=undef
    use64bitint=undef, use64bitall=undef, uselongdouble=undef
    usemymalloc=n, bincompat5005=undef
  Compiler:
    cc='cc', ccflags ='-fno-strict-aliasing -pipe -fstack-protector -I/usr/pkg/include',
    optimize='-O',
    cppflags='-fno-strict-aliasing -pipe -fstack-protector -I/usr/pkg/include'
    ccversion='', gccversion='4.1.3 20080704 prerelease (NetBSD nb2 20081120)', gccosandvers=''
    intsize=4, longsize=4, ptrsize=4, doublesize=8, byteorder=1234
    d_longlong=define, longlongsize=8, d_longdbl=define, longdblsize=12
    ivtype='long', ivsize=4, nvtype='double', nvsize=8, Off_t='off_t', lseeksize=8
    alignbytes=4, prototype=define
  Linker and Libraries:
    ld='cc', ldflags =' -Wl,-rpath,/usr/pkg/lib -Wl,-rpath,/usr/local/lib -fstack-protector -L/usr/pkg/lib'
    libpth=/usr/pkg/lib /lib /usr/lib
    libs=-lm -lcrypt -lutil -lc -lposix
    perllibs=-lm -lcrypt -lutil -lc -lposix
    libc=/lib/libc.so, so=so, useshrplib=false, libperl=libperl.a
    gnulibc_version=''
  Dynamic Linking:
    dlsrc=dl_dlopen.xs, dlext=so, d_dlsymun=undef, ccdlflags='-Wl,-E '
    cccdlflags='-DPIC -fPIC ', lddlflags='--whole-archive -shared  -L/usr/pkg/lib -fstack-protector'


Characteristics of this binary (from libperl): 
  Compile-time options: PERL_DONT_CREATE_GVSV PERL_MALLOC_WRAP
                        USE_LARGE_FILES USE_PERLIO
  Built under netbsd
  Compiled at Jun 22 2010 08:15:52
  %ENV:
    PERL5LIB=":/home/cpan/pit/bare/conf/perl-5.10.1/.cpanplus/5.10.1/build/Sub-Uplevel-0.22/blib/lib:/home/cpan/pit/bare/conf/perl-5.10.1/.cpanplus/5.10.1/build/Sub-Uplevel-0.22/blib/arch:/home/cpan/pit/bare/conf/perl-5.10.1/.cpanplus/5.10.1/build/Test-Exception-0.29/blib/lib:/home/cpan/pit/bare/conf/perl-5.10.1/.cpanplus/5.10.1/build/Test-Exception-0.29/blib/arch:/home/cpan/pit/bare/conf/perl-5.10.1/.cpanplus/5.10.1/build/Const-0.002/blib/lib:/home/cpan/pit/bare/conf/perl-5.10.1/.cpanplus/5.10.1/build/Const-0.002/blib/arch"
    PERL5_CPANPLUS_IS_RUNNING="20620"
    PERL5_CPANPLUS_IS_VERSION="0.9006"
    PERL5_MINISMOKEBOX="0.26"
    PERL5_YACSMOKE_BASE="/home/cpan/pit/bare/conf/perl-5.10.1"
    PERL_EXTUTILS_AUTOINSTALL="--defaultdeps"
    PERL_MM_USE_DEFAULT="1"
  @INC:
    /home/cpan/pit/bare/conf/perl-5.10.1/.cpanplus/5.10.1/build/Sub-Uplevel-0.22/blib/lib
    /home/cpan/pit/bare/conf/perl-5.10.1/.cpanplus/5.10.1/build/Sub-Uplevel-0.22/blib/arch
    /home/cpan/pit/bare/conf/perl-5.10.1/.cpanplus/5.10.1/build/Test-Exception-0.29/blib/lib
    /home/cpan/pit/bare/conf/perl-5.10.1/.cpanplus/5.10.1/build/Test-Exception-0.29/blib/arch
    /home/cpan/pit/bare/conf/perl-5.10.1/.cpanplus/5.10.1/build/Const-0.002/blib/lib
    /home/cpan/pit/bare/conf/perl-5.10.1/.cpanplus/5.10.1/build/Const-0.002/blib/arch
    /home/cpan/pit/bare/perl-5.10.1/lib/5.10.1/i386-netbsd
    /home/cpan/pit/bare/perl-5.10.1/lib/5.10.1
    /home/cpan/pit/bare/perl-5.10.1/lib/site_perl/5.10.1/i386-netbsd
    /home/cpan/pit/bare/perl-5.10.1/lib/site_perl/5.10.1
    .